{"text_format":"1","workbook":"xlsx","n_sheets":6,"sheets":["INSTRUCTIVO","Validador","ET","ENERO","SIG.A","CONSOLIDADO"],"not_rendered":{"charts":0,"images":2,"macros":1,"external_links":0,"defined_names":2,"comments":3,"pivot_tables":0},"unopened":[],"bounds":{"document_bytes":16777216,"sheet_cells":100000,"rows_first":2000,"rows_last":500,"rows_between":2000,"halvings":0,"cell_chars":16384,"cell_head_chars":4096},"cells_cut":0,"cells_raw":0,"read":"whole","date_system":"1900"}

{"sheet":"INSTRUCTIVO","index":0,"n_rows":51,"n_cols":1,"rows_kept":51,"cut":false,"hidden":false,"merged":[]}
["INSTRUCCIONES PARA EL DILIGENCIAMIENTO"]
["FORMATO MOVIMIENTO MENSUAL DE MEDICAMENTOS BIOLÓGICOS, DISPOSITIVOS MÉDICOS E INSUMOS"]
[]
["OBJETIVO:"]
["Controlar el movimiento de biológicos e insumos PAI en todas las IPS,  unificar los formatos de reporte y facilitar la sistematización de la información."]
[]
["NOTA: El presente formato no puede ser modificado, deben conservarse las características sugeridas por el MSPS"]
[]
["VARIABLES DEL FORMATO"]
[]
["ENTIDAD TERRITORIAL: Registre el nombre de la ET o Distrito que esta reportando la información."]
["MES: Registre el mes correspondiente al informe a presentar"]
["AÑO: Registre el año correspondiente al informe a presentar "]
[]
["SALDO ANTERIOR: Registre el número de dosis de vacuna y unidades de jeringas e insumos con los que paso el mes anterior"]
[]
["ENTRADAS: Registre el número de dosis que ingresan en el periodo por medicamentos biológicos, dispositivo médico e insumos PAI - Fuente de información Salida de elementos, comprobantes de egreso, soporte de entrega/recepción tecnica."]
["Nota: Las dosis de medicamentos biológicos, dispositivo medico e insumos PAI que ingresan a la ET o Distrito por traslados deben registrarse de la misma manera que una entrada periodica y debe registrarse en observaciones que corresponde a un traslado. "]
[]
["SALIDAS"]
[]
["DOSIS APLICADAS: Registre el número de dosis aplicadas en Colombianos y en Extranjeros según correponda por medicamentos biológicos, dispositivo médico e insumos PAI en el periodo del informe - fuente de información plantilla de reporte mensual del Departamento o Distrito, revisado y validado. "]
["DESPACHADAS: Registre el número de dosis despachadas por medicamentos biológicos, dispositivos médicos e insumos PAI, en el periodo del informe. "]
["TRASLADOS: Registre el número de dosis traslados por medicamentos biológicos, dispositivos médicos e insumos PAI en el periodo del informe. "]
["DOSIS PÉRDIDAS: Registre el número TOTAL de dosis perdidas por medicamentos biológicos, dispositivo médico e insumos PAI, en el periodo del informe, tenga en cuenta que debe ser consistente con los datos consignados en el formato contiguo de causas de perdidas. Recuerde que todas las perdidas excepto las que corresponden a politica de frascos abiertos deben estar soportadas en acta de baja, notificación de tecnovigilancia,  notificación a comite seguridad del paciente, entre otros.  "]
[]
["SALDO QUE INICIA EL MES SIGUIENTE: Registre el resultado de la operación (sumatoria del valor del  saldo que pasa del mes anterior más las entradas durante el periodo y réstele el valor de las dosis aplicadas, despachadas, perdidas y traslados)."]
[]
["Nº de LOTE: Registre la información de los lotes correspondientes a las dosis que posee (es decir lo que tiene en refrigerador y/o cuarto frío), si no cuenta con existencias en el saldo con que inicia el mes no registre información. \n\nEl Informe movimiento biológicos, debe contener todos los lotes, para que al frente se registren las correspondientes fechas de vencimiento. \n"]
[]
["FECHA DE EXPIRACION: Registre la fecha de vencimiento por lote del medicamento biológicos, dispositivo médico e insumos PAI, que tiene en saldo en formato dd/mm/aa. "]
["PORCENTAJE DE PERDIDA: Aplica la siguiente formula: \nDosis perdidas durante el periodo por 100 dividido entre las dosis utilizadas en el periodo (dato que corresponde a las aplicadas y perdidas durante el mes).  \n\nPerdidas X 100 / Utilizadas\n\nNota: Utilice números enteros; la fila esta formulada para que no se visualicen decimales. "]
[]
["CAUSAS DE PÉRDIDAS DE PRODUCTOS/INSUMOS: Consigne el número de dosis perdidas de acuerdo con las causas ocurridas en el cuadro por medicamentos biológicos, dispositivo médico e insumos PAI, para el periodo del informe. "]
[]
["POR POLITICA DE FRASCOS ABIERTOS:  Conforme a circular 026 de 2017"]
["INTRAMURAL: Registre el total de las pérdidas de acuerdo con la política de frascos abiertos en intramural (28 dias o según indicación del biologico y laboratorio por ejemplo en las vacunas TV, SR y FA)."]
["EXTRAMURAL: Registre el total de las pérdidas en extramural (7 días o según biologico y laboratorio por ejemplo en las vacunas TV, SR y FA)."]
[]
["INTERRUPCIÓN DE CADENA DE FRÍO: Consigne el total de las dosis pérdidas por interrupción de la cadena de frío (fallas en los equipos, falla fluido eléctrica, u otros). El cual tiene como soporte acta de baja  segun el caso: \n-Vacuna que vence en cuarentena sin respuesta del MSPS-INVIMA,  \n-Oficio con la respuesta del MSPS/INVIMA que indica dar de baja. "]
["APLICACIÓN FUERA DE LA EDAD Y OTRAS*: Consigne el total de dosis que fueron administradas pero que no se reportaron en la Plantilla reporte mensual de dosis.\n\nVACUNADO FUERA DE LA EDAD: Corresponde a la persona vacunada con la o las dosis de medicamentos biológicos a una EDAD diferente a la estipulada en el esquema nacional de vacunación vigente y que se encuentran dentro de las causas tipíficadas para este motivo: \n1-Viaje.\n2- Orden médica.\n3- Sentencia Judicial.\n4- Autorización por el MSPS (Ministerio de Salud y Protección Social).\n\nREVACUNADO: Corresponde a la persona vacunada con la o las dosis de medicamentos biológicos que contienen el mismo ANTíGENO, en un intervalo de tiempo que no está considerado en el esquema nacional vigente o en el inserto del producto. Contiene tres opciones: \n1- Ausencia de registro de vacunas y/o dosis: cuando al verificar la información disponible al momento de realizar el procedimiento de vacunación, no se evidencian antecedente de datos de medicamentos biológicos ( dosis y fechas) administrados de acuerdo al esquema para la edad en el carné o aplicativos PAI WEB nacional.\n2- Sin posibilidad de verificar datos en aplicativos: situaciónes en donde por falla de suministro eléctrico, interrupcion de la conectividad o en la extramuralidad (zonas de riesgo por seguridad) no hay posibilidad de verificar antecedente de vacunación de la persona.\n3- Orden médica: menores o adultos que se vacunan con uno o varios medicamentos biológicos ya registrados en el aplicativo PAI WEB nacional, pero tiene indicación médica de administrar nuevamente. \n\nERROR PRÓGRAMATICO: Corresponde al error humano de vacunar a una persona con la dosis o medicamentos biológicos NO indicados en el inserto del producto o en el esquema de vacunación nacional vigente: \n1-Error en correctos de vacunación: cuando al aplicar medicamento(s) biológico(s) NO se implementan los correctos en la administración, como son:  biológico y diluyente correcto, jeringa y aguja correcta, sitio anatómico de administración correcto,  via de administración correcta, reconstitución del medicamento biológico correcta y respetar las contraindicaciones correctas. \n2- Error en dosificación: cuando se administra  medicamento(s) biológico(s) en sobre-dosificación (más) o sub-dosificación (menos), de acuerdo con la indicación específica del inserto del laboratorio productor."]
["CONTAMINACIÓN DEL BIOLOGICO/DISPOSITIVO MÉDICO: Consigne el total de dosis pérdidas por contaminación (por ejemplo: VOP-gotero que toca mucosa oral del menor; contaminación durante el envase o almacenamiento.). Soporte Acta de baja "]
[]
["FRASCO/VIAL ROTO: Registre el total de pérdidas por fractura de los viales, jeringas o ampollas durante el transporte  de los medicamentos biologicos (vehiculo-termo-caja termica) y dispositivos medicos.Soportado con notificación via correo electronico y registro fotografico al PAI local, y acta de baja."]
["ERRORES EN LA MANIPULACIÓN: Registre el total de pérdidas por error en almacenamiento, alistamiento, reconstitución, envase  o derrame del medicamento biologico  (por ejemplo aguja mal empatada con el cuerpo de la jeringa) y/o perdidas por inadecuada reconstitución del biologico con un diluyente que no le corresponde segun el laboratorio fabricante. Soporte Acta de baja \nError en el diligenciamiento por ejemplo en los carné.  Soporte Acta de baja \n\nNOTA ACLARATORIA: Se constituyen un error en la manipulación aquellos casos citados en el concepto que no hayan comprometido o involucrado a un usuario, ya que en estos casos corresponderian a errores programaticos. "]
["VENCIMIENTO DEL BIOLÓGICO/DISPOSITIVO MÉDICO: Registre el total de pérdidas por fechas de expiración según la etiqueta del producto.Soporte Acta de baja "]
["FARMACOVIGILANCIA Y TECNOVIGILANCIA:  Relacione las dosis o unidades pérdidas por :\nA) Farmacovigilancia: Fallas de calidad con los Medicamentos biologicos o faltantes de viales en las cajas. Soporte Acta de baja. \nB) Tecnovigilancia: Incidentes relacionados con dispositivos medicos - fallas de fabricación. Soporte Acta de baja. "]
["VÓMITO FRANCO: Registre el total de pérdidas de los casos en cuales el menor vomito el medicamento biologico (VOP-Rotavirus). “Vomito franco”: hace referencia a la expulsión violenta y espasmódica del contenido del estómago a través de la boca; escupir y regurgitar levemente la vacuna no requiere dosis de reemplazo.   Soporte Acta de baja "]
["RECONSTITUCIÓN BIOLOGICO**: Aplica únicamente para los dispositivos médicos jeringa calibre 25GX5/8\" que se usa para reconstituir la vacuna Varicela y Triple Viral autorizada por el MSPS para reconstituir el liofilizado. "]
["SINIESTRO O ROBO: Registre el total de pérdidas cuya causa sea un evento inesperado o fenomenos naturales (hurtos, incendios-inundaciones). Soporte: denuncia ante las autoridades judiciales respectivas y Acta de baja según el caso. "]
["TOTAL DOSIS PÉRDIDAS: Realice la sumatoria de los datos consignados en cada causa de pérdida por medicamentos biológicos, dispositivo médico e insumos del PAI. Este dato debe corresponder con la información registrada en la columna pérdidas."]

{"sheet":"Validador","index":1,"n_rows":1124,"n_cols":15,"rows_kept":1124,"cut":false,"hidden":true,"merged":[]}
["ET",null,"enero","febrero","marzo","abril","mayo","junio","julio","agosto","septiembre","octubre","noviembre","diciembre","Consolidado"]
[null,null,{"$f":"IF(SUM(ENERO!$AH$14:$AH$412)>=1,1,0)","v":0},{"$f":"IF(SUM(#REF!)>=1,1,0)","v":{"$error":"#REF!"}},{"$f":"IF(SUM(#REF!)>=1,1,0)","v":{"$error":"#REF!"}},{"$f":"IF(SUM(#REF!)>=1,1,0)","v":{"$error":"#REF!"}},{"$f":"IF(SUM(#REF!)>=1,1,0)","v":{"$error":"#REF!"}},{"$f":"IF(SUM(#REF!)>=1,1,0)","v":{"$error":"#REF!"}},{"$f":"IF(SUM(#REF!)>=1,1,0)","v":{"$error":"#REF!"}},{"$f":"IF(SUM(#REF!)>=1,1,0)","v":{"$error":"#REF!"}},{"$f":"IF(SUM(#REF!)>=1,1,0)","v":{"$error":"#REF!"}},{"$f":"IF(SUM(#REF!)>=1,1,0)","v":{"$error":"#REF!"}},{"$f":"IF(SUM(#REF!)>=1,1,0)","v":{"$error":"#REF!"}},{"$f":"IF(SUM(#REF!)>=1,1,0)","v":{"$error":"#REF!"}},{"$f":"IF(SUM(CONSOLIDADO!$AH$14:$AH$412)>=1,1,0)","v":0}]
["05001 Medellin","05 ANTIOQUIA","Diferencia en los totales de perdidas y totales causas de perdidas\n\nValide celdas en amarillo, en totales causas de perdidas, en la hoja","Diferencia en los totales de perdidas y totales causas de perdidas\n\nValide celdas en amarillo, en totales causas de perdidas, en la hoja","Diferencia en los totales de perdidas y totales causas de perdidas\n\nValide celdas en amarillo, en totales causas de perdidas, en la hoja","Diferencia en los totales de perdidas y totales causas de perdidas\n\nValide celdas en amarillo, en totales causas de perdidas, en la hoja","Diferencia en los totales de perdidas y totales causas de perdidas\n\nValide celdas en amarillo, en totales causas de perdidas, en la hoja","Diferencia en los totales de perdidas y totales causas de perdidas\n\nValide celdas en amarillo, en totales causas de perdidas, en la hoja","Diferencia en los totales de perdidas y totales causas de perdidas\n\nValide celdas en amarillo, en totales causas de perdidas, en la hoja","Diferencia en los totales de perdidas y totales causas de perdidas\n\nValide celdas en amarillo, en totales causas de perdidas, en la hoja","Diferencia en los totales de perdidas y totales causas de perdidas\n\nValide celdas en amarillo, en totales causas de perdidas, en la hoja","Diferencia en los totales de perdidas y totales causas de perdidas\n\nValide celdas en amarillo, en totales causas de perdidas, en la hoja","Diferencia en los totales de perdidas y totales causas de perdidas\n\nValide celdas en amarillo, en totales causas de perdidas, en la hoja","Diferencia en los totales de perdidas y totales causas de perdidas\n\nValide celdas en amarillo, en totales causas de perdidas, en la hoja","Diferencia en los totales de perdidas y totales causas de perdidas\n\nValide celdas en amarillo, en totales causas de perdidas, en la hoja"]
["05002 Abejorral","05 ANTIOQUIA",{"$f":"+C3&\" \"&C1","v":"Diferencia en los totales de perdidas y totales causas de perdidas\n\nValide celdas en amarillo, en totales causas de perdidas, en la hoja enero"},{"$f":"+D3&\" \"&D1","v":"Diferencia en los totales de perdidas y totales causas de perdidas\n\nValide celdas en amarillo, en totales causas de perdidas, en la hoja febrero"},"Diferencia en los totales de perdidas y totales causas de perdidas\n\nValide celdas en amarillo, en totales causas de perdidas, en la hoja marzo","Diferencia en los totales de perdidas y totales causas de perdidas\n\nValide celdas en amarillo, en totales causas de perdidas, en la hoja abril","Diferencia en los totales de perdidas y totales causas de perdidas\n\nValide celdas en amarillo, en totales causas de perdidas, en la hoja mayo","Diferencia en los totales de perdidas y totales causas de perdidas\n\nValide celdas en amarillo, en totales causas de perdidas, en la hoja junio","Diferencia en los totales de perdidas y totales causas de perdidas\n\nValide celdas en amarillo, en totales causas de perdidas, en la hoja julio","Diferencia en los totales de perdidas y totales causas de perdidas\n\nValide celdas en amarillo, en totales causas de perdidas, en la hoja agosto","Diferencia en los totales de perdidas y totales causas de perdidas\n\nValide celdas en amarillo, en totales causas de perdidas, en la hoja septiembre","Diferencia en los totales de perdidas y totales causas de perdidas\n\nValide celdas en amarillo, en totales causas de perdidas, en la hoja octubre","Diferencia en los totales de perdidas y totales causas de perdidas\n\nValide celdas en amarillo, en totales causas de perdidas, en la hoja noviembre","Diferencia en los totales de perdidas y totales causas de perdidas\n\nValide celdas en amarillo, en totales causas de perdidas, en la hoja diciembre","Diferencia en los totales de perdidas y totales causas de perdidas\n\nValide celdas en amarillo, en totales causas de perdidas, en la hoja Consolidado"]
["05004 Abriaqui","05 ANTIOQUIA",{"$f":"+IF(SUM(C2:O2)<>0,1,0)","v":{"$error":"#REF!"}}]
["05021 Alejandria","05 ANTIOQUIA"]
["05030 Amaga","05 ANTIOQUIA",{"$f":"+HLOOKUP(C5,C2:O4,3,0)","v":{"$error":"#REF!"}}]
["05031 Amalfi","05 ANTIOQUIA"]
["05034 Andes","05 ANTIOQUIA"]
["05036 Angelopolis","05 ANTIOQUIA"]
["05038 Angostura","05 ANTIOQUIA"]
["05040 Anori","05 ANTIOQUIA"]
["05042 Santafe de Antioquia","05 ANTIOQUIA"]
["05044 Anza","05 ANTIOQUIA"]
["05045 Apartado","05 ANTIOQUIA"]
["05051 Arboletes","05 ANTIOQUIA"]
["05055 Argelia","05 ANTIOQUIA"]
["05059 Armenia","05 ANTIOQUIA"]
["05079 Barbosa","05 ANTIOQUIA"]
["05086 Belmira","05 ANTIOQUIA"]
["05088 Bello","05 ANTIOQUIA"]
["05091 Betania","05 ANTIOQUIA"]
["05093 Betulia","05 ANTIOQUIA"]
["05101 Ciudad Bolivar","05 ANTIOQUIA"]
["05107 Briceño","05 ANTIOQUIA"]
["05113 Buritica","05 ANTIOQUIA"]
["05120 Caceres","05 ANTIOQUIA"]
["05125 Caicedo","05 ANTIOQUIA"]
["05129 Caldas","05 ANTIOQUIA"]
["05134 Campamento","05 ANTIOQUIA"]
["05138 Cañasgordas","05 ANTIOQUIA"]
["05142 Caracoli","05 ANTIOQUIA"]
["05145 Caramanta","05 ANTIOQUIA"]
["05147 Carepa","05 ANTIOQUIA"]
["05148 El Carmen de Viboral","05 ANTIOQUIA"]
["05150 Carolina","05 ANTIOQUIA"]
["05154 Caucasia","05 ANTIOQUIA"]
["05172 Chigorodo","05 ANTIOQUIA"]
["05190 Cisneros","05 ANTIOQUIA"]
["05197 Cocorna","05 ANTIOQUIA"]
["05206 Concepcion","05 ANTIOQUIA"]
["05209 Concordia","05 ANTIOQUIA"]
["05212 Copacabana","05 ANTIOQUIA"]
["05234 Dabeiba","05 ANTIOQUIA"]
["05237 Don Matias","05 ANTIOQUIA"]
["05240 Ebejico","05 ANTIOQUIA"]
["05250 El Bagre","05 ANTIOQUIA"]
["05264 Entrerrios","05 ANTIOQUIA"]
["05266 Envigado","05 ANTIOQUIA"]
["05282 Fredonia","05 ANTIOQUIA"]
["05284 Frontino","05 ANTIOQUIA"]
["05306 Giraldo","05 ANTIOQUIA"]
["05308 Girardota","05 ANTIOQUIA"]
["05310 Gomez Plata","05 ANTIOQUIA"]
["05313 Granada","05 ANTIOQUIA"]
["05315 Guadalupe","05 ANTIOQUIA"]
["05318 Guarne","05 ANTIOQUIA"]
["05321 Guatape","05 ANTIOQUIA"]
["05347 Heliconia","05 ANTIOQUIA"]
["05353 Hispania","05 ANTIOQUIA"]
["05360 Itagui","05 ANTIOQUIA"]
["05361 Ituango","05 ANTIOQUIA"]
["05364 Jardin","05 ANTIOQUIA"]
["05368 Jerico","05 ANTIOQUIA"]
["05376 La Ceja","05 ANTIOQUIA"]
["05380 La Estrella","05 ANTIOQUIA"]
["05390 La Pintada","05 ANTIOQUIA"]
["05400 La Union","05 ANTIOQUIA"]
["05411 Liborina","05 ANTIOQUIA"]
["05425 Maceo","05 ANTIOQUIA"]
["05440 Marinilla","05 ANTIOQUIA"]
["05467 Montebello","05 ANTIOQUIA"]
["05475 Murindo","05 ANTIOQUIA"]
["05480 Mutata","05 ANTIOQUIA"]
["05483 Nariño","05 ANTIOQUIA"]
["05490 Necocli","05 ANTIOQUIA"]
["05495 Nechi","05 ANTIOQUIA"]
["05501 Olaya","05 ANTIOQUIA"]
["05541 Peñol","05 ANTIOQUIA"]
["05543 Peque","05 ANTIOQUIA"]
["05576 Pueblorrico","05 ANTIOQUIA"]
["05579 Puerto Berrio","05 ANTIOQUIA"]
["05585 Puerto Nare","05 ANTIOQUIA"]
["05591 Puerto Triunfo","05 ANTIOQUIA"]
["05604 Remedios","05 ANTIOQUIA"]
["05607 Retiro","05 ANTIOQUIA"]
["05615 Rionegro","05 ANTIOQUIA"]
["05628 Sabanalarga","05 ANTIOQUIA"]
["05631 Sabaneta","05 ANTIOQUIA"]
["05642 Salgar","05 ANTIOQUIA"]
["05647 San Andres de Cuerquia","05 ANTIOQUIA"]
["05649 San Carlos","05 ANTIOQUIA"]
["05652 San Francisco","05 ANTIOQUIA"]
["05656 San Jeronimo","05 ANTIOQUIA"]
["05658 San Jose de La Montaña","05 ANTIOQUIA"]
["05659 San Juan de Uraba","05 ANTIOQUIA"]
["05660 San Luis","05 ANTIOQUIA"]
["05664 San Pedro","05 ANTIOQUIA"]
["05665 San Pedro de Uraba","05 ANTIOQUIA"]
["05667 San Rafael","05 ANTIOQUIA"]
["05670 San Roque","05 ANTIOQUIA"]
["05674 San Vicente","05 ANTIOQUIA"]
["05679 Santa Barbara","05 ANTIOQUIA"]
["05686 Santa Rosa de Osos","05 ANTIOQUIA"]
["05690 Santo Domingo","05 ANTIOQUIA"]
["05697 El Santuario","05 ANTIOQUIA"]
["05736 Segovia","05 ANTIOQUIA"]
["05756 Sonson","05 ANTIOQUIA"]
["05761 Sopetran","05 ANTIOQUIA"]
["05789 Tamesis","05 ANTIOQUIA"]
["05790 Taraza","05 ANTIOQUIA"]
["05792 Tarso","05 ANTIOQUIA"]
["05809 Titiribi","05 ANTIOQUIA"]
["05819 Toledo","05 ANTIOQUIA"]
["05837 Turbo","05 ANTIOQUIA"]
["05842 Uramita","05 ANTIOQUIA"]
["05847 Urrao","05 ANTIOQUIA"]
["05854 Valdivia","05 ANTIOQUIA"]
["05856 Valparaiso","05 ANTIOQUIA"]
["05858 Vegachi","05 ANTIOQUIA"]
["05861 Venecia","05 ANTIOQUIA"]
["05873 Vigia del Fuerte","05 ANTIOQUIA"]
["05885 Yali","05 ANTIOQUIA"]
["05887 Yarumal","05 ANTIOQUIA"]
["05890 Yolombo","05 ANTIOQUIA"]
["05893 Yondo","05 ANTIOQUIA"]
["05895 Zaragoza","05 ANTIOQUIA"]
["08078 Baranoa","08 ATLANTICO"]
["08137 Campo de La Cruz","08 ATLANTICO"]
["08141 Candelaria","08 ATLANTICO"]
["08296 Galapa","08 ATLANTICO"]
["08372 Juan de Acosta","08 ATLANTICO"]
["08421 Luruaco","08 ATLANTICO"]
["08433 Malambo","08 ATLANTICO"]
["08436 Manati","08 ATLANTICO"]
["08520 Palmar de Varela","08 ATLANTICO"]
["08549 Piojo","08 ATLANTICO"]
["08558 Polonuevo","08 ATLANTICO"]
["08560 Ponedera","08 ATLANTICO"]
["08573 Puerto Colombia","08 ATLANTICO"]
["08606 Repelon","08 ATLANTICO"]
["08634 Sabanagrande","08 ATLANTICO"]
["08638 Sabanalarga","08 ATLANTICO"]
["08675 Santa Lucia","08 ATLANTICO"]
["08685 Santo Tomas","08 ATLANTICO"]
["08758 Soledad","08 ATLANTICO"]
["08770 Suan","08 ATLANTICO"]
["08832 Tubara","08 ATLANTICO"]
["08849 Usiacuri","08 ATLANTICO"]
["08001 Barranquilla","08 BARRANQUILLA"]
["11001 Bogota, D.C.","11 BOGOTA D.C."]
["13006 Achi","13 BOLIVAR"]
["13030 Altos del Rosario","13 BOLIVAR"]
["13042 Arenal","13 BOLIVAR"]
["13052 Arjona","13 BOLIVAR"]
["13062 Arroyohondo","13 BOLIVAR"]
["13074 Barranco de Loba","13 BOLIVAR"]
["13140 Calamar","13 BOLIVAR"]
["13160 Cantagallo","13 BOLIVAR"]
["13188 Cicuco","13 BOLIVAR"]
["13212 Cordoba","13 BOLIVAR"]
["13222 Clemencia","13 BOLIVAR"]
["13244 El Carmen de Bolivar","13 BOLIVAR"]
["13248 El Guamo","13 BOLIVAR"]
["13268 El Peñon","13 BOLIVAR"]
["13300 Hatillo de Loba","13 BOLIVAR"]
["13430 Magangue","13 BOLIVAR"]
["13433 Mahates","13 BOLIVAR"]
["13440 Margarita","13 BOLIVAR"]
["13442 Maria La Baja","13 BOLIVAR"]
["13458 Montecristo","13 BOLIVAR"]
["13468 Mompos","13 BOLIVAR"]
["13473 Morales","13 BOLIVAR"]
["13490 Norosi","13 BOLIVAR"]
["13549 Pinillos","13 BOLIVAR"]
["13580 Regidor","13 BOLIVAR"]
["13600 Rio Viejo","13 BOLIVAR"]
["13620 San Cristobal","13 BOLIVAR"]
["13647 San Estanislao","13 BOLIVAR"]
["13650 San Fernando","13 BOLIVAR"]
["13654 San Jacinto","13 BOLIVAR"]
["13655 San Jacinto del Cauca","13 BOLIVAR"]
["13657 San Juan Nepomuceno","13 BOLIVAR"]
["13667 San Martin de Loba","13 BOLIVAR"]
["13670 San Pablo","13 BOLIVAR"]
["13673 Santa Catalina","13 BOLIVAR"]
["13683 Santa Rosa","13 BOLIVAR"]
["13688 Santa Rosa del Sur","13 BOLIVAR"]
["13744 Simiti","13 BOLIVAR"]
["13760 Soplaviento","13 BOLIVAR"]
["13780 Talaigua Nuevo","13 BOLIVAR"]
["13810 Tiquisio","13 BOLIVAR"]
["13836 Turbaco","13 BOLIVAR"]
["13838 Turbana","13 BOLIVAR"]
["13873 Villanueva","13 BOLIVAR"]
["13894 Zambrano","13 BOLIVAR"]
["13001 Cartagena","13 CARTAGENA"]
["15001 Tunja","15 BOYACA"]
["15022 Almeida","15 BOYACA"]
["15047 Aquitania","15 BOYACA"]
["15051 Arcabuco","15 BOYACA"]
["15087 Belen","15 BOYACA"]
["15090 Berbeo","15 BOYACA"]
["15092 Beteitiva","15 BOYACA"]
["15097 Boavita","15 BOYACA"]
["15104 Boyaca","15 BOYACA"]
["15106 Briceño","15 BOYACA"]
["15109 Buenavista","15 BOYACA"]
["15114 Busbanza","15 BOYACA"]
["15131 Caldas","15 BOYACA"]
["15135 Campohermoso","15 BOYACA"]
["15162 Cerinza","15 BOYACA"]
["15172 Chinavita","15 BOYACA"]
["15176 Chiquinquira","15 BOYACA"]
["15180 Chiscas","15 BOYACA"]
["15183 Chita","15 BOYACA"]
["15185 Chitaraque","15 BOYACA"]
["15187 Chivata","15 BOYACA"]
["15189 Cienega","15 BOYACA"]
["15204 Combita","15 BOYACA"]
["15212 Coper","15 BOYACA"]
["15215 Corrales","15 BOYACA"]
["15218 Covarachia","15 BOYACA"]
["15223 Cubara","15 BOYACA"]
["15224 Cucaita","15 BOYACA"]
["15226 Cuitiva","15 BOYACA"]
["15232 Chiquiza","15 BOYACA"]
["15236 Chivor","15 BOYACA"]
["15238 Duitama","15 BOYACA"]
["15244 El Cocuy","15 BOYACA"]
["15248 El Espino","15 BOYACA"]
["15272 Firavitoba","15 BOYACA"]
["15276 Floresta","15 BOYACA"]
["15293 Gachantiva","15 BOYACA"]
["15296 Gameza","15 BOYACA"]
["15299 Garagoa","15 BOYACA"]
["15317 Guacamayas","15 BOYACA"]
["15322 Guateque","15 BOYACA"]
["15325 Guayata","15 BOYACA"]
["15332 Güican","15 BOYACA"]
["15362 Iza","15 BOYACA"]
["15367 Jenesano","15 BOYACA"]
["15368 Jerico","15 BOYACA"]
["15377 Labranzagrande","15 BOYACA"]
["15380 La Capilla","15 BOYACA"]
["15401 La Victoria","15 BOYACA"]
["15403 La Uvita","15 BOYACA"]
["15407 Villa de Leyva","15 BOYACA"]
["15425 Macanal","15 BOYACA"]
["15442 Maripi","15 BOYACA"]
["15455 Miraflores","15 BOYACA"]
["15464 Mongua","15 BOYACA"]
["15466 Mongui","15 BOYACA"]
["15469 Moniquira","15 BOYACA"]
["15476 Motavita","15 BOYACA"]
["15480 Muzo","15 BOYACA"]
["15491 Nobsa","15 BOYACA"]
["15494 Nuevo Colon","15 BOYACA"]
["15500 Oicata","15 BOYACA"]
["15507 Otanche","15 BOYACA"]
["15511 Pachavita","15 BOYACA"]
["15514 Paez","15 BOYACA"]
["15516 Paipa","15 BOYACA"]
["15518 Pajarito","15 BOYACA"]
["15522 Panqueba","15 BOYACA"]
["15531 Pauna","15 BOYACA"]
["15533 Paya","15 BOYACA"]
["15537 Paz de Rio","15 BOYACA"]
["15542 Pesca","15 BOYACA"]
["15550 Pisba","15 BOYACA"]
["15572 Puerto Boyaca","15 BOYACA"]
["15580 Quipama","15 BOYACA"]
["15599 Ramiriqui","15 BOYACA"]
["15600 Raquira","15 BOYACA"]
["15621 Rondon","15 BOYACA"]
["15632 Saboya","15 BOYACA"]
["15638 Sachica","15 BOYACA"]
["15646 Samaca","15 BOYACA"]
["15660 San Eduardo","15 BOYACA"]
["15664 San Jose de Pare","15 BOYACA"]
["15667 San Luis de Gaceno","15 BOYACA"]
["15673 San Mateo","15 BOYACA"]
["15676 San Miguel de Sema","15 BOYACA"]
["15681 San Pablo de Borbur","15 BOYACA"]
["15686 Santana","15 BOYACA"]
["15690 Santa Maria","15 BOYACA"]
["15693 Santa Rosa de Viterbo","15 BOYACA"]
["15696 Santa Sofia","15 BOYACA"]
["15720 Sativanorte","15 BOYACA"]
["15723 Sativasur","15 BOYACA"]
["15740 Siachoque","15 BOYACA"]
["15753 Soata","15 BOYACA"]
["15755 Socota","15 BOYACA"]
["15757 Socha","15 BOYACA"]
["15759 Sogamoso","15 BOYACA"]
["15761 Somondoco","15 BOYACA"]
["15762 Sora","15 BOYACA"]
["15763 Sotaquira","15 BOYACA"]
["15764 Soraca","15 BOYACA"]
["15774 Susacon","15 BOYACA"]
["15776 Sutamarchan","15 BOYACA"]
["15778 Sutatenza","15 BOYACA"]
["15790 Tasco","15 BOYACA"]
["15798 Tenza","15 BOYACA"]
["15804 Tibana","15 BOYACA"]
["15806 Tibasosa","15 BOYACA"]
["15808 Tinjaca","15 BOYACA"]
["15810 Tipacoque","15 BOYACA"]
["15814 Toca","15 BOYACA"]
["15816 Togüi","15 BOYACA"]
["15820 Topaga","15 BOYACA"]
["15822 Tota","15 BOYACA"]
["15832 Tunungua","15 BOYACA"]
["15835 Turmeque","15 BOYACA"]
["15837 Tuta","15 BOYACA"]
["15839 Tutaza","15 BOYACA"]
["15842 Umbita","15 BOYACA"]
["15861 Ventaquemada","15 BOYACA"]
["15879 Viracacha","15 BOYACA"]
["15897 Zetaquira","15 BOYACA"]
["17001 Manizales","17 CALDAS"]
["17013 Aguadas","17 CALDAS"]
["17042 Anserma","17 CALDAS"]
["17050 Aranzazu","17 CALDAS"]
["17088 Belalcazar","17 CALDAS"]
["17174 Chinchina","17 CALDAS"]
["17272 Filadelfia","17 CALDAS"]
["17380 La Dorada","17 CALDAS"]
["17388 La Merced","17 CALDAS"]
["17433 Manzanares","17 CALDAS"]
["17442 Marmato","17 CALDAS"]
["17444 Marquetalia","17 CALDAS"]
["17446 Marulanda","17 CALDAS"]
["17486 Neira","17 CALDAS"]
["17495 Norcasia","17 CALDAS"]
["17513 Pacora","17 CALDAS"]
["17524 Palestina","17 CALDAS"]
["17541 Pensilvania","17 CALDAS"]
["17614 Riosucio","17 CALDAS"]
["17616 Risaralda","17 CALDAS"]
["17653 Salamina","17 CALDAS"]
["17662 Samana","17 CALDAS"]
["17665 San Jose","17 CALDAS"]
["17777 Supia","17 CALDAS"]
["17867 Victoria","17 CALDAS"]
["17873 Villamaria","17 CALDAS"]
["17877 Viterbo","17 CALDAS"]
["18001 Florencia","18 CAQUETA"]
["18029 Albania","18 CAQUETA"]
["18094 Belen de Los Andaquies","18 CAQUETA"]
["18150 Cartagena del Chaira","18 CAQUETA"]
["18205 Curillo","18 CAQUETA"]
["18247 El Doncello","18 CAQUETA"]
["18256 El Paujil","18 CAQUETA"]
["18410 La Montañita","18 CAQUETA"]
["18460 Milan","18 CAQUETA"]
["18479 Morelia","18 CAQUETA"]
["18592 Puerto Rico","18 CAQUETA"]
["18610 San Jose del Fragua","18 CAQUETA"]
["18753 San Vicente del Caguan","18 CAQUETA"]
["18756 Solano","18 CAQUETA"]
["18785 Solita","18 CAQUETA"]
["18860 Valparaiso","18 CAQUETA"]
["19001 Popayan","19 CAUCA"]
["19022 Almaguer","19 CAUCA"]
["19050 Argelia","19 CAUCA"]
["19075 Balboa","19 CAUCA"]
["19100 Bolivar","19 CAUCA"]
["19110 Buenos Aires","19 CAUCA"]
["19130 Cajibio","19 CAUCA"]
["19137 Caldono","19 CAUCA"]
["19142 Caloto","19 CAUCA"]
["19212 Corinto","19 CAUCA"]
["19256 El Tambo","19 CAUCA"]
["19290 Florencia","19 CAUCA"]
["19300 Guachene","19 CAUCA"]
["19318 Guapi","19 CAUCA"]
["19355 Inza","19 CAUCA"]
["19364 Jambalo","19 CAUCA"]
["19392 La Sierra","19 CAUCA"]
["19397 La Vega","19 CAUCA"]
["19418 Lopez","19 CAUCA"]
["19450 Mercaderes","19 CAUCA"]
["19455 Miranda","19 CAUCA"]
["19473 Morales","19 CAUCA"]
["19513 Padilla","19 CAUCA"]
["19517 Paez","19 CAUCA"]
["19532 Patia","19 CAUCA"]
["19533 Piamonte","19 CAUCA"]
["19548 Piendamo","19 CAUCA"]
["19573 Puerto Tejada","19 CAUCA"]
["19585 Purace","19 CAUCA"]
["19622 Rosas","19 CAUCA"]
["19693 San Sebastian","19 CAUCA"]
["19698 Santander de Quilichao","19 CAUCA"]
["19701 Santa Rosa","19 CAUCA"]
["19743 Silvia","19 CAUCA"]
["19760 Sotara","19 CAUCA"]
["19780 Suarez","19 CAUCA"]
["19785 Sucre","19 CAUCA"]
["19807 Timbio","19 CAUCA"]
["19809 Timbiqui","19 CAUCA"]
["19821 Toribio","19 CAUCA"]
["19824 Totoro","19 CAUCA"]
["19845 Villa Rica","19 CAUCA"]
["20001 Valledupar","20 CESAR"]
["20011 Aguachica","20 CESAR"]
["20013 Agustin Codazzi","20 CESAR"]
["20032 Astrea","20 CESAR"]
["20045 Becerril","20 CESAR"]
["20060 Bosconia","20 CESAR"]
["20175 Chimichagua","20 CESAR"]
["20178 Chiriguana","20 CESAR"]
["20228 Curumani","20 CESAR"]
["20238 El Copey","20 CESAR"]
["20250 El Paso","20 CESAR"]
["20295 Gamarra","20 CESAR"]
["20310 Gonzalez","20 CESAR"]
["20383 La Gloria","20 CESAR"]
["20400 La Jagua de Ibirico","20 CESAR"]
["20443 Manaure","20 CESAR"]
["20517 Pailitas","20 CESAR"]
["20550 Pelaya","20 CESAR"]
["20570 Pueblo Bello","20 CESAR"]
["20614 Rio de Oro","20 CESAR"]
["20621 La Paz","20 CESAR"]
["20710 San Alberto","20 CESAR"]
["20750 San Diego","20 CESAR"]
["20770 San Martin","20 CESAR"]
["20787 Tamalameque","20 CESAR"]
["23001 Monteria","23 CORDOBA"]
["23068 Ayapel","23 CORDOBA"]
["23079 Buenavista","23 CORDOBA"]
["23090 Canalete","23 CORDOBA"]
["23162 Cerete","23 CORDOBA"]
["23168 Chima","23 CORDOBA"]
["23182 Chinu","23 CORDOBA"]
["23189 Cienaga de Oro","23 CORDOBA"]
["23300 Cotorra","23 CORDOBA"]
["23350 La Apartada","23 CORDOBA"]
["23417 Lorica","23 CORDOBA"]
["23419 Los Cordobas","23 CORDOBA"]
["23464 Momil","23 CORDOBA"]
["23466 Montelibano","23 CORDOBA"]
["23500 Moñitos","23 CORDOBA"]
["23555 Planeta Rica","23 CORDOBA"]
["23570 Pueblo Nuevo","23 CORDOBA"]
["23574 Puerto Escondido","23 CORDOBA"]
["23580 Puerto Libertador","23 CORDOBA"]
["23586 Purisima","23 CORDOBA"]
["23660 Sahagun","23 CORDOBA"]
["23670 San Andres Sotavento","23 CORDOBA"]
["23672 San Antero","23 CORDOBA"]
["23675 San Bernardo del Viento","23 CORDOBA"]
["23678 San Carlos","23 CORDOBA"]
["23682 San Jose de Ure","23 CORDOBA"]
["23686 San Pelayo","23 CORDOBA"]
["23807 Tierralta","23 CORDOBA"]
["23815 Tuchin","23 CORDOBA"]
["23855 Valencia","23 CORDOBA"]
["25001 Agua de Dios","25 CUNDINAMARCA"]
["25019 Alban","25 CUNDINAMARCA"]
["25035 Anapoima","25 CUNDINAMARCA"]
["25040 Anolaima","25 CUNDINAMARCA"]
["25053 Arbelaez","25 CUNDINAMARCA"]
["25086 Beltran","25 CUNDINAMARCA"]
["25095 Bituima","25 CUNDINAMARCA"]
["25099 Bojaca","25 CUNDINAMARCA"]
["25120 Cabrera","25 CUNDINAMARCA"]
["25123 Cachipay","25 CUNDINAMARCA"]
["25126 Cajica","25 CUNDINAMARCA"]
["25148 Caparrapi","25 CUNDINAMARCA"]
["25151 Caqueza","25 CUNDINAMARCA"]
["25154 Carmen de Carupa","25 CUNDINAMARCA"]
["25168 Chaguani","25 CUNDINAMARCA"]
["25175 Chia","25 CUNDINAMARCA"]
["25178 Chipaque","25 CUNDINAMARCA"]
["25181 Choachi","25 CUNDINAMARCA"]
["25183 Choconta","25 CUNDINAMARCA"]
["25200 Cogua","25 CUNDINAMARCA"]
["25214 Cota","25 CUNDINAMARCA"]
["25224 Cucunuba","25 CUNDINAMARCA"]
["25245 El Colegio","25 CUNDINAMARCA"]
["25258 El Peñon","25 CUNDINAMARCA"]
["25260 El Rosal","25 CUNDINAMARCA"]
["25269 Facatativa","25 CUNDINAMARCA"]
["25279 Fomeque","25 CUNDINAMARCA"]
["25281 Fosca","25 CUNDINAMARCA"]
["25286 Funza","25 CUNDINAMARCA"]
["25288 Fuquene","25 CUNDINAMARCA"]
["25290 Fusagasuga","25 CUNDINAMARCA"]
["25293 Gachala","25 CUNDINAMARCA"]
["25295 Gachancipa","25 CUNDINAMARCA"]
["25297 Gacheta","25 CUNDINAMARCA"]
["25299 Gama","25 CUNDINAMARCA"]
["25307 Girardot","25 CUNDINAMARCA"]
["25312 Granada","25 CUNDINAMARCA"]
["25317 Guacheta","25 CUNDINAMARCA"]
["25320 Guaduas","25 CUNDINAMARCA"]
["25322 Guasca","25 CUNDINAMARCA"]
["25324 Guataqui","25 CUNDINAMARCA"]
["25326 Guatavita","25 CUNDINAMARCA"]
["25328 Guayabal de Siquima","25 CUNDINAMARCA"]
["25335 Guayabetal","25 CUNDINAMARCA"]
["25339 Gutierrez","25 CUNDINAMARCA"]
["25368 Jerusalen","25 CUNDINAMARCA"]
["25372 Junin","25 CUNDINAMARCA"]
["25377 La Calera","25 CUNDINAMARCA"]
["25386 La Mesa","25 CUNDINAMARCA"]
["25394 La Palma","25 CUNDINAMARCA"]
["25398 La Peña","25 CUNDINAMARCA"]
["25402 La Vega","25 CUNDINAMARCA"]
["25407 Lenguazaque","25 CUNDINAMARCA"]
["25426 Macheta","25 CUNDINAMARCA"]
["25430 Madrid","25 CUNDINAMARCA"]
["25436 Manta","25 CUNDINAMARCA"]
["25438 Medina","25 CUNDINAMARCA"]
["25473 Mosquera","25 CUNDINAMARCA"]
["25483 Nariño","25 CUNDINAMARCA"]
["25486 Nemocon","25 CUNDINAMARCA"]
["25488 Nilo","25 CUNDINAMARCA"]
["25489 Nimaima","25 CUNDINAMARCA"]
["25491 Nocaima","25 CUNDINAMARCA"]
["25506 Venecia","25 CUNDINAMARCA"]
["25513 Pacho","25 CUNDINAMARCA"]
["25518 Paime","25 CUNDINAMARCA"]
["25524 Pandi","25 CUNDINAMARCA"]
["25530 Paratebueno","25 CUNDINAMARCA"]
["25535 Pasca","25 CUNDINAMARCA"]
["25572 Puerto Salgar","25 CUNDINAMARCA"]
["25580 Puli","25 CUNDINAMARCA"]
["25592 Quebradanegra","25 CUNDINAMARCA"]
["25594 Quetame","25 CUNDINAMARCA"]
["25596 Quipile","25 CUNDINAMARCA"]
["25599 Apulo","25 CUNDINAMARCA"]
["25612 Ricaurte","25 CUNDINAMARCA"]
["25645 San Antonio del Tequendama","25 CUNDINAMARCA"]
["25649 San Bernardo","25 CUNDINAMARCA"]
["25653 San Cayetano","25 CUNDINAMARCA"]
["25658 San Francisco","25 CUNDINAMARCA"]
["25662 San Juan de Rio Seco","25 CUNDINAMARCA"]
["25718 Sasaima","25 CUNDINAMARCA"]
["25736 Sesquile","25 CUNDINAMARCA"]
["25740 Sibate","25 CUNDINAMARCA"]
["25743 Silvania","25 CUNDINAMARCA"]
["25745 Simijaca","25 CUNDINAMARCA"]
["25754 Soacha","25 CUNDINAMARCA"]
["25758 Sopo","25 CUNDINAMARCA"]
["25769 Subachoque","25 CUNDINAMARCA"]
["25772 Suesca","25 CUNDINAMARCA"]
["25777 Supata","25 CUNDINAMARCA"]
["25779 Susa","25 CUNDINAMARCA"]
["25781 Sutatausa","25 CUNDINAMARCA"]
["25785 Tabio","25 CUNDINAMARCA"]
["25793 Tausa","25 CUNDINAMARCA"]
["25797 Tena","25 CUNDINAMARCA"]
["25799 Tenjo","25 CUNDINAMARCA"]
["25805 Tibacuy","25 CUNDINAMARCA"]
["25807 Tibirita","25 CUNDINAMARCA"]
["25815 Tocaima","25 CUNDINAMARCA"]
["25817 Tocancipa","25 CUNDINAMARCA"]
["25823 Topaipi","25 CUNDINAMARCA"]
["25839 Ubala","25 CUNDINAMARCA"]
["25841 Ubaque","25 CUNDINAMARCA"]
["25843 Villa de San Diego de Ubate","25 CUNDINAMARCA"]
["25845 Une","25 CUNDINAMARCA"]
["25851 utica","25 CUNDINAMARCA"]
["25862 Vergara","25 CUNDINAMARCA"]
["25867 Viani","25 CUNDINAMARCA"]
["25871 Villagomez","25 CUNDINAMARCA"]
["25873 Villapinzon","25 CUNDINAMARCA"]
["25875 Villeta","25 CUNDINAMARCA"]
["25878 Viota","25 CUNDINAMARCA"]
["25885 Yacopi","25 CUNDINAMARCA"]
["25898 Zipacon","25 CUNDINAMARCA"]
["25899 Zipaquira","25 CUNDINAMARCA"]
["27001 Quibdo","27 CHOCO"]
["27006 Acandi","27 CHOCO"]
["27025 Alto Baudo","27 CHOCO"]
["27050 Atrato","27 CHOCO"]
["27073 Bagado","27 CHOCO"]
["27075 Bahia Solano","27 CHOCO"]
["27077 Bajo Baudo","27 CHOCO"]
["27099 Bojaya","27 CHOCO"]
["27135 El Canton del San Pablo","27 CHOCO"]
["27150 Carmen del Darien","27 CHOCO"]
["27160 Certegui","27 CHOCO"]
["27205 Condoto","27 CHOCO"]
["27245 El Carmen de Atrato","27 CHOCO"]
["27250 El Litoral del San Juan","27 CHOCO"]
["27361 Istmina","27 CHOCO"]
["27372 Jurado","27 CHOCO"]
["27413 Lloro","27 CHOCO"]
["27425 Medio Atrato","27 CHOCO"]
["27430 Medio Baudo","27 CHOCO"]
["27450 Medio San Juan","27 CHOCO"]
["27491 Novita","27 CHOCO"]
["27495 Nuqui","27 CHOCO"]
["27580 Rio Iro","27 CHOCO"]
["27600 Rio Quito","27 CHOCO"]
["27615 Riosucio","27 CHOCO"]
["27660 San Jose del Palmar","27 CHOCO"]
["27745 Sipi","27 CHOCO"]
["27787 Tado","27 CHOCO"]
["27800 Unguia","27 CHOCO"]
["27810 Union Panamericana","27 CHOCO"]
["41001 Neiva","41 HUILA"]
["41006 Acevedo","41 HUILA"]
["41013 Agrado","41 HUILA"]
["41016 Aipe","41 HUILA"]
["41020 Algeciras","41 HUILA"]
["41026 Altamira","41 HUILA"]
["41078 Baraya","41 HUILA"]
["41132 Campoalegre","41 HUILA"]
["41206 Colombia","41 HUILA"]
["41244 Elias","41 HUILA"]
["41298 Garzon","41 HUILA"]
["41306 Gigante","41 HUILA"]
["41319 Guadalupe","41 HUILA"]
["41349 Hobo","41 HUILA"]
["41357 Iquira","41 HUILA"]
["41359 Isnos","41 HUILA"]
["41378 La Argentina","41 HUILA"]
["41396 La Plata","41 HUILA"]
["41483 Nataga","41 HUILA"]
["41503 Oporapa","41 HUILA"]
["41518 Paicol","41 HUILA"]
["41524 Palermo","41 HUILA"]
["41530 Palestina","41 HUILA"]
["41548 Pital","41 HUILA"]
["41551 Pitalito","41 HUILA"]
["41615 Rivera","41 HUILA"]
["41660 Saladoblanco","41 HUILA"]
["41668 San Agustin","41 HUILA"]
["41676 Santa Maria","41 HUILA"]
["41770 Suaza","41 HUILA"]
["41791 Tarqui","41 HUILA"]
["41797 Tesalia","41 HUILA"]
["41799 Tello","41 HUILA"]
["41801 Teruel","41 HUILA"]
["41807 Timana","41 HUILA"]
["41872 Villavieja","41 HUILA"]
["41885 Yaguara","41 HUILA"]
["44001 Riohacha","44 LA_GUAJIRA"]
["44035 Albania","44 LA_GUAJIRA"]
["44078 Barrancas","44 LA_GUAJIRA"]
["44090 Dibulla","44 LA_GUAJIRA"]
["44098 Distraccion","44 LA_GUAJIRA"]
["44110 El Molino","44 LA_GUAJIRA"]
["44279 Fonseca","44 LA_GUAJIRA"]
["44378 Hatonuevo","44 LA_GUAJIRA"]
["44420 La Jagua del Pilar","44 LA_GUAJIRA"]
["44430 Maicao","44 LA_GUAJIRA"]
["44560 Manaure","44 LA_GUAJIRA"]
["44650 San Juan del Cesar","44 LA_GUAJIRA"]
["44847 Uribia","44 LA_GUAJIRA"]
["44855 Urumita","44 LA_GUAJIRA"]
["44874 Villanueva","44 LA_GUAJIRA"]
["47030 Algarrobo","47 MAGDALENA"]
["47053 Aracataca","47 MAGDALENA"]
["47058 Ariguani","47 MAGDALENA"]
["47161 Cerro San Antonio","47 MAGDALENA"]
["47170 Chivolo","47 MAGDALENA"]
["47189 Cienaga","47 MAGDALENA"]
["47205 Concordia","47 MAGDALENA"]
["47245 El Banco","47 MAGDALENA"]
["47258 El Piñon","47 MAGDALENA"]
["47268 El Reten","47 MAGDALENA"]
["47288 Fundacion","47 MAGDALENA"]
["47318 Guamal","47 MAGDALENA"]
["47460 Nueva Granada","47 MAGDALENA"]
["47541 Pedraza","47 MAGDALENA"]
["47545 Pijiño del Carmen","47 MAGDALENA"]
["47551 Pivijay","47 MAGDALENA"]
["47555 Plato","47 MAGDALENA"]
["47570 Puebloviejo","47 MAGDALENA"]
["47605 Remolino","47 MAGDALENA"]
["47660 Sabanas de San Angel","47 MAGDALENA"]
["47675 Salamina","47 MAGDALENA"]
["47692 San Sebastian de Buenavista","47 MAGDALENA"]
["47703 San Zenon","47 MAGDALENA"]
["47707 Santa Ana","47 MAGDALENA"]
["47720 Santa Barbara de Pinto","47 MAGDALENA"]
["47745 Sitionuevo","47 MAGDALENA"]
["47798 Tenerife","47 MAGDALENA"]
["47960 Zapayan","47 MAGDALENA"]
["47980 Zona Bananera","47 MAGDALENA"]
["47001 Santa Marta","47 SANTA MARTHA"]
["50001 Villavicencio","50 META"]
["50006 Acacias","50 META"]
["50110 Barranca de Upia","50 META"]
["50124 Cabuyaro","50 META"]
["50150 Castilla la Nueva","50 META"]
["50223 Cubarral","50 META"]
["50226 Cumaral","50 META"]
["50245 El Calvario","50 META"]
["50251 El Castillo","50 META"]
["50270 El Dorado","50 META"]
["50287 Fuente de Oro","50 META"]
["50313 Granada","50 META"]
["50318 Guamal","50 META"]
["50325 Mapiripan","50 META"]
["50330 Mesetas","50 META"]
["50350 La Macarena","50 META"]
["50370 Uribe","50 META"]
["50400 Lejanias","50 META"]
["50450 Puerto Concordia","50 META"]
["50568 Puerto Gaitan","50 META"]
["50573 Puerto Lopez","50 META"]
["50577 Puerto Lleras","50 META"]
["50590 Puerto Rico","50 META"]
["50606 Restrepo","50 META"]
["50680 San Carlos de Guaroa","50 META"]
["50683 San Juan de Arama","50 META"]
["50686 San Juanito","50 META"]
["50689 San Martin","50 META"]
["50711 Vistahermosa","50 META"]
["52001 Pasto","52 NARIÑO"]
["52019 Alban","52 NARIÑO"]
["52022 Aldana","52 NARIÑO"]
["52036 Ancuya","52 NARIÑO"]
["52051 Arboleda","52 NARIÑO"]
["52079 Barbacoas","52 NARIÑO"]
["52083 Belen","52 NARIÑO"]
["52110 Buesaco","52 NARIÑO"]
["52203 Colon","52 NARIÑO"]
["52207 Consaca","52 NARIÑO"]
["52210 Contadero","52 NARIÑO"]
["52215 Cordoba","52 NARIÑO"]
["52224 Cuaspud","52 NARIÑO"]
["52227 Cumbal","52 NARIÑO"]
["52233 Cumbitara","52 NARIÑO"]
["52240 Chachagüi","52 NARIÑO"]
["52250 El Charco","52 NARIÑO"]
["52254 El Peñol","52 NARIÑO"]
["52256 El Rosario","52 NARIÑO"]
["52258 El Tablon de Gomez","52 NARIÑO"]
["52260 El Tambo","52 NARIÑO"]
["52287 Funes","52 NARIÑO"]
["52317 Guachucal","52 NARIÑO"]
["52320 Guaitarilla","52 NARIÑO"]
["52323 Gualmatan","52 NARIÑO"]
["52352 Iles","52 NARIÑO"]
["52354 Imues","52 NARIÑO"]
["52356 Ipiales","52 NARIÑO"]
["52378 La Cruz","52 NARIÑO"]
["52381 La Florida","52 NARIÑO"]
["52385 La Llanada","52 NARIÑO"]
["52390 La Tola","52 NARIÑO"]
["52399 La Union","52 NARIÑO"]
["52405 Leiva","52 NARIÑO"]
["52411 Linares","52 NARIÑO"]
["52418 Los Andes","52 NARIÑO"]
["52427 Magüi","52 NARIÑO"]
["52435 Mallama","52 NARIÑO"]
["52473 Mosquera","52 NARIÑO"]
["52480 Nariño","52 NARIÑO"]
["52490 Olaya Herrera","52 NARIÑO"]
["52506 Ospina","52 NARIÑO"]
["52520 Francisco Pizarro","52 NARIÑO"]
["52540 Policarpa","52 NARIÑO"]
["52560 Potosi","52 NARIÑO"]
["52565 Providencia","52 NARIÑO"]
["52573 Puerres","52 NARIÑO"]
["52585 Pupiales","52 NARIÑO"]
["52612 Ricaurte","52 NARIÑO"]
["52621 Roberto Payan","52 NARIÑO"]
["52678 Samaniego","52 NARIÑO"]
["52683 Sandona","52 NARIÑO"]
["52685 San Bernardo","52 NARIÑO"]
["52687 San Lorenzo","52 NARIÑO"]
["52693 San Pablo","52 NARIÑO"]
["52694 San Pedro de Cartago","52 NARIÑO"]
["52696 Santa Barbara","52 NARIÑO"]
["52699 Santacruz","52 NARIÑO"]
["52720 Sapuyes","52 NARIÑO"]
["52786 Taminango","52 NARIÑO"]
["52788 Tangua","52 NARIÑO"]
["52835 San Andres de Tumaco","52 NARIÑO"]
["52838 Tuquerres","52 NARIÑO"]
["52885 Yacuanquer","52 NARIÑO"]
["54001 Cucuta","54 NORTE DE SANTANDER"]
["54003 Abrego","54 NORTE DE SANTANDER"]
["54051 Arboledas","54 NORTE DE SANTANDER"]
["54099 Bochalema","54 NORTE DE SANTANDER"]
["54109 Bucarasica","54 NORTE DE SANTANDER"]
["54125 Cacota","54 NORTE DE SANTANDER"]
["54128 Cachira","54 NORTE DE SANTANDER"]
["54172 Chinacota","54 NORTE DE SANTANDER"]
["54174 Chitaga","54 NORTE DE SANTANDER"]
["54206 Convencion","54 NORTE DE SANTANDER"]
["54223 Cucutilla","54 NORTE DE SANTANDER"]
["54239 Durania","54 NORTE DE SANTANDER"]
["54245 El Carmen","54 NORTE DE SANTANDER"]
["54250 El Tarra","54 NORTE DE SANTANDER"]
["54261 El Zulia","54 NORTE DE SANTANDER"]
["54313 Gramalote","54 NORTE DE SANTANDER"]
["54344 Hacari","54 NORTE DE SANTANDER"]
["54347 Herran","54 NORTE DE SANTANDER"]
["54377 Labateca","54 NORTE DE SANTANDER"]
["54385 La Esperanza","54 NORTE DE SANTANDER"]
["54398 La Playa","54 NORTE DE SANTANDER"]
["54405 Los Patios","54 NORTE DE SANTANDER"]
["54418 Lourdes","54 NORTE DE SANTANDER"]
["54480 Mutiscua","54 NORTE DE SANTANDER"]
["54498 Ocaña","54 NORTE DE SANTANDER"]
["54518 Pamplona","54 NORTE DE SANTANDER"]
["54520 Pamplonita","54 NORTE DE SANTANDER"]
["54553 Puerto Santander","54 NORTE DE SANTANDER"]
["54599 Ragonvalia","54 NORTE DE SANTANDER"]
["54660 Salazar","54 NORTE DE SANTANDER"]
["54670 San Calixto","54 NORTE DE SANTANDER"]
["54673 San Cayetano","54 NORTE DE SANTANDER"]
["54680 Santiago","54 NORTE DE SANTANDER"]
["54720 Sardinata","54 NORTE DE SANTANDER"]
["54743 Silos","54 NORTE DE SANTANDER"]
["54800 Teorama","54 NORTE DE SANTANDER"]
["54810 Tibu","54 NORTE DE SANTANDER"]
["54820 Toledo","54 NORTE DE SANTANDER"]
["54871 Villa Caro","54 NORTE DE SANTANDER"]
["54874 Villa del Rosario","54 NORTE DE SANTANDER"]
["63001 Armenia","63 QUINDIO"]
["63111 Buenavista","63 QUINDIO"]
["63130 Calarca","63 QUINDIO"]
["63190 Circasia","63 QUINDIO"]
["63212 Cordoba","63 QUINDIO"]
["63272 Filandia","63 QUINDIO"]
["63302 Genova","63 QUINDIO"]
["63401 La Tebaida","63 QUINDIO"]
["63470 Montenegro","63 QUINDIO"]
["63548 Pijao","63 QUINDIO"]
["63594 Quimbaya","63 QUINDIO"]
["63690 Salento","63 QUINDIO"]
["66001 Pereira","66 RISARALDA"]
["66045 Apia","66 RISARALDA"]
["66075 Balboa","66 RISARALDA"]
["66088 Belen de Umbria","66 RISARALDA"]
["66170 Dosquebradas","66 RISARALDA"]
["66318 Guatica","66 RISARALDA"]
["66383 La Celia","66 RISARALDA"]
["66400 La Virginia","66 RISARALDA"]
["66440 Marsella","66 RISARALDA"]
["66456 Mistrato","66 RISARALDA"]
["66572 Pueblo Rico","66 RISARALDA"]
["66594 Quinchia","66 RISARALDA"]
["66682 Santa Rosa de Cabal","66 RISARALDA"]
["66687 Santuario","66 RISARALDA"]
["68001 Bucaramanga","68 SANTANDER"]
["68013 Aguada","68 SANTANDER"]
["68020 Albania","68 SANTANDER"]
["68051 Aratoca","68 SANTANDER"]
["68077 Barbosa","68 SANTANDER"]
["68079 Barichara","68 SANTANDER"]
["68081 Barrancabermeja","68 SANTANDER"]
["68092 Betulia","68 SANTANDER"]
["68101 Bolivar","68 SANTANDER"]
["68121 Cabrera","68 SANTANDER"]
["68132 California","68 SANTANDER"]
["68147 Capitanejo","68 SANTANDER"]
["68152 Carcasi","68 SANTANDER"]
["68160 Cepita","68 SANTANDER"]
["68162 Cerrito","68 SANTANDER"]
["68167 Charala","68 SANTANDER"]
["68169 Charta","68 SANTANDER"]
["68176 Chima","68 SANTANDER"]
["68179 Chipata","68 SANTANDER"]
["68190 Cimitarra","68 SANTANDER"]
["68207 Concepcion","68 SANTANDER"]
["68209 Confines","68 SANTANDER"]
["68211 Contratacion","68 SANTANDER"]
["68217 Coromoro","68 SANTANDER"]
["68229 Curiti","68 SANTANDER"]
["68235 El Carmen de Chucuri","68 SANTANDER"]
["68245 El Guacamayo","68 SANTANDER"]
["68250 El Peñon","68 SANTANDER"]
["68255 El Playon","68 SANTANDER"]
["68264 Encino","68 SANTANDER"]
["68266 Enciso","68 SANTANDER"]
["68271 Florian","68 SANTANDER"]
["68276 Floridablanca","68 SANTANDER"]
["68296 Galan","68 SANTANDER"]
["68298 Gambita","68 SANTANDER"]
["68307 Giron","68 SANTANDER"]
["68318 Guaca","68 SANTANDER"]
["68320 Guadalupe","68 SANTANDER"]
["68322 Guapota","68 SANTANDER"]
["68324 Guavata","68 SANTANDER"]
["68327 Güepsa","68 SANTANDER"]
["68344 Hato","68 SANTANDER"]
["68368 Jesus Maria","68 SANTANDER"]
["68370 Jordan","68 SANTANDER"]
["68377 La Belleza","68 SANTANDER"]
["68385 Landazuri","68 SANTANDER"]
["68397 La Paz","68 SANTANDER"]
["68406 Lebrija","68 SANTANDER"]
["68418 Los Santos","68 SANTANDER"]
["68425 Macaravita","68 SANTANDER"]
["68432 Malaga","68 SANTANDER"]
["68444 Matanza","68 SANTANDER"]
["68464 Mogotes","68 SANTANDER"]
["68468 Molagavita","68 SANTANDER"]
["68498 Ocamonte","68 SANTANDER"]
["68500 Oiba","68 SANTANDER"]
["68502 Onzaga","68 SANTANDER"]
["68522 Palmar","68 SANTANDER"]
["68524 Palmas del Socorro","68 SANTANDER"]
["68533 Paramo","68 SANTANDER"]
["68547 Piedecuesta","68 SANTANDER"]
["68549 Pinchote","68 SANTANDER"]
["68572 Puente Nacional","68 SANTANDER"]
["68573 Puerto Parra","68 SANTANDER"]
["68575 Puerto Wilches","68 SANTANDER"]
["68615 Rionegro","68 SANTANDER"]
["68655 Sabana de Torres","68 SANTANDER"]
["68669 San Andres","68 SANTANDER"]
["68673 San Benito","68 SANTANDER"]
["68679 San Gil","68 SANTANDER"]
["68682 San Joaquin","68 SANTANDER"]
["68684 San Jose de Miranda","68 SANTANDER"]
["68686 San Miguel","68 SANTANDER"]
["68689 San Vicente de Chucuri","68 SANTANDER"]
["68705 Santa Barbara","68 SANTANDER"]
["68720 Santa Helena del Opon","68 SANTANDER"]
["68745 Simacota","68 SANTANDER"]
["68755 Socorro","68 SANTANDER"]
["68770 Suaita","68 SANTANDER"]
["68773 Sucre","68 SANTANDER"]
["68780 Surata","68 SANTANDER"]
["68820 Tona","68 SANTANDER"]
["68855 Valle de San Jose","68 SANTANDER"]
["68861 Velez","68 SANTANDER"]
["68867 Vetas","68 SANTANDER"]
["68872 Villanueva","68 SANTANDER"]
["68895 Zapatoca","68 SANTANDER"]
["70001 Sincelejo","70 SUCRE"]
["70110 Buenavista","70 SUCRE"]
["70124 Caimito","70 SUCRE"]
["70204 Coloso","70 SUCRE"]
["70215 Corozal","70 SUCRE"]
["70221 Coveñas","70 SUCRE"]
["70230 Chalan","70 SUCRE"]
["70233 El Roble","70 SUCRE"]
["70235 Galeras","70 SUCRE"]
["70265 Guaranda","70 SUCRE"]
["70400 La Union","70 SUCRE"]
["70418 Los Palmitos","70 SUCRE"]
["70429 Majagual","70 SUCRE"]
["70473 Morroa","70 SUCRE"]
["70508 Ovejas","70 SUCRE"]
["70523 Palmito","70 SUCRE"]
["70670 Sampues","70 SUCRE"]
["70678 San Benito Abad","70 SUCRE"]
["70702 San Juan de Betulia","70 SUCRE"]
["70708 San Marcos","70 SUCRE"]
["70713 San Onofre","70 SUCRE"]
["70717 San Pedro","70 SUCRE"]
["70742 San Luis de Since","70 SUCRE"]
["70771 Sucre","70 SUCRE"]
["70820 Santiago de Tolu","70 SUCRE"]
["70823 Tolu Viejo","70 SUCRE"]
["73001 Ibague","73 TOLIMA"]
["73024 Alpujarra","73 TOLIMA"]
["73026 Alvarado","73 TOLIMA"]
["73030 Ambalema","73 TOLIMA"]
["73043 Anzoategui","73 TOLIMA"]
["73055 Armero","73 TOLIMA"]
["73067 Ataco","73 TOLIMA"]
["73124 Cajamarca","73 TOLIMA"]
["73148 Carmen de Apicala","73 TOLIMA"]
["73152 Casabianca","73 TOLIMA"]
["73168 Chaparral","73 TOLIMA"]
["73200 Coello","73 TOLIMA"]
["73217 Coyaima","73 TOLIMA"]
["73226 Cunday","73 TOLIMA"]
["73236 Dolores","73 TOLIMA"]
["73268 Espinal","73 TOLIMA"]
["73270 Falan","73 TOLIMA"]
["73275 Flandes","73 TOLIMA"]
["73283 Fresno","73 TOLIMA"]
["73319 Guamo","73 TOLIMA"]
["73347 Herveo","73 TOLIMA"]
["73349 Honda","73 TOLIMA"]
["73352 Icononzo","73 TOLIMA"]
["73408 Lerida","73 TOLIMA"]
["73411 Libano","73 TOLIMA"]
["73443 Mariquita","73 TOLIMA"]
["73449 Melgar","73 TOLIMA"]
["73461 Murillo","73 TOLIMA"]
["73483 Natagaima","73 TOLIMA"]
["73504 Ortega","73 TOLIMA"]
["73520 Palocabildo","73 TOLIMA"]
["73547 Piedras","73 TOLIMA"]
["73555 Planadas","73 TOLIMA"]
["73563 Prado","73 TOLIMA"]
["73585 Purificacion","73 TOLIMA"]
["73616 Rioblanco","73 TOLIMA"]
["73622 Roncesvalles","73 TOLIMA"]
["73624 Rovira","73 TOLIMA"]
["73671 Saldaña","73 TOLIMA"]
["73675 San Antonio","73 TOLIMA"]
["73678 San Luis","73 TOLIMA"]
["73686 Santa Isabel","73 TOLIMA"]
["73770 Suarez","73 TOLIMA"]
["73854 Valle de San Juan","73 TOLIMA"]
["73861 Venadillo","73 TOLIMA"]
["73870 Villahermosa","73 TOLIMA"]
["73873 Villarrica","73 TOLIMA"]
["76109 Buenaventura","76 BUENAVENTURA"]
["76001 Cali","76 CALI"]
["76020 Alcala","76 VALLE_DEL_CAUCA"]
["76036 Andalucia","76 VALLE_DEL_CAUCA"]
["76041 Ansermanuevo","76 VALLE_DEL_CAUCA"]
["76054 Argelia","76 VALLE_DEL_CAUCA"]
["76100 Bolivar","76 VALLE_DEL_CAUCA"]
["76111 Guadalajara de Buga","76 VALLE_DEL_CAUCA"]
["76113 Bugalagrande","76 VALLE_DEL_CAUCA"]
["76122 Caicedonia","76 VALLE_DEL_CAUCA"]
["76126 Calima","76 VALLE_DEL_CAUCA"]
["76130 Candelaria","76 VALLE_DEL_CAUCA"]
["76147 Cartago","76 VALLE_DEL_CAUCA"]
["76233 Dagua","76 VALLE_DEL_CAUCA"]
["76243 El aguila","76 VALLE_DEL_CAUCA"]
["76246 El Cairo","76 VALLE_DEL_CAUCA"]
["76248 El Cerrito","76 VALLE_DEL_CAUCA"]
["76250 El Dovio","76 VALLE_DEL_CAUCA"]
["76275 Florida","76 VALLE_DEL_CAUCA"]
["76306 Ginebra","76 VALLE_DEL_CAUCA"]
["76318 Guacari","76 VALLE_DEL_CAUCA"]
["76364 Jamundi","76 VALLE_DEL_CAUCA"]
["76377 La Cumbre","76 VALLE_DEL_CAUCA"]
["76400 La Union","76 VALLE_DEL_CAUCA"]
["76403 La Victoria","76 VALLE_DEL_CAUCA"]
["76497 Obando","76 VALLE_DEL_CAUCA"]
["76520 Palmira","76 VALLE_DEL_CAUCA"]
["76563 Pradera","76 VALLE_DEL_CAUCA"]
["76606 Restrepo","76 VALLE_DEL_CAUCA"]
["76616 Riofrio","76 VALLE_DEL_CAUCA"]
["76622 Roldanillo","76 VALLE_DEL_CAUCA"]
["76670 San Pedro","76 VALLE_DEL_CAUCA"]
["76736 Sevilla","76 VALLE_DEL_CAUCA"]
["76823 Toro","76 VALLE_DEL_CAUCA"]
["76828 Trujillo","76 VALLE_DEL_CAUCA"]
["76834 Tulua","76 VALLE_DEL_CAUCA"]
["76845 Ulloa","76 VALLE_DEL_CAUCA"]
["76863 Versalles","76 VALLE_DEL_CAUCA"]
["76869 Vijes","76 VALLE_DEL_CAUCA"]
["76890 Yotoco","76 VALLE_DEL_CAUCA"]
["76892 Yumbo","76 VALLE_DEL_CAUCA"]
["76895 Zarzal","76 VALLE_DEL_CAUCA"]
["81001 Arauca","81 ARAUCA"]
["81065 Arauquita","81 ARAUCA"]
["81220 Cravo Norte","81 ARAUCA"]
["81300 Fortul","81 ARAUCA"]
["81591 Puerto Rondon","81 ARAUCA"]
["81736 Saravena","81 ARAUCA"]
["81794 Tame","81 ARAUCA"]
["85001 Yopal","85 CASANARE"]
["85010 Aguazul","85 CASANARE"]
["85015 Chameza","85 CASANARE"]
["85125 Hato Corozal","85 CASANARE"]
["85136 La Salina","85 CASANARE"]
["85139 Mani","85 CASANARE"]
["85162 Monterrey","85 CASANARE"]
["85225 Nunchia","85 CASANARE"]
["85230 Orocue","85 CASANARE"]
["85250 Paz de Ariporo","85 CASANARE"]
["85263 Pore","85 CASANARE"]
["85279 Recetor","85 CASANARE"]
["85300 Sabanalarga","85 CASANARE"]
["85315 Sacama","85 CASANARE"]
["85325 San Luis de Palenque","85 CASANARE"]
["85400 Tamara","85 CASANARE"]
["85410 Tauramena","85 CASANARE"]
["85430 Trinidad","85 CASANARE"]
["85440 Villanueva","85 CASANARE"]
["86001 Mocoa","86 PUTUMAYO"]
["86219 Colon","86 PUTUMAYO"]
["86320 Orito","86 PUTUMAYO"]
["86568 Puerto Asis","86 PUTUMAYO"]
["86569 Puerto Caicedo","86 PUTUMAYO"]
["86571 Puerto Guzman","86 PUTUMAYO"]
["86573 Leguizamo","86 PUTUMAYO"]
["86749 Sibundoy","86 PUTUMAYO"]
["86755 San Francisco","86 PUTUMAYO"]
["86757 San Miguel","86 PUTUMAYO"]
["86760 Santiago","86 PUTUMAYO"]
["86865 Valle del Guamuez","86 PUTUMAYO"]
["86885 Villagarzon","86 PUTUMAYO"]
["88001 San Andres","88 SAN_ANDRES_ISLAS"]
["88564 Providencia","88 SAN_ANDRES_ISLAS"]
["91001 Leticia","91 AMAZONAS"]
["91263 El Encanto (ANM)","91 AMAZONAS"]
["91405 La Chorrera (ANM)","91 AMAZONAS"]
["91407 La Pedrera (ANM)","91 AMAZONAS"]
["91430 La Victoria (ANM)","91 AMAZONAS"]
["91460 Miriti - Parana (ANM)","91 AMAZONAS"]
["91530 Puerto Alegria (ANM)","91 AMAZONAS"]
["91536 Puerto Arica (ANM)","91 AMAZONAS"]
["91540 Puerto Nariño","91 AMAZONAS"]
["91669 Puerto Santander (ANM)","91 AMAZONAS"]
["91798 Tarapaca (ANM)","91 AMAZONAS"]
["94001 Inirida","94 GUAINIA"]
["94343 Barranco Minas (ANM)","94 GUAINIA"]
["94663 Mapiripana (ANM)","94 GUAINIA"]
["94883 San Felipe (ANM)","94 GUAINIA"]
["94884 Puerto Colombia (ANM)","94 GUAINIA"]
["94885 La Guadalupe (ANM)","94 GUAINIA"]
["94886 Cacahual (ANM)","94 GUAINIA"]
["94887 Pana Pana (ANM)","94 GUAINIA"]
["94888 Morichal (ANM)","94 GUAINIA"]
["95001 San Jose del Guaviare","95 GUAVIARE"]
["95015 Calamar","95 GUAVIARE"]
["95025 El Retorno","95 GUAVIARE"]
["95200 Miraflores","95 GUAVIARE"]
["97001 Mitu","97 VAUPES"]
["97161 Caruru","97 VAUPES"]
["97511 Pacoa (ANM)","97 VAUPES"]
["97666 Taraira","97 VAUPES"]
["97777 Papunaua (ANM)","97 VAUPES"]
["97889 Yavarate (ANM)","97 VAUPES"]
["99001 Puerto Carreño","99 VICHADA"]
["99524 La Primavera","99 VICHADA"]
["99624 Santa Rosalia","99 VICHADA"]
["99773 Cumaribo","99 VICHADA"]

{"sheet":"ET","index":2,"n_rows":39,"n_cols":1,"rows_kept":39,"cut":false,"hidden":true,"merged":[]}
["Código Depto"]
["05 ANTIOQUIA"]
["08 ATLANTICO"]
["08 BARRANQUILLA"]
["11 BOGOTA D.C."]
["13 BOLIVAR"]
["13 CARTAGENA"]
["15 BOYACA"]
["17 CALDAS"]
["18 CAQUETA"]
["19 CAUCA"]
["20 CESAR"]
["23 CORDOBA"]
["25 CUNDINAMARCA"]
["27 CHOCO"]
["41 HUILA"]
["44 LA_GUAJIRA"]
["47 MAGDALENA"]
["47 SANTA MARTHA"]
["50 META"]
["52 NARIÑO"]
["54 NORTE DE SANTANDER"]
["63 QUINDIO"]
["66 RISARALDA"]
["68 SANTANDER"]
["70 SUCRE"]
["73 TOLIMA"]
["76 BUENAVENTURA"]
["76 CALI"]
["76 VALLE_DEL_CAUCA"]
["81 ARAUCA"]
["85 CASANARE"]
["86 PUTUMAYO"]
["88 SAN_ANDRES_ISLAS"]
["91 AMAZONAS"]
["94 GUAINIA"]
["95 GUAVIARE"]
["97 VAUPES"]
["99 VICHADA"]

{"sheet":"ENERO","index":3,"n_rows":422,"n_cols":41,"rows_kept":422,"cut":false,"hidden":false,"merged":[[8,36,11,36],[306,35,308,35],[306,36,308,36],[366,35,368,35],[366,36,368,36],[264,6,268,6],[270,6,274,6],[276,6,280,6],[282,6,286,6],[288,6,292,6],[306,6,308,6],[366,6,368,6],[8,6,8,8],[305,8,305,10],[366,10,368,10],[366,8,368,8],[305,6,305,7],[37,6,41,6],[43,6,47,6],[55,6,59,6],[61,6,65,6],[67,6,71,6],[73,6,77,6],[79,6,83,6],[85,6,89,6],[91,6,95,6],[97,6,101,6],[103,6,107,6],[109,6,113,6],[115,6,119,6],[121,6,125,6],[169,6,173,6],[8,35,11,35],[133,6,137,6],[139,6,143,6],[133,5,137,5],[139,5,143,5],[145,5,149,5],[151,5,155,5],[85,5,89,5],[91,5,95,5],[97,5,101,5],[103,5,107,5],[109,5,113,5],[115,5,119,5],[276,5,280,5],[61,5,65,5],[67,5,71,5],[73,5,77,5],[79,5,83,5],[245,5,249,5],[169,5,173,5],[175,5,179,5],[181,5,185,5],[151,6,155,6],[188,6,192,6],[194,6,198,6],[200,6,204,6],[206,6,210,6],[212,6,216,6],[218,6,222,6],[224,6,228,6],[231,6,237,6],[239,6,243,6],[418,0,418,1],[397,0,397,1],[398,0,398,1],[399,0,399,1],[388,0,388,1],[389,0,389,1],[390,0,390,1],[391,0,391,1],[392,0,392,1],[393,0,393,1],[382,0,382,1],[383,0,383,1],[384,0,384,1],[385,0,385,1],[386,0,386,1],[387,0,387,1],[188,5,192,5],[376,0,376,1],[344,0,344,1],[345,0,345,1],[334,0,334,1],[335,0,335,1],[336,0,336,1],[337,0,337,1],[338,0,338,1],[339,0,339,1],[328,0,328,1],[329,0,329,1],[330,0,330,1],[331,0,331,1],[332,0,332,1],[333,0,333,1],[245,6,249,6],[359,0,359,1],[360,0,360,1],[419,0,419,1],[352,0,352,1],[353,0,353,1],[354,0,354,1],[355,0,355,1],[356,0,356,1],[357,0,357,1],[403,0,403,1],[365,0,368,1],[251,5,255,5],[257,5,262,5],[264,5,268,5],[270,5,274,5],[200,5,204,5],[206,5,210,5],[212,5,216,5],[218,5,222,5],[224,5,228,5],[231,5,237,5],[282,5,286,5],[404,0,404,1],[405,0,405,1],[394,0,394,1],[395,0,395,1],[396,0,396,1],[361,0,361,1],[374,0,374,1],[375,0,375,1],[343,0,343,1],[420,0,420,1],[421,0,421,1],[9,5,11,5],[13,5,17,5],[19,5,23,5],[25,5,29,5],[31,5,35,5],[37,5,41,5],[412,0,412,1],[413,0,413,1],[414,0,414,1],[415,0,415,1],[416,0,416,1],[417,0,417,1],[406,0,406,1],[407,0,407,1],[408,0,408,1],[409,0,409,1],[410,0,410,1],[411,0,411,1],[400,0,400,1],[401,0,401,1],[402,0,402,1],[377,0,377,1],[378,0,378,1],[379,0,379,1],[380,0,380,1],[381,0,381,1],[370,0,370,1],[371,0,371,1],[372,0,372,1],[373,0,373,1],[366,25,368,25],[366,26,368,26],[366,27,368,27],[367,16,368,16],[367,17,368,17],[369,0,369,1],[366,19,368,19],[366,20,368,20],[366,21,368,21],[366,22,368,22],[366,23,368,23],[366,24,368,24],[365,3,368,3],[365,11,368,11],[365,16,365,27],[366,4,368,4],[366,7,368,7],[366,9,368,9],[366,16,366,17],[366,18,368,18],[366,5,368,5],[365,8,365,10],[365,6,365,7],[365,4,365,5],[365,2,368,2],[322,0,322,1],[323,0,323,1],[324,0,324,1],[325,0,325,1],[326,0,326,1],[327,0,327,1],[346,0,346,1],[347,0,347,1],[348,0,348,1],[349,0,349,1],[350,0,350,1],[351,0,351,1],[340,0,340,1],[341,0,341,1],[342,0,342,1],[358,0,358,1],[297,0,297,1],[298,0,298,1],[301,0,303,12],[304,0,304,12],[305,0,308,1],[305,2,308,2],[305,3,308,3],[305,4,305,5],[316,0,316,1],[317,0,317,1],[318,0,318,1],[319,0,319,1],[320,0,320,1],[321,0,321,1],[310,0,310,1],[311,0,311,1],[312,0,312,1],[313,0,313,1],[314,0,314,1],[315,0,315,1],[309,0,309,1],[306,20,308,20],[306,21,308,21],[306,22,308,22],[306,23,308,23],[288,16,292,16],[288,17,292,17],[288,18,292,18],[288,19,292,19],[306,24,308,24],[306,25,308,25],[305,16,305,27],[306,4,308,4],[306,7,308,7],[306,8,308,8],[306,9,308,9],[306,10,308,10],[306,11,308,11],[306,16,306,17],[306,18,308,18],[306,19,308,19],[306,5,308,5],[288,8,292,8],[288,9,292,9],[306,26,308,26],[306,27,308,27],[306,28,308,28],[307,16,308,16],[307,17,308,17],[288,5,292,5],[282,24,286,24],[282,25,286,25],[282,26,286,26],[282,27,286,27],[282,28,286,28],[288,0,293,1],[288,2,292,2],[288,3,292,3],[288,4,292,4],[288,7,292,7],[282,18,286,18],[282,19,286,19],[282,20,286,20],[282,21,286,21],[282,22,286,22],[282,23,286,23],[288,26,292,26],[288,27,292,27],[288,28,292,28],[294,0,294,1],[295,0,295,1],[296,0,296,1],[288,20,292,20],[288,21,292,21],[288,22,292,22],[288,23,292,23],[288,24,292,24],[288,25,292,25],[282,0,287,1],[282,2,286,2],[282,3,286,3],[282,4,286,4],[282,7,286,7],[282,8,286,8],[282,9,286,9],[282,16,286,16],[282,17,286,17],[276,22,280,22],[276,23,280,23],[276,24,280,24],[276,25,280,25],[276,26,280,26],[276,27,280,27],[276,16,280,16],[276,17,280,17],[276,18,280,18],[276,19,280,19],[276,20,280,20],[276,21,280,21],[270,26,274,26],[270,27,274,27],[270,28,274,28],[276,0,281,1],[276,2,280,2],[276,3,280,3],[276,4,280,4],[276,7,280,7],[276,8,280,8],[276,9,280,9],[270,20,274,20],[270,21,274,21],[270,22,274,22],[270,23,274,23],[270,24,274,24],[270,25,274,25],[270,8,274,8],[270,9,274,9],[270,16,274,16],[270,17,274,17],[270,18,274,18],[270,19,274,19],[276,28,280,28],[264,24,268,24],[264,25,268,25],[264,26,268,26],[264,27,268,27],[264,28,268,28],[270,0,275,1],[270,2,274,2],[270,3,274,3],[270,4,274,4],[270,7,274,7],[264,18,268,18],[264,19,268,19],[264,20,268,20],[264,21,268,21],[264,22,268,22],[264,23,268,23],[257,28,262,28],[264,0,269,1],[264,2,268,2],[264,3,268,3],[264,4,268,4],[264,7,268,7],[264,8,268,8],[264,9,268,9],[264,16,268,16],[264,17,268,17],[257,22,262,22],[257,23,262,23],[257,24,262,24],[257,25,262,25],[257,26,262,26],[257,27,262,27],[257,16,262,16],[257,17,262,17],[257,18,262,18],[257,19,262,19],[257,20,262,20],[257,21,262,21],[251,26,255,26],[251,27,255,27],[251,28,255,28],[257,0,263,1],[257,2,262,2],[257,3,262,3],[257,4,262,4],[257,7,262,7],[257,8,262,8],[257,9,262,9],[251,20,255,20],[251,21,255,21],[251,22,255,22],[251,23,255,23],[251,24,255,24],[251,25,255,25],[251,8,255,8],[251,9,255,9],[251,16,255,16],[251,17,255,17],[251,18,255,18],[251,19,255,19],[257,6,262,6],[251,6,255,6],[245,24,249,24],[245,25,249,25],[245,26,249,26],[245,27,249,27],[245,28,249,28],[251,0,256,1],[251,2,255,2],[251,3,255,3],[251,4,255,4],[251,7,255,7],[245,18,249,18],[245,19,249,19],[245,20,249,20],[245,21,249,21],[245,22,249,22],[245,23,249,23],[239,28,243,28],[245,0,250,1],[245,2,249,2],[245,3,249,3],[245,4,249,4],[245,7,249,7],[245,8,249,8],[245,9,249,9],[245,16,249,16],[245,17,249,17],[239,22,243,22],[239,23,243,23],[239,24,243,24],[239,25,243,25],[239,26,243,26],[239,27,243,27],[239,16,243,16],[239,17,243,17],[239,18,243,18],[239,19,243,19],[239,20,243,20],[239,21,243,21],[231,26,237,26],[231,27,237,27],[231,28,237,28],[239,0,244,1],[239,2,243,2],[239,3,243,3],[239,4,243,4],[239,7,243,7],[239,8,243,8],[239,9,243,9],[231,20,237,20],[231,21,237,21],[231,22,237,22],[231,23,237,23],[231,24,237,24],[231,25,237,25],[231,8,237,8],[231,9,237,9],[231,16,237,16],[231,17,237,17],[231,18,237,18],[231,19,237,19],[239,5,243,5],[230,0,230,1],[231,0,238,1],[231,2,237,2],[231,3,237,3],[231,4,237,4],[231,7,237,7],[224,23,228,23],[224,24,228,24],[224,25,228,25],[224,26,228,26],[224,27,228,27],[224,28,228,28],[224,17,228,17],[224,18,228,18],[224,19,228,19],[224,20,228,20],[224,21,228,21],[224,22,228,22],[218,27,222,27],[218,28,222,28],[224,0,229,1],[224,2,228,2],[224,3,228,3],[224,4,228,4],[224,7,228,7],[224,8,228,8],[224,9,228,9],[224,16,228,16],[218,21,222,21],[218,22,222,22],[218,23,222,23],[218,24,222,24],[218,25,222,25],[218,26,222,26],[218,9,222,9],[218,16,222,16],[218,17,222,17],[218,18,222,18],[218,19,222,19],[218,20,222,20],[218,0,223,1],[218,2,222,2],[218,3,222,3],[218,4,222,4],[218,7,222,7],[218,8,222,8],[212,23,216,23],[212,24,216,24],[212,25,216,25],[212,26,216,26],[212,27,216,27],[212,28,216,28],[212,17,216,17],[212,18,216,18],[212,19,216,19],[212,20,216,20],[212,21,216,21],[212,22,216,22],[206,27,210,27],[206,28,210,28],[212,0,217,1],[212,2,216,2],[212,3,216,3],[212,4,216,4],[212,7,216,7],[212,8,216,8],[212,9,216,9],[212,16,216,16],[206,21,210,21],[206,22,210,22],[206,23,210,23],[206,24,210,24],[206,25,210,25],[206,26,210,26],[206,9,210,9],[206,16,210,16],[206,17,210,17],[206,18,210,18],[206,19,210,19],[206,20,210,20],[206,0,211,1],[206,2,210,2],[206,3,210,3],[206,4,210,4],[206,7,210,7],[206,8,210,8],[200,23,204,23],[200,24,204,24],[200,25,204,25],[200,26,204,26],[200,27,204,27],[200,28,204,28],[200,17,204,17],[200,18,204,18],[200,19,204,19],[200,20,204,20],[200,21,204,21],[200,22,204,22],[194,27,198,27],[194,28,198,28],[200,0,205,1],[200,2,204,2],[200,3,204,3],[200,4,204,4],[200,7,204,7],[200,8,204,8],[200,9,204,9],[200,16,204,16],[194,21,198,21],[194,22,198,22],[194,23,198,23],[194,24,198,24],[194,25,198,25],[194,26,198,26],[194,9,198,9],[194,16,198,16],[194,17,198,17],[194,18,198,18],[194,19,198,19],[194,20,198,20],[194,0,199,1],[194,2,198,2],[194,3,198,3],[194,4,198,4],[194,7,198,7],[194,8,198,8],[194,5,198,5],[188,23,192,23],[188,24,192,24],[188,25,192,25],[188,26,192,26],[188,27,192,27],[188,28,192,28],[188,17,192,17],[188,18,192,18],[188,19,192,19],[188,20,192,20],[188,21,192,21],[188,22,192,22],[181,28,185,28],[187,0,187,1],[188,0,193,1],[188,2,192,2],[188,3,192,3],[188,4,192,4],[188,7,192,7],[188,8,192,8],[188,9,192,9],[188,16,192,16],[181,22,185,22],[181,23,185,23],[181,24,185,24],[181,25,185,25],[181,26,185,26],[181,27,185,27],[181,16,185,16],[181,17,185,17],[181,18,185,18],[181,19,185,19],[181,20,185,20],[181,21,185,21],[175,26,179,26],[175,27,179,27],[175,28,179,28],[181,0,186,1],[181,2,185,2],[181,3,185,3],[181,4,185,4],[181,7,185,7],[181,8,185,8],[181,9,185,9],[175,20,179,20],[175,21,179,21],[175,22,179,22],[175,23,179,23],[175,24,179,24],[175,25,179,25],[175,8,179,8],[175,9,179,9],[175,16,179,16],[175,17,179,17],[175,18,179,18],[175,19,179,19],[175,6,179,6],[181,6,185,6],[169,24,173,24],[169,25,173,25],[169,26,173,26],[169,27,173,27],[169,28,173,28],[175,0,180,1],[175,2,179,2],[175,3,179,3],[175,4,179,4],[175,7,179,7],[169,18,173,18],[169,19,173,19],[169,20,173,20],[169,21,173,21],[169,22,173,22],[169,23,173,23],[163,28,167,28],[169,0,174,1],[169,2,173,2],[169,3,173,3],[169,4,173,4],[169,7,173,7],[169,8,173,8],[169,9,173,9],[169,16,173,16],[169,17,173,17],[163,22,167,22],[163,23,167,23],[163,24,167,24],[163,25,167,25],[163,26,167,26],[163,27,167,27],[163,16,167,16],[163,17,167,17],[163,18,167,18],[163,19,167,19],[163,20,167,20],[163,21,167,21],[157,26,161,26],[157,27,161,27],[157,28,161,28],[163,0,168,1],[163,2,167,2],[163,3,167,3],[163,4,167,4],[163,7,167,7],[163,8,167,8],[163,9,167,9],[157,20,161,20],[157,21,161,21],[157,22,161,22],[157,23,161,23],[157,24,161,24],[157,25,161,25],[157,8,161,8],[157,9,161,9],[157,16,161,16],[157,17,161,17],[157,18,161,18],[157,19,161,19],[157,6,161,6],[163,6,167,6],[157,5,161,5],[163,5,167,5],[151,24,155,24],[151,25,155,25],[151,26,155,26],[151,27,155,27],[151,28,155,28],[157,0,162,1],[157,2,161,2],[157,3,161,3],[157,4,161,4],[157,7,161,7],[151,18,155,18],[151,19,155,19],[151,20,155,20],[151,21,155,21],[151,22,155,22],[151,23,155,23],[145,28,149,28],[151,0,156,1],[151,2,155,2],[151,3,155,3],[151,4,155,4],[151,7,155,7],[151,8,155,8],[151,9,155,9],[151,16,155,16],[151,17,155,17],[145,22,149,22],[145,23,149,23],[145,24,149,24],[145,25,149,25],[145,26,149,26],[145,27,149,27],[145,16,149,16],[145,17,149,17],[145,18,149,18],[145,19,149,19],[145,20,149,20],[145,21,149,21],[139,26,143,26],[139,27,143,27],[139,28,143,28],[145,0,150,1],[145,2,149,2],[145,3,149,3],[145,4,149,4],[145,7,149,7],[145,8,149,8],[145,9,149,9],[139,20,143,20],[139,21,143,21],[139,22,143,22],[139,23,143,23],[139,24,143,24],[139,25,143,25],[139,8,143,8],[139,9,143,9],[139,16,143,16],[139,17,143,17],[139,18,143,18],[139,19,143,19],[145,6,149,6],[133,24,137,24],[133,25,137,25],[133,26,137,26],[133,27,137,27],[133,28,137,28],[139,0,144,1],[139,2,143,2],[139,3,143,3],[139,4,143,4],[139,7,143,7],[133,18,137,18],[133,19,137,19],[133,20,137,20],[133,21,137,21],[133,22,137,22],[133,23,137,23],[127,28,131,28],[133,0,138,1],[133,2,137,2],[133,3,137,3],[133,4,137,4],[133,7,137,7],[133,8,137,8],[133,9,137,9],[133,16,137,16],[133,17,137,17],[127,22,131,22],[127,23,131,23],[127,24,131,24],[127,25,131,25],[127,26,131,26],[127,27,131,27],[127,16,131,16],[127,17,131,17],[127,18,131,18],[127,19,131,19],[127,20,131,20],[127,21,131,21],[121,26,125,26],[121,27,125,27],[121,28,125,28],[127,0,132,1],[127,2,131,2],[127,3,131,3],[127,4,131,4],[127,7,131,7],[127,8,131,8],[127,9,131,9],[121,20,125,20],[121,21,125,21],[121,22,125,22],[121,23,125,23],[121,24,125,24],[121,25,125,25],[121,8,125,8],[121,9,125,9],[121,16,125,16],[121,17,125,17],[121,18,125,18],[121,19,125,19],[121,5,125,5],[127,5,131,5],[127,6,131,6],[115,24,119,24],[115,25,119,25],[115,26,119,26],[115,27,119,27],[115,28,119,28],[121,0,126,1],[121,2,125,2],[121,3,125,3],[121,4,125,4],[121,7,125,7],[115,18,119,18],[115,19,119,19],[115,20,119,20],[115,21,119,21],[115,22,119,22],[115,23,119,23],[109,28,113,28],[115,0,120,1],[115,2,119,2],[115,3,119,3],[115,4,119,4],[115,7,119,7],[115,8,119,8],[115,9,119,9],[115,16,119,16],[115,17,119,17],[109,22,113,22],[109,23,113,23],[109,24,113,24],[109,25,113,25],[109,26,113,26],[109,27,113,27],[109,16,113,16],[109,17,113,17],[109,18,113,18],[109,19,113,19],[109,20,113,20],[109,21,113,21],[103,26,107,26],[103,27,107,27],[103,28,107,28],[109,0,114,1],[109,2,113,2],[109,3,113,3],[109,4,113,4],[109,7,113,7],[109,8,113,8],[109,9,113,9],[103,20,107,20],[103,21,107,21],[103,22,107,22],[103,23,107,23],[103,24,107,24],[103,25,107,25],[103,8,107,8],[103,9,107,9],[103,16,107,16],[103,17,107,17],[103,18,107,18],[103,19,107,19],[97,24,101,24],[97,25,101,25],[97,26,101,26],[97,27,101,27],[97,28,101,28],[103,0,108,1],[103,2,107,2],[103,3,107,3],[103,4,107,4],[103,7,107,7],[97,18,101,18],[97,19,101,19],[97,20,101,20],[97,21,101,21],[97,22,101,22],[97,23,101,23],[91,28,95,28],[97,0,102,1],[97,2,101,2],[97,3,101,3],[97,4,101,4],[97,7,101,7],[97,8,101,8],[97,9,101,9],[97,16,101,16],[97,17,101,17],[91,22,95,22],[91,23,95,23],[91,24,95,24],[91,25,95,25],[91,26,95,26],[91,27,95,27],[91,16,95,16],[91,17,95,17],[91,18,95,18],[91,19,95,19],[91,20,95,20],[91,21,95,21],[85,26,89,26],[85,27,89,27],[85,28,89,28],[91,0,96,1],[91,2,95,2],[91,3,95,3],[91,4,95,4],[91,7,95,7],[91,8,95,8],[91,9,95,9],[85,20,89,20],[85,21,89,21],[85,22,89,22],[85,23,89,23],[85,24,89,24],[85,25,89,25],[85,8,89,8],[85,9,89,9],[85,16,89,16],[85,17,89,17],[85,18,89,18],[85,19,89,19],[79,24,83,24],[79,25,83,25],[79,26,83,26],[79,27,83,27],[79,28,83,28],[85,0,90,1],[85,2,89,2],[85,3,89,3],[85,4,89,4],[85,7,89,7],[79,18,83,18],[79,19,83,19],[79,20,83,20],[79,21,83,21],[79,22,83,22],[79,23,83,23],[73,28,77,28],[79,0,84,1],[79,2,83,2],[79,3,83,3],[79,4,83,4],[79,7,83,7],[79,8,83,8],[79,9,83,9],[79,16,83,16],[79,17,83,17],[73,22,77,22],[73,23,77,23],[73,24,77,24],[73,25,77,25],[73,26,77,26],[73,27,77,27],[73,16,77,16],[73,17,77,17],[73,18,77,18],[73,19,77,19],[73,20,77,20],[73,21,77,21],[67,26,71,26],[67,27,71,27],[67,28,71,28],[73,0,78,1],[73,2,77,2],[73,3,77,3],[73,4,77,4],[73,7,77,7],[73,8,77,8],[73,9,77,9],[67,20,71,20],[67,21,71,21],[67,22,71,22],[67,23,71,23],[67,24,71,24],[67,25,71,25],[67,8,71,8],[67,9,71,9],[67,16,71,16],[67,17,71,17],[67,18,71,18],[67,19,71,19],[61,26,65,26]],"merged_total":1233,"flags":["merged_cut"]}
[]
[null,null,null,null,"DIRECCION DE PROMOCIÓN Y PREVENCIÓN - SUBDIRECCION DE ENFERMEDADES TRANSMISIBLES"]
[null,null,null,null,"GRUPO DE INMUNOPREVENIBLES - PROGRAMA AMPLIADO DE INMUNIZACIONES"]
[null,null,null,null,"INFORME MOVIMIENTO MENSUAL DE BIOLÓGICOS "]
[]
["ENTIDAD TERRITORIAL","73 TOLIMA",null,"MUNICIPIO","73001 Ibague",null,null,null,null,"MES:",null,null,null,"AÑO:"]
[]
["CENTRO DE ACOPIO (corresponde al movimiento de insumos del centro de acopio departamental o distrital)"]
["INSUMOS",null,"SALDO MES ANTERIOR","ENTRADAS","ENTRADA",null,"SALIDAS",null,null,"SALDO QUE INICIA EL MES SIGUIENTE","CANTIDAD EN DOSIS","LOTE ","FECHA DE VENCIMIENTO","CONTROL \nDIGITAL POR VENTANA DE USO",null,null,"CAUSAS DE PERDIDA DE BIOLÓGICO ",null,null,null,null,null,null,null,null,null,null,null,"TOTAL DOSIS PERDIDAS        ",null,"PORCENTAJE DE PERDIDA",null,null,null,null,"DOSIS EN CUARENTENA","LOTE","REPORTE AL INVIMA"]
[null,null,null,null,"CANTIDAD DE DESPACHOS","TRASLADOS RECIBIDOS","CANTIDAD DE DESPACHOS","TRASLADOS ENVIADOS","DOSIS PERDIDAS",null,null,null,null,null,null,null," POR FRASCO ABIERTO  ",null,"INTERRUPCION DE CADENA DE FRIO","APLICACIÓN FUERA DE LA EDAD","CONTAMINACION DEL BIOLÓGICO/DISPOSITIVO MÉDICO","FRASCO/VIAL  ROTO","ERRORES EN LA MANIPULACION","VENCIMIENTO DEL BIOLÓGICO/DISPOSITIVO MÉDICO","FARMACOVIGILANCIA/ TECNOVIGILANCIA","VOMITO FRANCO","SINIESTRO O ROBO","RECONSTITUCION BIOLÓGICO"]
[null,null,null,null,null,null,null,null,null,null,null,null,null,null,null,null,"INSTITUCIONAL","EXTRAMURAL"]
[]
["INMUNOBIOLÓGICOS"]
["BCG (vacuna)",null,null,null,null,null,null,null,{"$f":"AC14","v":0},{"$f":"+(C14+D14+F14+E14)-(G14+H14+I14)+SUM(AJ14:AJ18)","v":0},null,null,null,{"$f":"IFERROR(IF(DATEDIF(TODAY(),M14,\"M\")<=6,\"ROJO\",IF(DATEDIF(TODAY(),M14,\"M\")>=12,\"VERDE\",IF(AND(DATEDIF(TODAY(),M14,\"M\")>6,DATEDIF(TODAY(),M14,\"M\")<=11),\"AMARILLO\",IF(M14<TODAY(),\"VENCIDO\",0)))),O14)","v":""},{"$f":"IF(M14=0,\"\",\"VENCIDO\")","v":""},null,null,null,null,null,null,null,null,null,null,null,null,null,{"$f":"SUM(Q14:AB18)","v":0},null,0.01,null,null,{"$f":"+IF(AC14<>I14,1,0)","v":0},null,null,null,null,null,"AMAZONAS","ENERO"]
[null,null,null,null,null,null,null,null,null,null,null,null,null,{"$f":"IFERROR(IF(DATEDIF(TODAY(),M15,\"M\")<=6,\"ROJO\",IF(DATEDIF(TODAY(),M15,\"M\")>=12,\"VERDE\",IF(AND(DATEDIF(TODAY(),M15,\"M\")>6,DATEDIF(TODAY(),M15,\"M\")<=11),\"AMARILLO\",IF(M15<TODAY(),\"VENCIDO\",0)))),O15)","v":""},{"$f":"IF(M15=0,\"\",\"VENCIDO\")","v":""},null,null,null,null,null,null,null,null,null,null,null,null,null,null,null,null,null,null,null,null,null,null,null,null,"ANTIOQUIA","FEBRERO"]
[null,null,null,null,null,null,null,null,null,null,null,null,null,"","",null,null,null,null,null,null,null,null,null,null,null,null,null,null,null,null,null,null,null,null,null,null,null,null,"ARAUCA","MARZO"]
[null,null,null,null,null,null,null,null,null,null,null,null,null,"","",null,null,null,null,null,null,null,null,null,null,null,null,null,null,null,null,null,null,null,null,null,null,null,null,"ATLANTICO","ABRIL"]
[null,null,null,null,null,null,null,null,null,null,null,null,null,"","",null,null,null,null,null,null,null,null,null,null,null,null,null,null,null,null,null,null,null,null,null,null,null,null,"BARRANQUILLA","MAYO"]
[null,null,null,null,null,null,null,null,null,{"$f":"J14=K19","v":true},{"$f":"SUM(K14:K18)","v":0},null,null,{"$f":"IFERROR(IF(DATEDIF(TODAY(),M19,\"M\")<=6,\"ROJO\",IF(DATEDIF(TODAY(),M19,\"M\")>=12,\"VERDE\",IF(AND(DATEDIF(TODAY(),M19,\"M\")>6,DATEDIF(TODAY(),M19,\"M\")<=11),\"AMARILLO\",IF(M19<TODAY(),\"VENCIDO\",0)))),O19)","v":""},"",null,null,null,null,null,null,null,null,null,null,null,null,null,null,null,null,null,null,null,null,null,null,null,null,"BOGOTA D.C.","JUNIO"]
["Hepatitis B pediátrica ",null,null,null,null,null,null,null,{"$f":"AC20","v":0},{"$f":"+(C20+D20+F20+E20)-(G20+H20+I20)+SUM(AJ20:AJ24)","v":0},null,null,null,"","",null,null,null,null,null,null,null,null,null,null,null,null,null,{"$f":"SUM(Q20:AB24)","v":0},null,{"$f":"IFERROR(AA18*100/(W18+AA18),0)","v":0},null,null,{"$f":"+IF(AC20<>I20,1,0)","v":0},null,null,null,null,null,"BOLIVAR","JULIO"]
[null,null,null,null,null,null,null,null,null,null,null,null,null,"","",null,null,null,null,null,null,null,null,null,null,null,null,null,null,null,null,null,null,null,null,null,null,null,null,"CARTAGENA","AGOSTO"]
[null,null,null,null,null,null,null,null,null,null,null,null,null,"","",null,null,null,null,null,null,null,null,null,null,null,null,null,null,null,null,null,null,null,null,null,null,null,null,"BOYACA","SEPTIEMBRE"]
[null,null,null,null,null,null,null,null,null,null,null,null,null,"","",null,null,null,null,null,null,null,null,null,null,null,null,null,null,null,null,null,null,null,null,null,null,null,null,"CALDAS","OCTUBRE"]
[null,null,null,null,null,null,null,null,null,null,null,null,null,"","",null,null,null,null,null,null,null,null,null,null,null,null,null,null,null,null,null,null,null,null,null,null,null,null,"CAQUETA","NOVIEMBRE"]
[null,null,null,null,null,null,null,null,null,{"$f":"J20=K25","v":true},{"$f":"SUM(K20:K24)","v":0},null,null,"","",null,null,null,null,null,null,null,null,null,null,null,null,null,null,null,{"$f":"IFERROR(AA23*100/(W23+AA23),0)","v":0},null,null,null,null,null,null,null,null,"CASANARE","DICIEMBRE"]
["Hepatitis B adultos ",null,null,null,null,null,null,null,{"$f":"AC26","v":0},{"$f":"+(C26+D26+F26+E26)-(G26+H26+I26)+SUM(AJ26:AJ30)","v":0},null,null,null,"","",null,null,null,null,null,null,null,null,null,null,null,null,null,{"$f":"SUM(Q26:AB30)","v":0},null,null,null,null,{"$f":"+IF(AC26<>I26,1,0)","v":0},null,null,null,null,null,"BOLIVAR"]
[null,null,null,null,null,null,null,null,null,null,null,null,null,"","",null,null,null,null,null,null,null,null,null,null,null,null,null,null,null,null,null,null,null,null,null,null,null,null,"CARTAGENA"]
[null,null,null,null,null,null,null,null,null,null,null,null,null,"","",null,null,null,null,null,null,null,null,null,null,null,null,null,null,null,null,null,null,null,null,null,null,null,null,"BOYACA"]
[null,null,null,null,null,null,null,null,null,null,null,null,null,"","",null,null,null,null,null,null,null,null,null,null,null,null,null,null,null,null,null,null,null,null,null,null,null,null,"CALDAS"]
[null,null,null,null,null,null,null,null,null,null,null,null,null,"","",null,null,null,null,null,null,null,null,null,null,null,null,null,null,null,null,null,null,null,null,null,null,null,null,"CAQUETA"]
[null,null,null,null,null,null,null,null,null,{"$f":"J26=K31","v":true},{"$f":"SUM(K26:K30)","v":0},null,null,"","",null,null,null,null,null,null,null,null,null,null,null,null,null,null,null,{"$f":"IFERROR(AA29*100/(W29+AA29),0)","v":0},null,null,null,null,null,null,null,null,"CASANARE"]
["Polio inactivada - VIP",null,null,null,null,null,null,null,{"$f":"AC32","v":0},{"$f":"+(C32+D32+F32+E32)-(G32+H32+I32)+SUM(AJ32:AJ36)","v":0},null,null,null,"","",null,null,null,null,null,null,null,null,null,null,null,null,null,{"$f":"SUM(Q32:AB36)","v":0},null,null,null,null,{"$f":"+IF(AC32<>I32,1,0)","v":0},null,null,null,null,null,"CAUCA"]
[null,null,null,null,null,null,null,null,null,null,null,null,null,"","",null,null,null,null,null,null,null,null,null,null,null,null,null,null,null,null,null,null,null,null,null,null,null,null,"CESAR"]
[null,null,null,null,null,null,null,null,null,null,null,null,null,"","",null,null,null,null,null,null,null,null,null,null,null,null,null,null,null,null,null,null,null,null,null,null,null,null,"CHOCO"]
[null,null,null,null,null,null,null,null,null,null,null,null,null,"","",null,null,null,null,null,null,null,null,null,null,null,null,null,null,null,null,null,null,null,null,null,null,null,null,"CORDOBA"]
[null,null,null,null,null,null,null,null,null,null,null,null,null,"","",null,null,null,null,null,null,null,null,null,null,null,null,null,null,null,{"$f":"IFERROR(AA34*100/(W34+AA34),0)","v":0},null,null,null,null,null,null,null,null,"CUNDINAMARCA"]
[null,null,null,null,null,null,null,null,null,{"$f":"J32=K37","v":true},{"$f":"SUM(K32:K36)","v":0},null,null,"","",null,null,null,null,null,null,null,null,null,null,null,null,null,null,null,null,null,null,null,null,null,null,null,null,"GUAINIA"]
["Polio oral",null,null,null,null,null,null,null,{"$f":"AC38","v":0},{"$f":"+(C38+D38+F38+E38)-(G38+H38+I38)+SUM(AJ38:AJ42)","v":0},null,null,null,"","",null,null,null,null,null,null,null,null,null,null,null,null,null,{"$f":"SUM(Q38:AB42)","v":0},null,null,null,null,{"$f":"+IF(AC38<>I38,1,0)","v":0},null,null,null,null,null,"GUAVIARE"]
[null,null,null,null,null,null,null,null,null,null,null,null,null,"","",null,null,null,null,null,null,null,null,null,null,null,null,null,null,null,null,null,null,null,null,null,null,null,null,"HUILA"]
[null,null,null,null,null,null,null,null,null,null,null,null,null,"","",null,null,null,null,null,null,null,null,null,null,null,null,null,null,null,null,null,null,null,null,null,null,null,null,"LA GUAJIRA"]
[null,null,null,null,null,null,null,null,null,null,null,null,null,"","",null,null,null,null,null,null,null,null,null,null,null,null,null,null,null,null,null,null,null,null,null,null,null,null,"MAGDALENA"]
[null,null,null,null,null,null,null,null,null,null,null,null,null,"","",null,null,null,null,null,null,null,null,null,null,null,null,null,null,null,{"$f":"IFERROR(AA40*100/(W40+AA40),0)","v":0},null,null,null,null,null,null,null,null,"SANTA MARTA"]
[null,null,null,null,null,null,null,null,null,{"$f":"J38=K43","v":true},{"$f":"SUM(K38:K42)","v":0},null,null,"","",null,null,null,null,null,null,null,null,null,null,null,null,null,null,null,null,null,null,null,null,null,null,null,null,"META"]
["Pentavalente",null,null,null,null,null,null,null,{"$f":"AC44","v":0},{"$f":"+(C44+D44+F44+E44)-(G44+H44+I44)+SUM(AJ44:AJ48)","v":0},null,null,null,"","",null,null,null,null,null,null,null,null,null,null,null,null,null,{"$f":"SUM(Q44:AB48)","v":0},null,null,null,null,{"$f":"+IF(AC44<>I44,1,0)","v":0},null,null,null,null,null,"NARIÑO"]
[null,null,null,null,null,null,null,null,null,null,null,null,null,"","",null,null,null,null,null,null,null,null,null,null,null,null,null,null,null,null,null,null,null,null,null,null,null,null,"NORTE DE SANTANDER"]
[null,null,null,null,null,null,null,null,null,null,null,null,null,"","",null,null,null,null,null,null,null,null,null,null,null,null,null,null,null,null,null,null,null,null,null,null,null,null,"PUTUMAYO"]
[null,null,null,null,null,null,null,null,null,null,null,null,null,"","",null,null,null,null,null,null,null,null,null,null,null,null,null,null,null,{"$f":"IFERROR(AA45*100/(W45+AA45),0)","v":0},null,null,null,null,null,null,null,null,"QUINDIO"]
[null,null,null,null,null,null,null,null,null,null,null,null,null,"","",null,null,null,null,null,null,null,null,null,null,null,null,null,null,null,null,null,null,null,null,null,null,null,null,"RISARALDA"]
[null,null,null,null,null,null,null,null,null,{"$f":"J44=K49","v":true},{"$f":"SUM(K44:K48)","v":0},null,null,"","",null,null,null,null,null,null,null,null,null,null,null,null,null,null,null,null,null,null,null,null,null,null,null,null,"SAN ANDRES ISLA"]
["Hexavalente",null,null,null,null,null,null,null,{"$f":"AC50","v":0},{"$f":"+(C50+D50+F50+E50)-(G50+H50+I50)+SUM(AJ50:AJ54)","v":0},null,null,null,{"$f":"IFERROR(IF(DATEDIF(TODAY(),M50,\"M\")<=6,\"ROJO\",IF(DATEDIF(TODAY(),M50,\"M\")>=12,\"VERDE\",IF(AND(DATEDIF(TODAY(),M50,\"M\")>6,DATEDIF(TODAY(),M50,\"M\")<=11),\"AMARILLO\",IF(M50<TODAY(),\"VENCIDO\",0)))),O50)","v":""},{"$f":"IF(M50=0,\"\",\"VENCIDO\")","v":""},null,null,null,null,null,null,null,null,null,null,null,null,null,{"$f":"SUM(Q50:AB54)","v":0},null,null,null,null,{"$f":"+IF(AC50<>I50,1,0)","v":0},null,null,null,null,null,"NARIÑO"]
[null,null,null,null,null,null,null,null,null,null,null,null,null,"","",null,null,null,null,null,null,null,null,null,null,null,null,null,null,null,null,null,null,null,null,null,null,null,null,"NORTE DE SANTANDER"]
[null,null,null,null,null,null,null,null,null,null,null,null,null,"","",null,null,null,null,null,null,null,null,null,null,null,null,null,null,null,null,null,null,null,null,null,null,null,null,"PUTUMAYO"]
[null,null,null,null,null,null,null,null,null,null,null,null,null,"","",null,null,null,null,null,null,null,null,null,null,null,null,null,null,null,{"$f":"IFERROR(AA51*100/(W51+AA51),0)","v":0},null,null,null,null,null,null,null,null,"QUINDIO"]
[null,null,null,null,null,null,null,null,null,null,null,null,null,"","",null,null,null,null,null,null,null,null,null,null,null,null,null,null,null,null,null,null,null,null,null,null,null,null,"RISARALDA"]
[null,null,null,null,null,null,null,null,null,{"$f":"J50=K55","v":true},{"$f":"SUM(K50:K54)","v":0},null,null,"","",null,null,null,null,null,null,null,null,null,null,null,null,null,null,null,null,null,null,null,null,null,null,null,null,"SAN ANDRES ISLA"]
["DPT",null,null,null,null,null,null,null,{"$f":"AC56","v":0},{"$f":"+(C56+D56+F56+E56)-(G56+H56+I56)+SUM(AJ56:AJ60)","v":0},null,null,null,"","",null,null,null,null,null,null,null,null,null,null,null,null,null,{"$f":"SUM(Q56:AB60)","v":0},null,null,null,null,{"$f":"+IF(AC56<>I56,1,0)","v":0},null,null,null,null,null,"SANTANDER"]
[null,null,null,null,null,null,null,null,null,null,null,null,null,"","",null,null,null,null,null,null,null,null,null,null,null,null,null,null,null,null,null,null,null,null,null,null,null,null,"SUCRE"]
[null,null,null,null,null,null,null,null,null,null,null,null,null,"","",null,null,null,null,null,null,null,null,null,null,null,null,null,null,null,null,null,null,null,null,null,null,null,null,"TOLIMA"]
[null,null,null,null,null,null,null,null,null,null,null,null,null,"","",null,null,null,null,null,null,null,null,null,null,null,null,null,null,null,{"$f":"IFERROR(AA57*100/(W57+AA57),0)","v":0},null,null,null,null,null,null,null,null,"VALLE"]
[null,null,null,null,null,null,null,null,null,null,null,null,null,"","",null,null,null,null,null,null,null,null,null,null,null,null,null,null,null,null,null,null,null,null,null,null,null,null,"BUENAVENTURA"]
[null,null,null,null,null,null,null,null,null,{"$f":"J56=K61","v":true},{"$f":"SUM(K56:K60)","v":0},null,null,"","",null,null,null,null,null,null,null,null,null,null,null,null,null,null,null,null,null,null,null,null,null,null,null,null,"VAUPES"]
["DTaP Pediatrica",null,null,null,null,null,null,null,{"$f":"AC62","v":0},{"$f":"+(C62+D62+F62+E62)-(G62+H62+I62)+SUM(AJ62:AJ66)","v":0},null,null,null,"","",null,null,null,null,null,null,null,null,null,null,null,null,null,{"$f":"SUM(Q62:AB66)","v":0},null,null,null,null,{"$f":"+IF(AC62<>I62,1,0)","v":0},null,null,null,null,null,"VICHADA"]
[null,null,null,null,null,null,null,null,null,null,null,null,null,"",""]
[null,null,null,null,null,null,null,null,null,null,null,null,null,"","",null,null,null,null,null,null,null,null,null,null,null,null,null,null,null,{"$f":"IFERROR(AA62*100/(W62+AA62),0)","v":0}]
[null,null,null,null,null,null,null,null,null,null,null,null,null,"",""]
[null,null,null,null,null,null,null,null,null,null,null,null,null,"",""]
[null,null,null,null,null,null,null,null,null,{"$f":"J62=K67","v":true},{"$f":"SUM(K62:K66)","v":0},null,null,"",""]
["Td pediatrica",null,null,null,null,null,null,null,{"$f":"AC68","v":0},{"$f":"+(C68+D68+F68+E68)-(G68+H68+I68)+SUM(AJ68:AJ72)","v":0},null,null,null,"","",null,null,null,null,null,null,null,null,null,null,null,null,null,{"$f":"SUM(Q68:AB72)","v":0},null,null,null,null,{"$f":"+IF(AC68<>I68,1,0)","v":0}]
[null,null,null,null,null,null,null,null,null,null,null,null,null,"",""]
[null,null,null,null,null,null,null,null,null,null,null,null,null,"","",null,null,null,null,null,null,null,null,null,null,null,null,null,null,null,{"$f":"IFERROR(AA68*100/(W68+AA68),0)","v":0}]
[null,null,null,null,null,null,null,null,null,null,null,null,null,"",""]
[null,null,null,null,null,null,null,null,null,null,null,null,null,"",""]
[null,null,null,null,null,null,null,null,null,{"$f":"J68=K73","v":true},{"$f":"SUM(K68:K72)","v":0},null,null,"",""]
["Rotavirus",null,null,null,null,null,null,null,{"$f":"AC74","v":0},{"$f":"+(C74+D74+F74+E74)-(G74+H74+I74)+SUM(AJ74:AJ78)","v":0},null,null,null,"","",null,null,null,null,null,null,null,null,null,null,null,null,null,{"$f":"SUM(Q74:AB78)","v":0},null,null,null,null,{"$f":"+IF(AC74<>I74,1,0)","v":0}]
[null,null,null,null,null,null,null,null,null,null,null,null,null,"","",null,null,null,null,null,null,null,null,null,null,null,null,null,null,null,{"$f":"IFERROR(AA73*100/(W73+AA73),0)","v":0}]
[null,null,null,null,null,null,null,null,null,null,null,null,null,"",""]
[null,null,null,null,null,null,null,null,null,null,null,null,null,"",""]
[null,null,null,null,null,null,null,null,null,null,null,null,null,"",""]
[null,null,null,null,null,null,null,null,null,{"$f":"J74=K79","v":true},{"$f":"SUM(K74:K78)","v":0},null,null,"",""]
["Neumococo_Decavalente",null,null,null,null,null,null,null,{"$f":"AC80","v":0},{"$f":"+(C80+D80+F80+E80)-(G80+H80+I80)+SUM(AJ80:AJ84)","v":0},null,null,null,"","",null,null,null,null,null,null,null,null,null,null,null,null,null,{"$f":"SUM(Q80:AB84)","v":0},null,null,null,null,{"$f":"+IF(AC80<>I80,1,0)","v":0}]
[null,null,null,null,null,null,null,null,null,null,null,null,null,"","",null,null,null,null,null,null,null,null,null,null,null,null,null,null,null,{"$f":"IFERROR(AA79*100/(W79+AA79),0)","v":0}]
[null,null,null,null,null,null,null,null,null,null,null,null,null,"",""]
[null,null,null,null,null,null,null,null,null,null,null,null,null,"",""]
[null,null,null,null,null,null,null,null,null,null,null,null,null,"",""]
[null,null,null,null,null,null,null,null,null,{"$f":"J80=K85","v":true},{"$f":"SUM(K80:K84)","v":0},null,null,{"$f":"IFERROR(IF(DATEDIF(TODAY(),M85,\"M\")<=6,\"ROJO\",IF(DATEDIF(TODAY(),M85,\"M\")>=12,\"VERDE\",IF(AND(DATEDIF(TODAY(),M85,\"M\")>6,DATEDIF(TODAY(),M85,\"M\")<=11),\"AMARILLO\",IF(M85<TODAY(),\"VENCIDO\",0)))),O85)","v":""},{"$f":"IF(M85=0,\"\",\"VENCIDO\")","v":""}]
["Neumococo_Trecevalente",null,null,null,null,null,null,null,{"$f":"AC86","v":0},{"$f":"+(C86+D86+F86+E86)-(G86+H86+I86)+SUM(AJ86:AJ90)","v":0},null,null,null,"","",null,null,null,null,null,null,null,null,null,null,null,null,null,{"$f":"SUM(Q86:AB90)","v":0},null,{"$f":"IFERROR(AA84*100/(W84+AA84),0)","v":0},null,null,{"$f":"+IF(AC86<>I86,1,0)","v":0}]
[null,null,null,null,null,null,null,null,null,null,null,null,null,"",""]
[null,null,null,null,null,null,null,null,null,null,null,null,null,"",""]
[null,null,null,null,null,null,null,null,null,null,null,null,null,"",""]
[null,null,null,null,null,null,null,null,null,null,null,null,null,"",""]
[null,null,null,null,null,null,null,null,null,{"$f":"J86=K91","v":true},{"$f":"SUM(K86:K90)","v":0},null,null,"",""]
["Triple Viral (vacuna)",null,null,null,null,null,null,null,{"$f":"AC92","v":0},{"$f":"+(C92+D92+F92+E92)-(G92+H92+I92)+SUM(AJ92:AJ96)","v":0},null,null,null,"","",null,null,null,null,null,null,null,null,null,null,null,null,null,{"$f":"SUM(Q92:AB96)","v":0},null,{"$f":"IFERROR(AA90*100/(W90+AA90),0)","v":0},null,null,{"$f":"+IF(AC92<>I92,1,0)","v":0}]
[null,null,null,null,null,null,null,null,null,null,null,null,null,"",""]
[null,null,null,null,null,null,null,null,null,null,null,null,null,"",""]
[null,null,null,null,null,null,null,null,null,null,null,null,null,"",""]
[null,null,null,null,null,null,null,null,null,null,null,null,null,"",""]
[null,null,null,null,null,null,null,null,null,{"$f":"J92=K97","v":true},{"$f":"SUM(K92:K96)","v":0},null,null,"","",null,null,null,null,null,null,null,null,null,null,null,null,null,null,null,{"$f":"IFERROR(AA95*100/(W95+AA95),0)","v":0}]
["Sarampion Rubéola (vacuna)",null,null,null,null,null,null,null,{"$f":"AC98","v":0},{"$f":"+(C98+D98+F98+E98)-(G98+H98+I98)+SUM(AJ98:AJ102)","v":0},null,null,null,"","",null,null,null,null,null,null,null,null,null,null,null,null,null,{"$f":"SUM(Q98:AB102)","v":0},null,null,null,null,{"$f":"+IF(AC98<>I98,1,0)","v":0}]
[null,null,null,null,null,null,null,null,null,null,null,null,null,"",""]
[null,null,null,null,null,null,null,null,null,null,null,null,null,"",""]
[null,null,null,null,null,null,null,null,null,null,null,null,null,"",""]
[null,null,null,null,null,null,null,null,null,null,null,null,null,"",""]
[null,null,null,null,null,null,null,null,null,{"$f":"J98=K103","v":true},{"$f":"SUM(K98:K102)","v":0},null,null,"","",null,null,null,null,null,null,null,null,null,null,null,null,null,null,null,{"$f":"IFERROR(AA101*100/(W101+AA101),0)","v":0}]
["Fiebre amarilla (vacuna)",null,null,null,null,null,null,null,{"$f":"AC104","v":0},{"$f":"+(C104+D104+F104+E104)-(G104+H104+I104)+SUM(AJ104:AJ108)","v":0},null,null,null,"","",null,null,null,null,null,null,null,null,null,null,null,null,null,{"$f":"SUM(Q104:AB108)","v":0},null,null,null,null,{"$f":"+IF(AC104<>I104,1,0)","v":0}]
[null,null,null,null,null,null,null,null,null,null,null,null,null,"",""]
[null,null,null,null,null,null,null,null,null,null,null,null,null,"",""]
[null,null,null,null,null,null,null,null,null,null,null,null,null,"",""]
[null,null,null,null,null,null,null,null,null,null,null,null,null,"","",null,null,null,null,null,null,null,null,null,null,null,null,null,null,null,{"$f":"IFERROR(AA106*100/(W106+AA106),0)","v":0}]
[null,null,null,null,null,null,null,null,null,{"$f":"J104=K109","v":true},{"$f":"SUM(K104:K108)","v":0},null,null,"",""]
["Hepatitis A pediátrica ",null,null,null,null,null,null,null,{"$f":"AC110","v":0},{"$f":"+(C110+D110+F110+E110)-(G110+H110+I110)+SUM(AJ110:AJ114)","v":0},null,null,null,"","",null,null,null,null,null,null,null,null,null,null,null,null,null,{"$f":"SUM(Q110:AB114)","v":0},null,null,null,null,{"$f":"+IF(AC110<>I110,1,0)","v":0}]
[null,null,null,null,null,null,null,null,null,null,null,null,null,"",""]
[null,null,null,null,null,null,null,null,null,null,null,null,null,"",""]
[null,null,null,null,null,null,null,null,null,null,null,null,null,"",""]
[null,null,null,null,null,null,null,null,null,null,null,null,null,"","",null,null,null,null,null,null,null,null,null,null,null,null,null,null,null,{"$f":"IFERROR(AA112*100/(W112+AA112),0)","v":0}]
[null,null,null,null,null,null,null,null,null,{"$f":"J110=K115","v":true},{"$f":"SUM(K110:K114)","v":0},null,null,"",""]
["Varicela (vacuna)",null,null,null,null,null,null,null,{"$f":"AC116","v":0},{"$f":"+(C116+D116+F116+E116)-(G116+H116+I116)+SUM(AJ116:AJ120)","v":0},null,null,null,"","",null,null,null,null,null,null,null,null,null,null,null,null,null,{"$f":"SUM(Q116:AB120)","v":0},null,null,null,null,{"$f":"+IF(AC116<>I116,1,0)","v":0}]
[null,null,null,null,null,null,null,null,null,null,null,null,null,"",""]
[null,null,null,null,null,null,null,null,null,null,null,null,null,"",""]
[null,null,null,null,null,null,null,null,null,null,null,null,null,"","",null,null,null,null,null,null,null,null,null,null,null,null,null,null,null,{"$f":"IFERROR(AA117*100/(W117+AA117),0)","v":0}]
[null,null,null,null,null,null,null,null,null,null,null,null,null,"",""]
[null,null,null,null,null,null,null,null,null,{"$f":"J116=K121","v":true},{"$f":"SUM(K116:K120)","v":0},null,null,"",""]
["Td Adultos",null,null,null,null,null,null,null,{"$f":"AC122","v":0},{"$f":"+(C122+D122+F122+E122)-(G122+H122+I122)+SUM(AJ122:AJ126)","v":0},null,null,null,"","",null,null,null,null,null,null,null,null,null,null,null,null,null,{"$f":"SUM(Q122:AB126)","v":0},null,null,null,null,{"$f":"+IF(AC122<>I122,1,0)","v":0}]
[null,null,null,null,null,null,null,null,null,null,null,null,null,"",""]
[null,null,null,null,null,null,null,null,null,null,null,null,null,"",""]
[null,null,null,null,null,null,null,null,null,null,null,null,null,"","",null,null,null,null,null,null,null,null,null,null,null,null,null,null,null,{"$f":"IFERROR(AA123*100/(W123+AA123),0)","v":0}]
[null,null,null,null,null,null,null,null,null,null,null,null,null,"",""]
[null,null,null,null,null,null,null,null,null,{"$f":"J122=K127","v":true},{"$f":"SUM(K122:K126)","v":0},null,null,"",""]
["DTaP Adolescentes /Adultos",null,null,null,null,null,null,null,{"$f":"AC128","v":0},{"$f":"+(C128+D128+F128+E128)-(G128+H128+I128)+SUM(AJ128:AJ132)","v":0},null,null,null,"","",null,null,null,null,null,null,null,null,null,null,null,null,null,{"$f":"SUM(Q128:AB132)","v":0},null,null,null,null,{"$f":"+IF(AC128<>I128,1,0)","v":0}]
[null,null,null,null,null,null,null,null,null,null,null,null,null,"",""]
[null,null,null,null,null,null,null,null,null,null,null,null,null,"","",null,null,null,null,null,null,null,null,null,null,null,null,null,null,null,{"$f":"IFERROR(AA128*100/(W128+AA128),0)","v":0}]
[null,null,null,null,null,null,null,null,null,null,null,null,null,"",""]
[null,null,null,null,null,null,null,null,null,null,null,null,null,"",""]
[null,null,null,null,null,null,null,null,null,{"$f":"J128=K133","v":true},{"$f":"SUM(K128:K132)","v":0},null,null,"",""]
["Influenza pediatrica",null,null,null,null,null,null,null,{"$f":"AC134","v":0},{"$f":"+(C134+D134+F134+E134)-(G134+H134+I134)+SUM(AJ134:AJ138)","v":0},null,null,null,"","",null,null,null,null,null,null,null,null,null,null,null,null,null,{"$f":"SUM(Q134:AB138)","v":0},null,null,null,null,{"$f":"+IF(AC134<>I134,1,0)","v":0}]
[null,null,null,null,null,null,null,null,null,null,null,null,null,"",""]
[null,null,null,null,null,null,null,null,null,null,null,null,null,"","",null,null,null,null,null,null,null,null,null,null,null,null,null,null,null,{"$f":"IFERROR(AA134*100/(W134+AA134),0)","v":0}]
[null,null,null,null,null,null,null,null,null,null,null,null,null,"",""]
[null,null,null,null,null,null,null,null,null,null,null,null,null,"",""]
[null,null,null,null,null,null,null,null,null,{"$f":"J134=K139","v":true},{"$f":"SUM(K134:K138)","v":0},null,null,"",""]
["Influenza Adultos",null,null,null,null,null,null,null,{"$f":"AC140","v":0},{"$f":"+(C140+D140+F140+E140)-(G140+H140+I140)+SUM(AJ140:AJ144)","v":0},null,null,null,"","",null,null,null,null,null,null,null,null,null,null,null,null,null,{"$f":"SUM(Q140:AB144)","v":0},null,null,null,null,{"$f":"+IF(AC140<>I140,1,0)","v":0}]
[null,null,null,null,null,null,null,null,null,null,null,null,null,"","",null,null,null,null,null,null,null,null,null,null,null,null,null,null,null,{"$f":"IFERROR(AA139*100/(W139+AA139),0)","v":0}]
[null,null,null,null,null,null,null,null,null,null,null,null,null,"",""]
[null,null,null,null,null,null,null,null,null,null,null,null,null,"",""]
[null,null,null,null,null,null,null,null,null,null,null,null,null,"",""]
[null,null,null,null,null,null,null,null,null,{"$f":"J140=K145","v":true},{"$f":"SUM(K140:K144)","v":0},null,null,"",""]
["VPH (vacuna)",null,null,null,null,null,null,null,{"$f":"AC146","v":0},{"$f":"+(C146+D146+F146+E146)-(G146+H146+I146)+SUM(AJ146:AJ150)","v":0},null,null,null,"","",null,null,null,null,null,null,null,null,null,null,null,null,null,{"$f":"SUM(Q146:AB150)","v":0},null,null,null,null,{"$f":"+IF(AC146<>I146,1,0)","v":0}]
[null,null,null,null,null,null,null,null,null,null,null,null,null,"","",null,null,null,null,null,null,null,null,null,null,null,null,null,null,null,{"$f":"IFERROR(AA145*100/(W145+AA145),0)","v":0}]
[null,null,null,null,null,null,null,null,null,null,null,null,null,"",""]
[null,null,null,null,null,null,null,null,null,null,null,null,null,{"$f":"IFERROR(IF(DATEDIF(TODAY(),M149,\"M\")<=6,\"ROJO\",IF(DATEDIF(TODAY(),M149,\"M\")>=12,\"VERDE\",IF(AND(DATEDIF(TODAY(),M149,\"M\")>6,DATEDIF(TODAY(),M149,\"M\")<=11),\"AMARILLO\",IF(M149<TODAY(),\"VENCIDO\",0)))),O149)","v":""},{"$f":"IF(M149=0,\"\",\"VENCIDO\")","v":""}]
[null,null,null,null,null,null,null,null,null,null,null,null,null,"",""]
[null,null,null,null,null,null,null,null,null,{"$f":"J146=K151","v":true},{"$f":"SUM(K146:K150)","v":0},null,null,"",""]
["Antirrabica Humana (vacuna)",null,null,null,null,null,null,null,{"$f":"AC152","v":0},{"$f":"+(C152+D152+F152+E152)-(G152+H152+I152)+SUM(AJ152:AJ156)","v":0},null,null,null,"","",null,null,null,null,null,null,null,null,null,null,null,null,null,{"$f":"SUM(Q152:AB156)","v":0},null,{"$f":"IFERROR(AA150*100/(W150+AA150),0)","v":0},null,null,{"$f":"+IF(AC152<>I152,1,0)","v":0}]
[null,null,null,null,null,null,null,null,null,null,null,null,null,"",""]
[null,null,null,null,null,null,null,null,null,null,null,null,null,"",""]
[null,null,null,null,null,null,null,null,null,null,null,null,null,"",""]
[null,null,null,null,null,null,null,null,null,null,null,null,null,"",""]
[null,null,null,null,null,null,null,null,null,{"$f":"J152=K157","v":true},{"$f":"SUM(K152:K156)","v":0},null,null,"",""]
["Inmunoglobulina antirrabica humana (suero)",null,null,null,null,null,null,null,{"$f":"AC158","v":0},{"$f":"+(C158+D158+F158+E158)-(G158+H158+I158)+SUM(AJ158:AJ162)","v":0},null,null,null,"","",null,null,null,null,null,null,null,null,null,null,null,null,null,{"$f":"SUM(Q158:AB162)","v":0},null,{"$f":"IFERROR(AA156*100/(W156+AA156),0)","v":0},null,null,{"$f":"+IF(AC158<>I158,1,0)","v":0}]
[null,null,null,null,null,null,null,null,null,null,null,null,null,"",""]
[null,null,null,null,null,null,null,null,null,null,null,null,null,"",""]
[null,null,null,null,null,null,null,null,null,null,null,null,null,"",""]
[null,null,null,null,null,null,null,null,null,null,null,null,null,"",""]
[null,null,null,null,null,null,null,null,null,{"$f":"J158=K163","v":true},{"$f":"SUM(K158:K162)","v":0},null,null,"","",null,null,null,null,null,null,null,null,null,null,null,null,null,null,null,{"$f":"IFERROR(AA161*100/(W161+AA161),0)","v":0}]
["Inmunoglobulina antihepatitis B",null,null,null,null,null,null,null,{"$f":"AC164","v":0},{"$f":"+(C164+D164+F164+E164)-(G164+H164+I164)+SUM(AJ164:AJ168)","v":0},null,null,null,"","",null,null,null,null,null,null,null,null,null,null,null,null,null,{"$f":"SUM(Q164:AB168)","v":0},null,null,null,null,{"$f":"+IF(AC164<>I164,1,0)","v":0}]
[null,null,null,null,null,null,null,null,null,null,null,null,null,"",""]
[null,null,null,null,null,null,null,null,null,null,null,null,null,"",""]
[null,null,null,null,null,null,null,null,null,null,null,null,null,"",""]
[null,null,null,null,null,null,null,null,null,null,null,null,null,"",""]
[null,null,null,null,null,null,null,null,null,{"$f":"J164=K169","v":true},{"$f":"SUM(K164:K168)","v":0},null,null,"","",null,null,null,null,null,null,null,null,null,null,null,null,null,null,null,{"$f":"IFERROR(AA167*100/(W167+AA167),0)","v":0}]
["Inmunoglobulina antitetanica ",null,null,null,null,null,null,null,{"$f":"AC170","v":0},{"$f":"+(C170+D170+F170+E170)-(G170+H170+I170)+SUM(AJ170:AJ174)","v":0},null,null,null,"","",null,null,null,null,null,null,null,null,null,null,null,null,null,{"$f":"SUM(Q170:AB174)","v":0},null,null,null,null,{"$f":"+IF(AC170<>I170,1,0)","v":0}]
[null,null,null,null,null,null,null,null,null,null,null,null,null,"",""]
[null,null,null,null,null,null,null,null,null,null,null,null,null,"",""]
[null,null,null,null,null,null,null,null,null,null,null,null,null,"",""]
[null,null,null,null,null,null,null,null,null,null,null,null,null,"","",null,null,null,null,null,null,null,null,null,null,null,null,null,null,null,{"$f":"IFERROR(AA172*100/(W172+AA172),0)","v":0}]
[null,null,null,null,null,null,null,null,null,{"$f":"J170=K175","v":true},{"$f":"SUM(K170:K174)","v":0},null,null,"",""]
["Antitoxina difterica",null,null,null,null,null,null,null,{"$f":"AC176","v":0},{"$f":"+(C176+D176+F176+E176)-(G176+H176+I176)+SUM(AJ176:AJ180)","v":0},null,null,null,"","",null,null,null,null,null,null,null,null,null,null,null,null,null,{"$f":"SUM(Q176:AB180)","v":0},null,null,null,null,{"$f":"+IF(AC176<>I176,1,0)","v":0}]
[null,null,null,null,null,null,null,null,null,null,null,null,null,"",""]
[null,null,null,null,null,null,null,null,null,null,null,null,null,"",""]
[null,null,null,null,null,null,null,null,null,null,null,null,null,"",""]
[null,null,null,null,null,null,null,null,null,null,null,null,null,"","",null,null,null,null,null,null,null,null,null,null,null,null,null,null,null,{"$f":"IFERROR(AA178*100/(W178+AA178),0)","v":0}]
[null,null,null,null,null,null,null,null,null,{"$f":"J176=K181","v":true},{"$f":"SUM(K176:K180)","v":0},null,null,"",""]
["Meningococo",null,null,null,null,null,null,null,{"$f":"AC182","v":0},{"$f":"+(C182+D182+F182+E182)-(G182+H182+I182)+SUM(AJ182:AJ186)","v":0},null,null,null,"","",null,null,null,null,null,null,null,null,null,null,null,null,null,{"$f":"SUM(Q182:AB186)","v":0},null,null,null,null,{"$f":"+IF(AC182<>I182,1,0)","v":0}]
[null,null,null,null,null,null,null,null,null,null,null,null,null,"",""]
[null,null,null,null,null,null,null,null,null,null,null,null,null,"",""]
[null,null,null,null,null,null,null,null,null,null,null,null,null,"","",null,null,null,null,null,null,null,null,null,null,null,null,null,null,null,{"$f":"IFERROR(AA183*100/(W183+AA183),0)","v":0}]
[null,null,null,null,null,null,null,null,null,null,null,null,null,"",""]
[null,null,null,null,null,null,null,null,null,{"$f":"J182=K187","v":true},{"$f":"SUM(K182:K186)","v":0},null,null,"",""]
["DILUYENTES",null,null,null,null,null,null,null,null,null,null,null,null,"",""]
["BCG (diluyente)",null,null,null,null,null,null,null,{"$f":"AC189","v":0},{"$f":"+(C189+D189+F189+E189)-(G189+H189+I189)+SUM(AJ189:AJ193)","v":0},null,null,null,"","",null,null,null,null,null,null,null,null,null,null,null,null,null,{"$f":"SUM(Q189:AB193)","v":0},null,null,null,null,{"$f":"+IF(AC189<>I189,1,0)","v":0}]
[null,null,null,null,null,null,null,null,null,null,null,null,null,"",""]
[null,null,null,null,null,null,null,null,null,null,null,null,null,"","",null,null,null,null,null,null,null,null,null,null,null,null,null,null,null,{"$f":"IFERROR(AA189*100/(W189+AA189),0)","v":0}]
[null,null,null,null,null,null,null,null,null,null,null,null,null,"",""]
[null,null,null,null,null,null,null,null,null,null,null,null,null,"",""]
[null,null,null,null,null,null,null,null,null,{"$f":"J189=K194","v":true},{"$f":"SUM(K189:K193)","v":0},null,null,"",""]
["Triple viral - SRP (diluyente)",null,null,null,null,null,null,null,{"$f":"AC195","v":0},{"$f":"+(C195+D195+F195+E195)-(G195+H195+I195)+SUM(AJ195:AJ199)","v":0},null,null,null,"","",null,null,null,null,null,null,null,null,null,null,null,null,null,{"$f":"SUM(Q195:AB199)","v":0},null,null,null,null,{"$f":"+IF(AC195<>I195,1,0)","v":0}]
[null,null,null,null,null,null,null,null,null,null,null,null,null,"","",null,null,null,null,null,null,null,null,null,null,null,null,null,null,null,{"$f":"IFERROR(AA194*100/(W194+AA194),0)","v":0}]
[null,null,null,null,null,null,null,null,null,null,null,null,null,"",""]
[null,null,null,null,null,null,null,null,null,null,null,null,null,"",""]
[null,null,null,null,null,null,null,null,null,null,null,null,null,"",""]
[null,null,null,null,null,null,null,null,null,{"$f":"J195=K200","v":true},{"$f":"SUM(K195:K199)","v":0},null,null,"",""]
["Sarampión - Rubeola - SR (diluyente)",null,null,null,null,null,null,null,{"$f":"AC201","v":0},0,null,null,null,"","",null,null,null,null,null,null,null,null,null,null,null,null,null,{"$f":"SUM(Q201:AB205)","v":0},null,null,null,null,{"$f":"+IF(AC201<>I201,1,0)","v":0}]
[null,null,null,null,null,null,null,null,null,null,null,null,null,"","",null,null,null,null,null,null,null,null,null,null,null,null,null,null,null,{"$f":"IFERROR(AA200*100/(W200+AA200),0)","v":0}]
[null,null,null,null,null,null,null,null,null,null,null,null,null,"",""]
[null,null,null,null,null,null,null,null,null,null,null,null,null,"",""]
[null,null,null,null,null,null,null,null,null,null,null,null,null,"",""]
[null,null,null,null,null,null,null,null,null,{"$f":"J201=K206","v":true},{"$f":"SUM(K201:K205)","v":0},null,null,"",""]
["Fiebre amarilla (diluyente)",null,null,null,null,null,null,null,{"$f":"AC207","v":0},0,null,null,null,"","",null,null,null,null,null,null,null,null,null,null,null,null,null,{"$f":"SUM(Q207:AB211)","v":0},null,{"$f":"IFERROR(AA205*100/(W205+AA205),0)","v":0},null,null,{"$f":"+IF(AC207<>I207,1,0)","v":0}]
[null,null,null,null,null,null,null,null,null,null,null,null,null,"",""]
[null,null,null,null,null,null,null,null,null,null,null,null,null,"",""]
[null,null,null,null,null,null,null,null,null,null,null,null,null,"",""]
[null,null,null,null,null,null,null,null,null,null,null,null,null,"",""]
[null,null,null,null,null,null,null,null,null,{"$f":"J207=K212","v":true},{"$f":"SUM(K207:K211)","v":0},null,null,"",""]
["Varicela (diluyente)",null,null,null,null,null,null,null,{"$f":"AC213","v":0},0,null,null,null,{"$f":"IFERROR(IF(DATEDIF(TODAY(),M213,\"M\")<=6,\"ROJO\",IF(DATEDIF(TODAY(),M213,\"M\")>=12,\"VERDE\",IF(AND(DATEDIF(TODAY(),M213,\"M\")>6,DATEDIF(TODAY(),M213,\"M\")<=11),\"AMARILLO\",IF(M213<TODAY(),\"VENCIDO\",0)))),O213)","v":""},{"$f":"IF(M213=0,\"\",\"VENCIDO\")","v":""},null,null,null,null,null,null,null,null,null,null,null,null,null,{"$f":"SUM(Q213:AB217)","v":0},null,{"$f":"IFERROR(AA211*100/(W211+AA211),0)","v":0},null,null,{"$f":"+IF(AC213<>I213,1,0)","v":0}]
[null,null,null,null,null,null,null,null,null,null,null,null,null,"",""]
[null,null,null,null,null,null,null,null,null,null,null,null,null,"",""]
[null,null,null,null,null,null,null,null,null,null,null,null,null,"",""]
[null,null,null,null,null,null,null,null,null,null,null,null,null,"",""]
[null,null,null,null,null,null,null,null,null,{"$f":"J213=K218","v":true},{"$f":"SUM(K213:K217)","v":0},null,null,"",""]
["Antirrabica humana (diluyente)",null,null,null,null,null,null,null,{"$f":"AC219","v":0},0,null,null,null,"","",null,null,null,null,null,null,null,null,null,null,null,null,null,{"$f":"SUM(Q219:AB223)","v":0},null,null,null,null,{"$f":"+IF(AC219<>I219,1,0)","v":0}]
[null,null,null,null,null,null,null,null,null,null,null,null,null,"",""]
[null,null,null,null,null,null,null,null,null,null,null,null,null,"",""]
[null,null,null,null,null,null,null,null,null,null,null,null,null,"",""]
[null,null,null,null,null,null,null,null,null,null,null,null,null,"",""]
[null,null,null,null,null,null,null,null,null,{"$f":"J219=K224","v":true},{"$f":"SUM(K219:K223)","v":0},null,null,"",""]
["Meningococo (solvente)",null,null,null,null,null,null,null,{"$f":"AC225","v":0},0,null,null,null,"","",null,null,null,null,null,null,null,null,null,null,null,null,null,{"$f":"SUM(Q225:AB229)","v":0},null,null,null,null,{"$f":"+IF(AC225<>I225,1,0)","v":0}]
[null,null,null,null,null,null,null,null,null,null,null,null,null,"",""]
[null,null,null,null,null,null,null,null,null,null,null,null,null,"",""]
[null,null,null,null,null,null,null,null,null,null,null,null,null,"",""]
[null,null,null,null,null,null,null,null,null,null,null,null,null,"",""]
[null,null,null,null,null,null,null,null,null,{"$f":"J225=K230","v":true},{"$f":"SUM(K225:K229)","v":0},null,null,{"$f":"IFERROR(IF(DATEDIF(TODAY(),M230,\"M\")<=6,\"ROJO\",IF(DATEDIF(TODAY(),M230,\"M\")>=12,\"VERDE\",IF(AND(DATEDIF(TODAY(),M230,\"M\")>6,DATEDIF(TODAY(),M230,\"M\")<=11),\"AMARILLO\",IF(M230<TODAY(),\"VENCIDO\",0)))),O230)","v":""},""]
["JERINGAS",null,null,null,null,null,null,null,null,null,null,null,null,null,""]
["Jeringa Desechable 22G1 1/2\" AD",null,null,null,null,null,null,null,{"$f":"+AC232","v":0},{"$f":"+(C232+D232+F232+E232)-(G232+H232+I232)+SUM(AJ232:AJ236)","v":0},null,null,null,{"$f":"IFERROR(IF(DATEDIF(TODAY(),M232,\"M\")<=6,\"ROJO\",IF(DATEDIF(TODAY(),M232,\"M\")>=12,\"VERDE\",IF(AND(DATEDIF(TODAY(),M232,\"M\")>6,DATEDIF(TODAY(),M232,\"M\")<=11),\"AMARILLO\",IF(M232<TODAY(),\"VENCIDO\",0)))),O232)","v":""},"",null,null,null,null,null,null,null,null,null,null,null,null,null,{"$f":"SUM(Q232:AB238)","v":0},null,null,null,null,{"$f":"+IF(AC232<>I232,1,0)","v":0}]
[null,null,null,null,null,null,null,null,null,null,null,null,null,"",""]
[null,null,null,null,null,null,null,null,null,null,null,null,null,"",""]
[null,null,null,null,null,null,null,null,null,null,null,null,null,"",""]
[null,null,null,null,null,null,null,null,null,null,null,null,null,"",""]
[null,null,null,null,null,null,null,null,null,null,null,null,null,"",""]
[null,null,null,null,null,null,null,null,null,null,null,null,null,"",""]
[null,null,null,null,null,null,null,null,null,{"$f":"J232=K239","v":true},{"$f":"SUM(K232:K238)","v":0},null,null,"",""]
["Jeringa Desechable 22G1 1/2\" Convencional",null,null,null,null,null,null,null,{"$f":"AC240","v":0},{"$f":"+(C240+D240+F240+E240)-(G240+H240+I240)+SUM(AJ240:AJ244)","v":0},null,null,null,"","",null,null,null,null,null,null,null,null,null,null,null,null,null,{"$f":"SUM(Q240:AB244)","v":0},null,null,null,null,{"$f":"+IF(AC240<>I240,1,0)","v":0}]
[null,null,null,null,null,null,null,null,null,null,null,null,null,"",""]
[null,null,null,null,null,null,null,null,null,null,null,null,null,"",""]
[null,null,null,null,null,null,null,null,null,null,null,null,null,"",""]
[null,null,null,null,null,null,null,null,null,null,null,null,null,"",""]
[null,null,null,null,null,null,null,null,null,{"$f":"J240=K245","v":true},null,null,null,"",""]
["Jeringa Desechable 23G1\" AD",null,null,null,null,null,null,null,{"$f":"AC246","v":0},{"$f":"+(C246+D246+F246+E246)-(G246+H246+I246)+SUM(AJ246:AJ250)","v":0},null,null,null,"","",null,null,null,null,null,null,null,null,null,null,null,null,null,{"$f":"SUM(Q246:AB250)","v":0},null,null,null,null,{"$f":"+IF(AC246<>I246,1,0)","v":0}]
[null,null,null,null,null,null,null,null,null,null,null,null,null,"",""]
[null,null,null,null,null,null,null,null,null,null,null,null,null,"",""]
[null,null,null,null,null,null,null,null,null,null,null,null,null,"",""]
[null,null,null,null,null,null,null,null,null,null,null,null,null,"",""]
[null,null,null,null,null,null,null,null,null,{"$f":"J246=K251","v":true},{"$f":"SUM(K246:K250)","v":0},null,null,"",""]
["Jeringa Desechable 23G1\" Convencional",null,null,null,null,null,null,null,{"$f":"AC252","v":0},{"$f":"+(C252+D252+F252+E252)-(G252+H252+I252)+SUM(AJ252:AJ256)","v":0},null,null,null,"","",null,null,null,null,null,null,null,null,null,null,null,null,null,{"$f":"SUM(Q252:AB256)","v":0},null,null,null,null,{"$f":"+IF(AC252<>I252,1,0)","v":0}]
[null,null,null,null,null,null,null,null,null,null,null,null,null,"",""]
[null,null,null,null,null,null,null,null,null,null,null,null,null,"",""]
[null,null,null,null,null,null,null,null,null,null,null,null,null,"",""]
[null,null,null,null,null,null,null,null,null,null,null,null,null,"",""]
[null,null,null,null,null,null,null,null,null,{"$f":"J252=K257","v":true},{"$f":"SUM(K252:K256)","v":0},null,null,"",""]
["Jeringa Desechable 25G5/8\" AD",null,null,null,null,null,null,null,{"$f":"AC258","v":0},{"$f":"+(C258+D258+F258+E258)-(G258+H258+I258)+SUM(AJ258:AJ262)","v":0},null,null,null,"","",null,null,null,null,null,null,null,null,null,null,null,null,null,{"$f":"SUM(Q258:AB264)","v":0},null,null,null,null,{"$f":"+IF(AC258<>I258,1,0)","v":0}]
[null,null,null,null,null,null,null,null,null,null,null,null,null,"",""]
[null,null,null,null,null,null,null,null,null,null,null,null,null,"",""]
[null,null,null,null,null,null,null,null,null,null,null,null,null,"",""]
[null,null,null,null,null,null,null,null,null,null,null,null,null,"",""]
[null,null,null,null,null,null,null,null,null,null,null,null,null,"",""]
[null,null,null,null,null,null,null,null,null,{"$f":"J258=K264","v":true},{"$f":"SUM(K258:K263)","v":0},null,null,"",""]
["Jeringa Desechable 25G5/8\" Convencional",null,null,null,null,null,null,null,{"$f":"AC265","v":0},{"$f":"+(C265+D265+F265+E265)-(G265+H265+I265)+SUM(AJ265:AJ269)","v":0},null,null,null,"","",null,null,null,null,null,null,null,null,null,null,null,null,null,{"$f":"SUM(Q265:AB269)","v":0},null,null,null,null,{"$f":"+IF(AC265<>I265,1,0)","v":0}]
[null,null,null,null,null,null,null,null,null,null,null,null,null,"",""]
[null,null,null,null,null,null,null,null,null,null,null,null,null,"",""]
[null,null,null,null,null,null,null,null,null,null,null,null,null,"",""]
[null,null,null,null,null,null,null,null,null,null,null,null,null,"",""]
[null,null,null,null,null,null,null,null,null,{"$f":"J265=K270","v":true},{"$f":"SUM(K265:K269)","v":0},null,null,"",""]
["Jeringa Desechable 26G 3/8\" AD",null,null,null,null,null,null,null,{"$f":"AC271","v":0},{"$f":"+(C271+D271+F271+E271)-(G271+H271+I271)+SUM(AJ271:AJ275)","v":0},null,null,null,"","",null,null,null,null,null,null,null,null,null,null,null,null,null,{"$f":"SUM(Q271:AB275)","v":0},null,null,null,null,{"$f":"+IF(AC271<>I271,1,0)","v":0}]
[null,null,null,null,null,null,null,null,null,null,null,null,null,"",""]
[null,null,null,null,null,null,null,null,null,null,null,null,null,"",""]
[null,null,null,null,null,null,null,null,null,null,null,null,null,"",""]
[null,null,null,null,null,null,null,null,null,null,null,null,null,"",""]
[null,null,null,null,null,null,null,null,null,{"$f":"J271=K276","v":true},{"$f":"SUM(K271:K275)","v":0},null,null,"",""]
["Jeringa Desechable 26G 3/8\" Convencional",null,null,null,null,null,null,null,{"$f":"AC277","v":0},{"$f":"+(C277+D277+F277+E277)-(G277+H277+I277)+SUM(AJ277:AJ281)","v":0},null,null,null,"",{"$f":"IF(M277=0,\"\",\"VENCIDO\")","v":""},null,null,null,null,null,null,null,null,null,null,null,null,null,{"$f":"SUM(Q277:AB281)","v":0},null,null,null,null,{"$f":"+IF(AC277<>I277,1,0)","v":0}]
[null,null,null,null,null,null,null,null,null,null,null,null,null,"",""]
[null,null,null,null,null,null,null,null,null,null,null,null,null,"",""]
[null,null,null,null,null,null,null,null,null,null,null,null,null,"",""]
[null,null,null,null,null,null,null,null,null,null,null,null,null,"",""]
[null,null,null,null,null,null,null,null,null,{"$f":"J277=K282","v":true},{"$f":"SUM(K277:K281)","v":0},null,null,"",""]
["Jeringa Desechable 27G 3/8\" ",null,null,null,null,null,null,null,{"$f":"AC283","v":0},{"$f":"+(C283+D283+F283+E283)-(G283+H283+I283)+SUM(AJ283:AJ287)","v":0},0,null,null,"","",null,null,null,null,null,null,null,null,null,null,null,null,null,{"$f":"SUM(Q283:AB287)","v":0},null,null,null,null,{"$f":"+IF(AC283<>I283,1,0)","v":0}]
[null,null,null,null,null,null,null,null,null,null,0,null,null,"",""]
[null,null,null,null,null,null,null,null,null,null,0,null,null,"",""]
[null,null,null,null,null,null,null,null,null,null,0,null,null,"",""]
[null,null,null,null,null,null,null,null,null,null,0,null,null,"",""]
[null,null,null,null,null,null,null,null,null,{"$f":"J283=K288","v":true},{"$f":"SUM(K283:K287)","v":0}]
["Goteros ",null,null,null,null,null,null,null,{"$f":"AC289","v":0},{"$f":"+(C289+D289+F289+E289)-(G289+H289+I289)+SUM(AJ289:AJ293)","v":0},null,null,null,null,null,null,null,null,null,null,null,null,null,null,null,null,null,null,{"$f":"SUM(Q289:AB293)","v":0},null,null,null,null,{"$f":"+IF(AC289<>I289,1,0)","v":0}]
[]
[]
[]
[]
[null,null,null,null,null,null,null,null,null,{"$f":"J289=K294","v":true},{"$f":"SUM(K289:K293)","v":0}]
["CARNE DE VACUNACIÓN INFANTIL",null,null,null,null,null,null,null,{"$f":"AC295","v":0},{"$f":"+(C295+D295+F295+E295)-(G295+H295+I295)+SUM(AJ295:AJ299)","v":0},null,null,null,null,null,null,null,null,null,null,null,null,null,null,null,null,null,null,{"$f":"SUM(Q295:AB295)","v":0},null,null,null,null,{"$f":"+IF(AC295<>I295,1,0)","v":0}]
["CARNE/CERTIFICADO DE VACUNACIÓN DE ADULTOS",null,null,null,null,null,null,null,{"$f":"AC296","v":0},0,null,null,null,null,null,null,null,null,null,null,null,null,null,null,null,null,null,null,{"$f":"SUM(Q296:AB296)","v":0},null,null,null,null,0]
["CARNE/CERTIFICADO INTERNACIONAL DE VACUNACIÓN",null,null,null,null,null,null,null,{"$f":"AC297","v":0},0,null,null,null,null,null,null,null,null,null,null,null,null,null,null,null,null,null,null,0,null,null,null,null,0]
["TARJETAS UNIFICADAS DE VACUNACION -TUV ADULTOS",null,null,null,null,null,null,null,{"$f":"AC298","v":0},0,null,null,null,null,null,null,null,null,null,null,null,null,null,null,null,null,null,null,0,null,null,null,null,0]
["TARJETAS UNIFICADAS DE VACUNACION -TUV NIÑOS",null,null,null,null,null,null,null,{"$f":"AC299","v":0},0,null,null,null,null,null,null,null,null,null,null,null,null,null,null,null,null,null,null,0,null,null,null,null,0]
[]
["OBSERVACIONES MUNICIPIOS: (Especifique las caracteristicas de los traslados realizados, pérdidas, entre otras que considere deba puntualizar)."]
[]
[]
[]
["CONSOLIDADO MUNICIPIOS (Consolida los movimientos realizados por los municipios )"]
["INSUMOS",null,"SALDO MES ANTERIOR","BIOLOGICO RECIBIDO POR ET","D. APLICADAS",null,"ENTRADAS",null,"SALIDAS",null,null,null,"TOTAL DE DOSIS APLICADAS",null,null,null,"CAUSAS DE PERDIDA DE BIOLÓGICO ",null,null,null,null,null,null,null,null,null,null,null,null,null,"PORCENTAJE DE PERDIDA",null,null,null,"PORCENTAJE DE PERDIDA"]
[null,null,null,null,"DOSIS APLICADAS\nCOLOMBIANOS","DOSIS APLICADAS EXTRANJEROS","CANTIDAD DE DESPACHOS","TRASLADOS ENTRADAS","CANTIDAD DE DESPACHOS","TRASLADOS SALIDAS","DOSIS PERDIDAS","SALDO QUE INICIA EL MES SIGUIENTE",null,null,null,null," POR FRASCO ABIERTO  ",null,"INTERRUPCION DE CADENA DE FRIO","APLICACIÓN FUERA DE LA EDAD","CONTAMINACION DEL BIOLÓGICO/DISPOSITIVO MÉDICO","FRASCO/VIAL  ROTO","ERRORES EN LA MANIPULACION","VENCIMIENTO DEL BIOLÓGICO/DISPOSITIVO MÉDICO","FARMACOVIGILANCIA/ TECNOVIGILANCIA","VOMITO FRANCO","SINIESTRO O ROBO","RECONSTITUCION BIOLÓGICO","TOTAL DOSIS PERDIDAS        ",null,null,null,null,null,null,"SINIESTRO O ROBO","RECONSTITUCION BIOLÓGICO"]
[null,null,null,null,null,null,null,null,null,null,null,null,null,null,null,null,"INSTITUCIONAL","EXTRAMURAL"]
[]
["BCG (vacuna)",null,null,null,null,null,null,null,null,null,{"$f":"+AC310","v":0},{"$f":"+(C310+D310+G310+H310)-(E310+F310+I310+J310+K310)+SUM(AJ310)","v":0},{"$f":"SUM(E310,F310)","v":0},null,null,null,null,null,null,null,null,null,null,null,null,null,null,null,{"$f":"SUM(Q310:AB310)","v":0},null,{"$f":"+(AC310)/(E310+F310+AC310)","v":{"$error":"#DIV/0!"}},null,null,{"$f":"+IF(AC310<>K310,1,0)","v":0},{"$f":"+(AG310)/(J310+K310+AG310)","v":{"$error":"#DIV/0!"}}]
["Hepatitis B pediatrica",null,null,null,null,null,null,null,null,null,0,{"$f":"+(C311+D311+G311+H311)-(E311+F311+I311+J311+K311)+SUM(AJ311)","v":0},{"$f":"SUM(E311,F311)","v":0},null,null,null,null,null,null,null,null,null,null,null,null,null,null,null,{"$f":"SUM(Q311:AB311)","v":0},null,{"$f":"(AC311)/(E311+F311+AC311)","v":{"$error":"#DIV/0!"}},null,null,0,{"$f":"(AG311)/(J311+K311+AG311)","v":{"$error":"#DIV/0!"}}]
["Hepatitis B Adultos",null,null,null,null,null,null,null,null,null,0,0,0,null,null,null,null,null,null,null,null,null,null,null,null,null,null,null,0,null,{"$f":"(AC312)/(E312+F312+AC312)","v":{"$error":"#DIV/0!"}},null,null,0,{"$f":"(AG312)/(J312+K312+AG312)","v":{"$error":"#DIV/0!"}}]
["Polio Inactivada -VIP",null,null,null,null,null,null,null,null,null,0,0,0,null,null,null,null,null,null,null,null,null,null,null,null,null,null,null,0,null,{"$error":"#DIV/0!"},null,null,0,{"$error":"#DIV/0!"}]
["Polio oral",null,null,null,null,null,null,null,null,null,0,0,0,null,null,null,null,null,null,null,null,null,null,null,null,null,null,null,0,null,{"$f":"+(AC314*1)/(E314+F314+AC314)","v":{"$error":"#DIV/0!"}},null,null,0,{"$f":"+(AG314*1)/(J314+K314+AG314)","v":{"$error":"#DIV/0!"}}]
["Pentavalente",null,null,null,null,null,null,null,null,null,0,0,0,null,null,null,null,null,null,null,null,null,null,null,null,null,null,null,0,null,{"$error":"#DIV/0!"},null,null,0,{"$error":"#DIV/0!"}]
["Hexavalente",null,null,null,null,null,null,null,null,null,0,0,0,null,null,null,null,null,null,null,null,null,null,null,null,null,null,null,0,null,{"$f":"(AC316)/(E317+F317+AC316)","v":{"$error":"#DIV/0!"}},null,null,{"$f":"+IF(AC316<>K317,1,0)","v":0},{"$error":"#DIV/0!"}]
["DPT",null,null,null,null,null,null,null,null,null,0,0,0,null,null,null,null,null,null,null,null,null,null,null,null,null,null,null,0,null,{"$error":"#DIV/0!"},null,null,0,{"$error":"#DIV/0!"}]
["DTaP pediatrica",null,null,null,null,null,null,null,null,null,0,0,0,null,null,null,null,null,null,null,null,null,null,null,null,null,null,null,0,null,{"$error":"#DIV/0!"},null,null,0,{"$error":"#DIV/0!"}]
["TD Pediatrica",null,null,null,null,null,null,null,null,null,0,0,0,null,null,null,null,null,null,null,null,null,null,null,null,null,null,null,0,null,{"$error":"#DIV/0!"},null,null,0,{"$error":"#DIV/0!"}]
["Rotavirus",null,null,null,null,null,null,null,null,null,0,0,0,null,null,null,null,null,null,null,null,null,null,null,null,null,null,null,0,null,{"$error":"#DIV/0!"},null,null,0,{"$error":"#DIV/0!"}]
["Neumococo Decavalente",null,null,null,null,null,null,null,null,null,0,0,0,null,null,null,null,null,null,null,null,null,null,null,null,null,null,null,0,null,{"$error":"#DIV/0!"},null,null,0,{"$error":"#DIV/0!"}]
["Neumococo Trecevalente",null,null,null,null,null,null,null,null,null,0,0,0,null,null,null,null,null,null,null,null,null,null,null,null,null,null,null,0,null,{"$error":"#DIV/0!"},null,null,0,{"$error":"#DIV/0!"}]
["Triple Viral (vacuna)",null,null,null,null,null,null,null,null,null,0,0,0,null,null,null,null,null,null,null,null,null,null,null,null,null,null,null,0,null,{"$error":"#DIV/0!"},null,null,0,{"$error":"#DIV/0!"}]
["Sarampión Rubéola (vacuna)",null,null,null,null,null,null,null,null,null,0,0,0,null,null,null,null,null,null,null,null,null,null,null,null,null,null,null,0,null,{"$f":"+(AC324*1)/(E325+F325+AC324)","v":{"$error":"#DIV/0!"}},null,null,0,{"$f":"+(AG324*1)/(J324+K324+AG324)","v":{"$error":"#DIV/0!"}}]
["Fiebre amarilla (vacuna)",null,null,null,null,null,null,null,null,null,0,0,0,null,null,null,null,null,null,null,null,null,null,null,null,null,null,null,0,null,{"$f":"(AC325)/(E326+F326+AC325)","v":{"$error":"#DIV/0!"}},null,null,0,{"$error":"#DIV/0!"}]
["Hepatitis A pediátrica (vacuna)",null,null,null,null,null,null,null,null,null,0,0,0,null,null,null,null,null,null,null,null,null,null,null,null,null,null,null,0,null,{"$f":"(AC326)/(E327+F327+AC326)","v":{"$error":"#DIV/0!"}},null,null,0,{"$error":"#DIV/0!"}]
["Varicela (vacuna)",null,null,null,null,null,null,null,null,null,0,0,0,null,null,null,null,null,null,null,null,null,null,null,null,null,null,null,0,null,{"$f":"+(AC327*1)/(E328+F328+AC327)","v":{"$error":"#DIV/0!"}},null,null,0,{"$f":"+(AG327*1)/(J327+K327+AG327)","v":{"$error":"#DIV/0!"}}]
["Td Adultos",null,null,null,null,null,null,null,null,null,0,0,0,null,null,null,null,null,null,null,null,null,null,null,null,null,null,null,0,null,{"$f":"(AC328)/(E329+F329+AC328)","v":{"$error":"#DIV/0!"}},null,null,0,{"$error":"#DIV/0!"}]
["DTaP Adolescentes / Adultos",null,null,null,null,null,null,null,null,null,0,0,0,null,null,null,null,null,null,null,null,null,null,null,null,null,null,null,0,null,{"$error":"#DIV/0!"},null,null,0,{"$error":"#DIV/0!"}]
["Influenza pediatrica",null,null,null,null,null,null,null,null,null,0,0,0,null,null,null,null,null,null,null,null,null,null,null,null,null,null,null,0,null,{"$error":"#DIV/0!"},null,null,0,{"$error":"#DIV/0!"}]
["Influenza Adultos",null,null,null,null,null,null,null,null,null,0,0,0,null,null,null,null,null,null,null,null,null,null,null,null,null,null,null,0,null,{"$error":"#DIV/0!"},null,null,0,{"$error":"#DIV/0!"}]
["VPH",null,null,null,null,null,null,null,null,null,0,0,0,null,null,null,null,null,null,null,null,null,null,null,null,null,null,null,0,null,{"$error":"#DIV/0!"},null,null,0,{"$error":"#DIV/0!"}]
["Antirrabica humana",null,null,null,null,null,null,null,null,null,0,0,0,null,null,null,null,null,null,null,null,null,null,null,null,null,null,null,0,null,{"$error":"#DIV/0!"},null,null,0,{"$error":"#DIV/0!"}]
["Inmunoglobulina antirrabica humana (suero)",null,null,null,null,null,null,null,null,null,0,0,0,null,null,null,null,null,null,null,null,null,null,null,null,null,null,null,0,null,{"$error":"#DIV/0!"},null,null,0,{"$error":"#DIV/0!"}]
["Inmunoglobulina antihepatitis B",null,null,null,null,null,null,null,null,null,0,0,0,null,null,null,null,null,null,null,null,null,null,null,null,null,null,null,0,null,{"$error":"#DIV/0!"},null,null,0,{"$error":"#DIV/0!"}]
["Inmunoglobulina antitetanica ",null,null,null,null,null,null,null,null,null,0,0,0,null,null,null,null,null,null,null,null,null,null,null,null,null,null,null,0,null,{"$error":"#DIV/0!"},null,null,0,{"$error":"#DIV/0!"}]
["Antitoxina difterica",null,null,null,null,null,null,null,null,null,0,0,0,null,null,null,null,null,null,null,null,null,null,null,null,null,null,null,0,null,{"$error":"#DIV/0!"},null,null,0,{"$error":"#DIV/0!"}]
["Meningococo",null,null,null,null,null,null,null,null,null,0,0,0,null,null,null,null,null,null,null,null,null,null,null,null,null,null,null,0,null,{"$f":"(AC338)/(E339+F339+AC338)","v":{"$error":"#DIV/0!"}},null,null,{"$f":"+IF(AC338<>K339,1,0)","v":0},{"$error":"#DIV/0!"}]
["DILUYENTES",null,null,null,null,null,null,null,null,null,null,0]
["BCG (diluyente)",null,null,null,null,null,null,null,null,null,0,0,0,null,null,null,null,null,null,null,null,null,null,null,null,null,null,null,0,null,null,null,null,{"$f":"+IF(AC340<>K340,1,0)","v":0},{"$error":"#DIV/0!"}]
["Triple viral - SRP (diluyente)",null,null,null,null,null,null,null,null,null,0,0,0,null,null,null,null,null,null,null,null,null,null,null,null,null,null,null,0,null,null,null,null,0,{"$error":"#DIV/0!"}]
["Sarampión - Rubeola - SR (diluyente)",null,null,null,null,null,null,null,null,null,0,0,0,null,null,null,null,null,null,null,null,null,null,null,null,null,null,null,0,null,null,null,null,0,{"$error":"#DIV/0!"}]
["Fiebre amarilla (diluyente)",null,null,null,null,null,null,null,null,null,0,0,0,null,null,null,null,null,null,null,null,null,null,null,null,null,null,null,0,null,null,null,null,0,{"$error":"#DIV/0!"}]
["Varicela (diluyente)",null,null,null,null,null,null,null,null,null,0,0,0,null,null,null,null,null,null,null,null,null,null,null,null,null,null,null,0,null,null,null,null,0,{"$error":"#DIV/0!"}]
["Vacuna Antirrabica Humana (diluyente)",null,null,null,null,null,null,null,null,null,0,0,0,null,null,null,null,null,null,null,null,null,null,null,null,null,null,null,0,null,null,null,null,0,{"$error":"#DIV/0!"}]
["Meningococo (solvente)",null,null,null,null,null,null,null,null,null,0,0,0,null,null,null,null,null,null,null,null,null,null,null,null,null,null,null,0,null,null,null,null,0,{"$error":"#DIV/0!"}]
["JERINGAS",null,null,null,null,null,null,null,null,null,null,0]
["Jeringa Desechable 22G1 1/2\" AD",null,null,null,null,null,null,null,null,null,{"$f":"+AC348","v":0},0,0,null,null,null,null,null,null,null,null,null,null,null,null,null,null,null,0,null,null,null,null,{"$f":"+IF(AC348<>K348,1,0)","v":0},{"$error":"#DIV/0!"}]
["Jeringa Desechable 22G1 1/2\" Convencional",null,null,null,null,null,null,null,null,null,0,0,0,null,null,null,null,null,null,null,null,null,null,null,null,null,null,null,0,null,null,null,null,0,{"$error":"#DIV/0!"}]
["Jeringa Desechable 23G1\" AD",null,null,null,null,null,null,null,null,null,0,0,0,null,null,null,null,null,null,null,null,null,null,null,null,null,null,null,0,null,null,null,null,0,{"$error":"#DIV/0!"}]
["Jeringa Desechable 23G1\" Convencional",null,null,null,null,null,null,null,null,null,0,0,0,null,null,null,null,null,null,null,null,null,null,null,null,null,null,null,0,null,null,null,null,0,{"$error":"#DIV/0!"}]
["Jeringa Desechable 25G5/8\" AD",null,null,null,null,null,null,null,null,null,0,0,0,null,null,null,null,null,null,null,null,null,null,null,null,null,null,null,0,null,null,null,null,0,{"$error":"#DIV/0!"}]
["Jeringa Desechable 25G5/8\" Convencional",null,null,null,null,null,null,null,null,null,0,0,0,null,null,null,null,null,null,null,null,null,null,null,null,null,null,null,0,null,null,null,null,0,{"$error":"#DIV/0!"}]
["Jeringa Desechable 26G 3/8\" AD",null,null,null,null,null,null,null,null,null,0,0,0,null,null,null,null,null,null,null,null,null,null,null,null,null,null,null,0,null,null,null,null,0,{"$error":"#DIV/0!"}]
["Jeringa Desechable 26G 3/8\" Convencional",null,null,null,null,null,null,null,null,null,0,0,0,null,null,null,null,null,null,null,null,null,null,null,null,null,null,null,0,null,null,null,null,0,{"$error":"#DIV/0!"}]
["Jeringa Desechable 27G 3/8\" ",null,null,null,null,null,null,null,null,null,0,0,0,null,null,null,null,null,null,null,null,null,null,null,null,null,null,null,0,null,null,null,null,0,{"$error":"#DIV/0!"}]
["Gotero",null,null,null,null,null,null,null,null,null,0,0,0,null,null,null,null,null,null,null,null,null,null,null,null,null,null,null,0,null,null,null,null,0,{"$error":"#DIV/0!"}]
["CARNE DE VACUNACIÓN INFANTIL",null,null,null,null,null,null,null,null,null,0,0,0,null,null,null,null,null,null,null,null,null,null,null,null,null,null,null,0,null,null,null,null,0,{"$error":"#DIV/0!"}]
["CARNE/CERTIFICADO DE VACUNACIÓN DE ADULTOS",null,null,null,null,null,null,null,null,null,0,0,0,null,null,null,null,null,null,null,null,null,null,null,null,null,null,null,0,null,null,null,null,0,{"$error":"#DIV/0!"}]
["CARNE/CERTIFICADO INTERNACIONAL DE VACUNACIÓN",null,null,null,null,null,null,null,null,null,0,0,0,null,null,null,null,null,null,null,null,null,null,null,null,null,null,null,0,null,null,null,null,0,{"$error":"#DIV/0!"}]
["TARJETAS UNIFICADAS DE VACUNACION -TUV ADULTOS",null,null,null,null,null,null,null,null,null,0,0,0,null,null,null,null,null,null,null,null,null,null,null,null,null,null,null,0,null,null,null,null,0,{"$error":"#DIV/0!"}]
["TARJETAS UNIFICADAS DE VACUNACION -TUV NIÑOS",null,null,null,null,null,null,null,null,null,0,0,0,null,null,null,null,null,null,null,null,null,null,null,null,null,null,null,0,null,null,null,null,0,{"$error":"#DIV/0!"}]
[]
[]
["CONSOLIDADO ENTIDAD TERRITORIAL - CELDAS AUTOMATICAS PROTEGIDAS CONTRA ESCRITURA"]
["INSUMOS",null,"SALDO MES ANTERIOR","BIOLOGICO RECIBIDO POR MSPS","D. APLICADAS",null,"ENTRADAS",null,"SALIDAS",null,null,"SALDO QUE INICIA EL MES SIGUIENTE","TOTAL DE DOSIS APLICADAS",null,null,null,"CAUSAS DE PERDIDA DE BIOLÓGICO ",null,null,null,null,null,null,null,null,null,null,null,"TOTAL DOSIS PERDIDAS        ",null,"PORCENTAJE DE PERDIDA",null,null,null,"PORCENTAJE DE PERDIDA"]
[null,null,null,null,"DOSIS APLICADAS\nCOLOMBIANOS","DOSIS APLICADAS EXTRANJEROS","CANTIDAD DE DESPACHOS","TRASLADOS ENTRADAS","CANTIDAD DE DESPACHOS","TRASLADOS SALIDAS","DOSIS PERDIDAS",null,null,null,null,null," POR FRASCO ABIERTO  ",null,"INTERRUPCION DE CADENA DE FRIO","APLICACIÓN FUERA DE LA EDAD","CONTAMINACION DEL BIOLÓGICO/DISPOSITIVO MÉDICO","FRASCO/VIAL  ROTO","ERRORES EN LA MANIPULACION","VENCIMIENTO DEL BIOLÓGICO/DISPOSITIVO MÉDICO","FARMACOVIGILANCIA/ TECNOVIGILANCIA","VOMITO FRANCO","SINIESTRO O ROBO","RECONSTITUCION BIOLÓGICO",null,null,null,null,null,null,null,"SINIESTRO O ROBO","RECONSTITUCION BIOLÓGICO"]
[null,null,null,null,null,null,null,null,null,null,null,null,null,null,null,null,"INSTITUCIONAL","EXTRAMURAL"]
[]
["BCG (vacuna)",null,{"$f":"C14+C310","v":0},{"$f":"+D14","v":0},{"$f":"+E310","v":0},{"$f":"+F310","v":0},{"$f":"+G310","v":0},{"$f":"+H310","v":0},{"$f":"+I310","v":0},{"$f":"+I310","v":0},{"$f":"+K310+I14","v":0},{"$f":"+L310+J14","v":0},{"$f":"SUM(E370,F370)","v":0},null,null,null,{"$f":"+Q310+Q14","v":0},{"$f":"+R310+R14","v":0},0,0,0,0,0,0,0,0,0,0,{"$f":"SUM(Q370:AB370)","v":0},null,{"$f":"+(AC370)/(E370+F370+AC370)","v":{"$error":"#DIV/0!"}},null,null,{"$f":"+IF(AC370<>K370,1,0)","v":0},{"$f":"+(AG370)/(J370+K370+AG370)","v":{"$error":"#DIV/0!"}}]
["Hepatitis B pediatrica",null,{"$f":"+C311+C20","v":0},{"$f":"D20","v":0},0,0,{"$f":"+G311","v":0},0,{"$f":"+I311","v":0},0,{"$f":"+K311+I20","v":0},{"$f":"+L311+J20","v":0},{"$f":"SUM(E371,F371)","v":0},null,null,null,{"$f":"+Q311+Q20","v":0},{"$f":"+R311+R20","v":0},0,0,0,0,0,0,0,0,0,0,0,null,{"$f":"(AC371)/(E371+F371+AC371)","v":{"$error":"#DIV/0!"}},null,null,0,{"$f":"(AG371)/(J371+K371+AG371)","v":{"$error":"#DIV/0!"}}]
["Hepatitis B Adultos",null,{"$f":"+C312+C26","v":0},{"$f":"+D26","v":0},0,0,0,0,0,0,{"$f":"+K312+I26","v":0},{"$f":"+L312+J26","v":0},0,null,null,null,{"$f":"+Q312+Q26","v":0},{"$f":"+R312+R26","v":0},0,0,0,0,0,0,0,0,0,0,0,null,{"$f":"(AC372)/(E372+F372+AC372)","v":{"$error":"#DIV/0!"}},null,null,0,{"$f":"(AG372)/(J372+K372+AG372)","v":{"$error":"#DIV/0!"}}]
["Polio Inactivada -VIP",null,{"$f":"+C313+C32","v":0},{"$f":"D32","v":0},0,0,0,0,0,0,{"$f":"+K313+I32","v":0},{"$f":"+L313+J32","v":0},0,null,null,null,{"$f":"+Q313+Q32","v":0},{"$f":"+R313+R32","v":0},0,0,0,0,0,0,0,0,0,0,0,null,{"$error":"#DIV/0!"},null,null,0,{"$error":"#DIV/0!"}]
["Polio oral",null,{"$f":"+C314+C38","v":0},{"$f":"D38","v":0},0,0,0,0,0,0,{"$f":"+K314+I38","v":0},{"$f":"+L314+J38","v":0},0,null,null,null,{"$f":"+Q314+Q38","v":0},{"$f":"+R314+R38","v":0},0,0,0,0,0,0,0,0,0,0,0,null,{"$f":"+(AC374*1)/(E374+F374+AC374)","v":{"$error":"#DIV/0!"}},null,null,0,{"$f":"+(AG374*1)/(J374+K374+AG374)","v":{"$error":"#DIV/0!"}}]
["Pentavalente",null,{"$f":"+C315+C44","v":0},{"$f":"D44","v":0},0,0,0,0,0,0,{"$f":"+K315+I44","v":0},{"$f":"+L315+J44","v":0},0,null,null,null,{"$f":"+Q315+Q44","v":0},{"$f":"+R315+R44","v":0},0,0,0,0,0,0,0,0,0,0,0,null,{"$error":"#DIV/0!"},null,null,0,{"$error":"#DIV/0!"}]
["Hexavalente",null,{"$f":"+C316+C50","v":0},{"$f":"+D316+D50","v":0},{"$f":"+E316+E50","v":0},0,0,0,0,0,{"$f":"+K316+I50","v":0},{"$f":"+L316+J50","v":0},0,null,null,null,{"$f":"+Q316+Q50","v":0},{"$f":"+R316+R50","v":0},0,0,0,0,0,0,0,0,0,0,0,null,{"$f":"(AC377)/(E377+F377+AC377)","v":{"$error":"#DIV/0!"}},null,null,{"$f":"+IF(AC377<>K377,1,0)","v":0},{"$error":"#DIV/0!"}]
["DPT",null,{"$f":"+C317+C56","v":0},{"$f":"D56","v":0},{"$f":"+E317","v":0},0,0,0,0,{"$f":"+I317","v":0},{"$f":"+K317+I56","v":0},{"$f":"+L317+J56","v":0},0,null,null,null,{"$f":"+Q317+Q56","v":0},{"$f":"+R317+R56","v":0},0,0,0,0,0,0,0,0,0,0,{"$f":"SUM(Q377:AB377)","v":0},null,{"$error":"#DIV/0!"},null,null,0,{"$error":"#DIV/0!"}]
["DTaP pediatrica",null,{"$f":"+C318+C62","v":0},{"$f":"D62","v":0},0,0,0,0,0,0,{"$f":"+K318+I62","v":0},{"$f":"+L318+J62","v":0},0,null,null,null,{"$f":"+Q318+Q62","v":0},{"$f":"+R318+R62","v":0},0,0,0,0,0,0,0,0,0,0,0,null,{"$error":"#DIV/0!"},null,null,0,{"$error":"#DIV/0!"}]
["TD Pediatrica",null,{"$f":"+C319+C68","v":0},{"$f":"D68","v":0},0,0,0,0,0,0,{"$f":"+K319+I68","v":0},{"$f":"+L319+J68","v":0},0,null,null,null,{"$f":"+Q319+Q68","v":0},{"$f":"+R319+R68","v":0},0,0,0,0,0,0,0,0,0,0,0,null,{"$error":"#DIV/0!"},null,null,0,{"$error":"#DIV/0!"}]
["Rotavirus",null,{"$f":"+C320+C74","v":0},{"$f":"D74","v":0},0,0,0,0,0,0,{"$f":"+K320+I74","v":0},{"$f":"+L320+J74","v":0},0,null,null,null,{"$f":"+Q320+Q74","v":0},{"$f":"+R320+R74","v":0},0,0,0,0,0,0,0,0,0,0,0,null,{"$error":"#DIV/0!"},null,null,0,{"$error":"#DIV/0!"}]
["Neumococo Decavalente",null,{"$f":"+C321+C80","v":0},{"$f":"D85","v":0},0,0,0,0,0,0,{"$f":"+K321+I85","v":0},{"$f":"+L321+J80","v":0},0,null,null,null,{"$f":"+Q321+Q85","v":0},{"$f":"+R321+R85","v":0},0,0,0,0,0,0,0,0,0,0,0,null,{"$error":"#DIV/0!"},null,null,0,{"$error":"#DIV/0!"}]
["Neumococo Trecevalente",null,{"$f":"+C322+C81","v":0},{"$f":"D86","v":0},0,0,0,0,0,0,{"$f":"+K322+I86","v":0},{"$f":"+L322+J86","v":0},0,null,null,null,{"$f":"+Q322+Q86","v":0},{"$f":"+R322+R86","v":0},0,0,0,0,0,0,0,0,0,0,0,null,{"$error":"#DIV/0!"},null,null,0,{"$error":"#DIV/0!"}]
["Triple Viral (vacuna)",null,{"$f":"+C323+C92","v":0},{"$f":"D92","v":0},0,0,0,0,0,0,{"$f":"+K323+I92","v":0},{"$f":"+L323+J92","v":0},0,null,null,null,{"$f":"+Q323+Q92","v":0},{"$f":"+R323+R92","v":0},0,0,0,0,0,0,0,0,0,0,0,null,{"$error":"#DIV/0!"},null,null,0,{"$error":"#DIV/0!"}]
["Sarampión Rubéola (vacuna)",null,{"$f":"+C324+C98","v":0},{"$f":"D98","v":0},0,0,0,0,0,0,{"$f":"+K324+I98","v":0},{"$f":"+L324+J98","v":0},0,null,null,null,{"$f":"+Q324+Q98","v":0},{"$f":"+R324+R98","v":0},0,0,0,0,0,0,0,0,0,0,0,null,{"$f":"+(AC385*1)/(E385+F385+AC385)","v":{"$error":"#DIV/0!"}},null,null,0,{"$f":"+(AG384*1)/(J384+K384+AG384)","v":{"$error":"#DIV/0!"}}]
["Fiebre amarilla (vacuna)",null,{"$f":"+C325+C104","v":0},{"$f":"D104","v":0},0,0,0,0,0,0,{"$f":"+K325+I104","v":0},{"$f":"+L325+J104","v":0},0,null,null,null,{"$f":"+Q325+Q104","v":0},{"$f":"+R325+R104","v":0},0,0,0,0,0,0,0,0,0,0,0,null,{"$f":"(AC386)/(E386+F386+AC386)","v":{"$error":"#DIV/0!"}},null,null,0,{"$error":"#DIV/0!"}]
["Hepatitis A pediátrica (vacuna)",null,{"$f":"+C326+C110","v":0},{"$f":"D110","v":0},0,0,0,0,0,0,{"$f":"+K326+I110","v":0},{"$f":"+L326+J110","v":0},0,null,null,null,{"$f":"+Q326+Q110","v":0},{"$f":"+R326+R110","v":0},0,0,0,0,0,0,0,0,0,0,0,null,{"$f":"(AC387)/(E387+F387+AC387)","v":{"$error":"#DIV/0!"}},null,null,0,{"$error":"#DIV/0!"}]
["Varicela (vacuna)",null,{"$f":"+C327+C116","v":0},{"$f":"D116","v":0},{"$f":"+E327","v":0},0,0,0,0,0,{"$f":"+K327+I116","v":0},{"$f":"+L327+J116","v":0},0,null,null,null,{"$f":"+Q327+Q116","v":0},{"$f":"+R327+R116","v":0},0,0,0,0,0,0,0,0,0,0,0,null,{"$f":"+(AC388*1)/(E388+F388+AC388)","v":{"$error":"#DIV/0!"}},null,null,0,{"$f":"+(AG387*1)/(J387+K387+AG387)","v":{"$error":"#DIV/0!"}}]
["Td Adultos",null,{"$f":"+C328+C122","v":0},{"$f":"D122","v":0},0,0,0,0,0,0,{"$f":"+K328+I122","v":0},{"$f":"+L328+J122","v":0},0,null,null,null,{"$f":"+Q328+Q122","v":0},{"$f":"+R328+R122","v":0},0,0,0,0,0,0,0,0,0,0,0,null,{"$f":"(AC389)/(E389+F389+AC389)","v":{"$error":"#DIV/0!"}},null,null,0,{"$error":"#DIV/0!"}]
["DTaP Adolescentes / Adultos",null,{"$f":"+C329+C128","v":0},{"$f":"D128","v":0},0,0,0,0,0,0,{"$f":"+K329+I128","v":0},{"$f":"+L329+J128","v":0},0,null,null,null,{"$f":"+Q329+Q128","v":0},{"$f":"+R329+R128","v":0},0,0,0,0,0,0,0,0,0,0,0,null,{"$error":"#DIV/0!"},null,null,0,{"$error":"#DIV/0!"}]
["Influenza pediatrica",null,{"$f":"+C330+C134","v":0},{"$f":"D134","v":0},0,0,0,0,0,0,{"$f":"+K330+I134","v":0},{"$f":"+L330+J134","v":0},0,null,null,null,{"$f":"+Q330+Q134","v":0},{"$f":"+R330+R134","v":0},0,0,0,0,0,0,0,0,0,0,0,null,{"$error":"#DIV/0!"},null,null,0,{"$error":"#DIV/0!"}]
["Influenza Adultos",null,{"$f":"+C331+C140","v":0},{"$f":"D140","v":0},0,0,0,0,0,0,{"$f":"+K331+I140","v":0},{"$f":"+L331+J140","v":0},0,null,null,null,{"$f":"+Q331+Q140","v":0},{"$f":"+R331+R140","v":0},0,0,0,0,0,0,0,0,0,0,0,null,{"$error":"#DIV/0!"},null,null,0,{"$error":"#DIV/0!"}]
["VPH",null,{"$f":"+C332+C146","v":0},{"$f":"D146","v":0},0,0,0,0,0,0,{"$f":"+K332+I146","v":0},{"$f":"+L332+J146","v":0},0,null,null,null,{"$f":"+Q332+Q146","v":0},{"$f":"+R332+R146","v":0},0,0,0,0,0,0,0,0,0,0,0,null,{"$error":"#DIV/0!"},null,null,0,{"$error":"#DIV/0!"}]
["Antirrabica humana",null,{"$f":"+C333+C152","v":0},{"$f":"D152","v":0},0,0,0,0,0,0,{"$f":"+K333+I152","v":0},{"$f":"+L333+J152","v":0},0,null,null,null,{"$f":"+Q333+Q152","v":0},{"$f":"+R333+R152","v":0},0,0,0,0,0,0,0,0,0,0,0,null,{"$error":"#DIV/0!"},null,null,0,{"$error":"#DIV/0!"}]
["Inmunoglobulina antirrabica humana",null,{"$f":"+C334+C158","v":0},{"$f":"D158","v":0},0,0,0,0,0,0,{"$f":"+K334+I158","v":0},{"$f":"+L334+J158","v":0},0,null,null,null,{"$f":"+Q334+Q158","v":0},{"$f":"+R334+R158","v":0},0,0,0,0,0,0,0,0,0,0,0,null,{"$error":"#DIV/0!"},null,null,0,{"$error":"#DIV/0!"}]
["Inmunoglobulina antihepatitis B",null,{"$f":"+C335+C164","v":0},{"$f":"D164","v":0},0,0,0,0,0,0,{"$f":"+K335+I164","v":0},{"$f":"+L335+J164","v":0},0,null,null,null,{"$f":"+Q335+Q164","v":0},{"$f":"+R335+R164","v":0},0,0,0,0,0,0,0,0,0,0,0,null,{"$error":"#DIV/0!"},null,null,0,{"$error":"#DIV/0!"}]
["Inmunoglobulina antitetanica ",null,{"$f":"+C336+C170","v":0},{"$f":"D170","v":0},0,0,0,0,0,0,{"$f":"+K336+I170","v":0},{"$f":"+L336+J170","v":0},0,null,null,null,{"$f":"+Q336+Q170","v":0},{"$f":"+R336+R170","v":0},0,0,0,0,0,0,0,0,0,0,0,null,{"$error":"#DIV/0!"},null,null,0,{"$error":"#DIV/0!"}]
["Antitoxina difterica",null,{"$f":"+C337+C176","v":0},{"$f":"D176","v":0},{"$f":"+E337","v":0},0,0,0,0,0,{"$f":"+K337+I176","v":0},{"$f":"+L337+J176","v":0},0,null,null,null,{"$f":"+Q337+Q176","v":0},{"$f":"+R337+R176","v":0},0,0,0,0,0,0,0,0,0,0,0,null,{"$error":"#DIV/0!"},null,null,0,{"$error":"#DIV/0!"}]
["Meningococo",null,{"$f":"+C338+C182","v":0},{"$f":"D182","v":0},0,0,0,0,0,0,{"$f":"+K338+I182","v":0},{"$f":"+L338+J182","v":0},0,null,null,null,{"$f":"+Q338+Q182","v":0},{"$f":"+R338+R182","v":0},0,0,0,0,0,0,0,0,0,0,0,null,{"$error":"#DIV/0!"},null,null,0,{"$error":"#DIV/0!"}]
["DILUYENTES"]
["BCG (diluyente)",null,{"$f":"+C340+C189","v":0},{"$f":"D189","v":0},{"$f":"+E340","v":0},{"$f":"+F340","v":0},{"$f":"+G340","v":0},0,0,{"$f":"+I340","v":0},{"$f":"+K340+I189","v":0},{"$f":"+L340+J189","v":0},0,null,null,null,{"$f":"+Q340+Q189","v":0},0,0,0,0,0,0,0,0,0,0,0,0,null,null,null,null,{"$f":"+IF(AC400<>K400,1,0)","v":0},{"$error":"#DIV/0!"}]
["Triple viral - SRP (diluyente)",null,{"$f":"+C341+C195","v":0},{"$f":"D195","v":0},0,0,0,0,0,0,{"$f":"+K341+I195","v":0},{"$f":"+L341+J195","v":0},0,null,null,null,{"$f":"+Q341+Q195","v":0},0,0,0,0,0,0,0,0,0,0,0,0,null,null,null,null,0,{"$error":"#DIV/0!"}]
["Sarampión - Rubeola - SR (diluyente)",null,{"$f":"+C342+C201","v":0},{"$f":"D201","v":0},0,0,0,0,0,0,{"$f":"+K342+I201","v":0},{"$f":"+L342+J201","v":0},0,null,null,null,{"$f":"+Q342+Q201","v":0},0,0,0,0,0,0,0,0,0,0,0,0,null,null,null,null,0,{"$error":"#DIV/0!"}]
["Fiebre amarilla (diluyente)",null,{"$f":"+C343+C207","v":0},{"$f":"D207","v":0},0,0,0,0,0,0,{"$f":"+K343+I207","v":0},{"$f":"+L343+J207","v":0},0,null,null,null,{"$f":"+Q343+Q207","v":0},0,0,0,0,0,0,0,0,0,0,0,0,null,null,null,null,0,{"$error":"#DIV/0!"}]
["Varicela (diluyente)",null,{"$f":"+C344+C213","v":0},{"$f":"D213","v":0},0,0,0,0,0,0,{"$f":"+K344+I213","v":0},{"$f":"+L344+J213","v":0},0,null,null,null,{"$f":"+Q344+Q213","v":0},0,0,0,0,0,0,0,0,0,0,0,0,null,null,null,null,0,{"$error":"#DIV/0!"}]
["Vacuna Antirrabica Humana (diluyente)",null,{"$f":"+C345+C219","v":0},{"$f":"D219","v":0},0,0,0,0,0,0,{"$f":"+K345+I219","v":0},{"$f":"+L345+J219","v":0},0,null,null,null,{"$f":"+Q345+Q219","v":0},0,0,0,0,0,0,0,0,0,0,0,0,null,null,null,null,0,{"$error":"#DIV/0!"}]
["Meningococo (solvente)",null,{"$f":"+C346+C225","v":0},{"$f":"D225","v":0},{"$f":"+E346","v":0},0,0,0,0,0,{"$f":"+K346+I225","v":0},{"$f":"+L346+J225","v":0},0,null,null,null,{"$f":"+Q346+Q225","v":0},0,0,0,0,0,0,0,0,0,0,0,0,null,null,null,null,0,{"$error":"#DIV/0!"}]
["JERINGAS"]
["Jeringa Desechable 22G1 1/2\" AD",null,{"$f":"+C348+C232","v":0},{"$f":"D232","v":0},{"$f":"+E348","v":0},{"$f":"+F348","v":0},{"$f":"+G348","v":0},0,0,{"$f":"+I348","v":0},{"$f":"+K348+I232","v":0},{"$f":"+L348+J232","v":0},0,null,null,null,{"$f":"+Q348+Q232","v":0},0,0,0,0,0,0,0,0,0,0,0,0,null,null,null,null,{"$f":"+IF(AC408<>K408,1,0)","v":0},{"$error":"#DIV/0!"}]
["Jeringa Desechable 22G1 1/2\" Convencional",null,{"$f":"+C349+C240","v":0},{"$f":"D240","v":0},0,0,0,0,0,0,{"$f":"+K349+I240","v":0},{"$f":"+L349+J240","v":0},0,null,null,null,{"$f":"+Q349+Q238","v":0},0,0,0,0,0,0,0,0,0,0,0,0,null,null,null,null,0,{"$error":"#DIV/0!"}]
["Jeringa Desechable 23G1\" AD",null,{"$f":"+C350+C246","v":0},{"$f":"D246","v":0},0,0,0,0,0,0,{"$f":"+K350+I246","v":0},{"$f":"+L350+J246","v":0},0,null,null,null,0,0,0,0,0,0,0,0,0,0,0,0,0,null,null,null,null,0,{"$error":"#DIV/0!"}]
["Jeringa Desechable 23G1\" Convencional",null,{"$f":"+C351+C240","v":0},{"$f":"D240","v":0},0,0,0,0,0,0,{"$f":"+K351+I240","v":0},{"$f":"+L351+J240","v":0},0,null,null,null,0,0,0,0,0,0,0,0,0,0,0,0,0,null,null,null,null,0,{"$error":"#DIV/0!"}]
["Jeringa Desechable 25G5/8\" AD",null,{"$f":"+C352+C246","v":0},{"$f":"D246","v":0},0,0,0,0,0,0,{"$f":"+K352+I246","v":0},{"$f":"+L352+J246","v":0},0,null,null,null,{"$f":"+Q352+Q246","v":0},0,0,0,0,0,0,0,0,0,0,0,0,null,null,null,null,0,{"$error":"#DIV/0!"}]
["Jeringa Desechable 25G5/8\" Convencional",null,{"$f":"+C353+C252","v":0},{"$f":"D252","v":0},0,0,0,0,0,0,{"$f":"+K353+I252","v":0},{"$f":"+L353+J252","v":0},0,null,null,null,{"$f":"+Q353+Q252","v":0},0,0,0,0,0,0,0,0,0,0,0,0,null,null,null,null,0,{"$error":"#DIV/0!"}]
["Jeringa Desechable 26G 3/8\" AD",null,{"$f":"+C354+C271","v":0},{"$f":"+D271","v":0},0,0,0,0,0,0,{"$f":"+K354+I271","v":0},{"$f":"+L354+J271","v":0},0,null,null,null,{"$f":"+Q354+Q271","v":0},0,0,0,0,0,0,0,0,0,0,0,0,null,null,null,null,0,{"$error":"#DIV/0!"}]
["Jeringa Desechable 26G 3/8\" Convencional",null,{"$f":"+C355+C277","v":0},{"$f":"+D277","v":0},0,0,0,0,0,0,{"$f":"+K355+I277","v":0},{"$f":"+L355+J277","v":0},0,null,null,null,{"$f":"+Q355+Q277","v":0},0,0,0,0,0,0,0,0,0,0,0,0,null,null,null,null,0,{"$error":"#DIV/0!"}]
["Jeringa Desechable 27G 3/8\" ",null,{"$f":"+C356+C283","v":0},{"$f":"+D283","v":0},0,0,0,0,0,0,{"$f":"+K356+I283","v":0},{"$f":"+L356+J283","v":0},0,null,null,null,{"$f":"+Q356+Q283","v":0},0,0,0,0,0,0,0,0,0,0,0,0,null,null,null,null,0,{"$error":"#DIV/0!"}]
["Gotero",null,{"$f":"+C357+C289","v":0},{"$f":"D289","v":0},0,0,0,0,0,0,{"$f":"+K357+I289","v":0},{"$f":"+L357+J289","v":0},0,null,null,null,{"$f":"+Q357+Q289","v":0},0,0,0,0,0,0,0,0,0,0,0,0,null,null,null,null,0,{"$error":"#DIV/0!"}]
["CARNE DE VACUNACIÓN INFANTIL",null,{"$f":"+C358+C295","v":0},{"$f":"D295","v":0},0,0,0,0,0,0,{"$f":"+K358+I295","v":0},0,0,null,null,null,{"$f":"+Q358+Q295","v":0},0,0,0,0,0,0,0,0,0,0,0,0,null,null,null,null,0,{"$error":"#DIV/0!"}]
["CARNE/CERTIFICADO DE VACUNACIÓN DE ADULTOS",null,{"$f":"+C359+C296","v":0},{"$f":"D296","v":0},0,0,0,0,0,0,0,0,0,null,null,null,0,0,0,0,0,0,0,0,0,0,0,0,0,null,null,null,null,0,{"$error":"#DIV/0!"}]
["CARNE/CERTIFICADO INTERNACIONAL DE VACUNACIÓN",null,{"$f":"+C360+C297","v":0},{"$f":"D297","v":0},0,0,0,0,0,0,0,0,0,null,null,null,0,0,0,0,0,0,0,0,0,0,0,0,0,null,null,null,null,0,{"$error":"#DIV/0!"}]
["TARJETAS UNIFICADAS DE VACUNACION -TUV ADULTOS",null,{"$f":"+C361+C298","v":0},{"$f":"+D298","v":0},0,0,0,0,0,0,0,0,0,null,null,null,0,0,0,0,0,0,0,0,0,0,0,0,0,null,null,null,null,0,{"$error":"#DIV/0!"}]
["TARJETAS UNIFICADAS DE VACUNACION -TUV NIÑOS",null,{"$f":"+C362+C299","v":0},{"$f":"+D299","v":0},0,0,0,0,0,0,0,0,0,null,null,null,0,0,0,0,0,0,0,0,0,0,0,0,0,null,null,null,null,0,{"$error":"#DIV/0!"}]

{"sheet":"SIG.A","index":4,"n_rows":422,"n_cols":41,"rows_kept":422,"cut":false,"hidden":true,"merged":[[8,28,11,28],[8,30,11,30],[9,4,11,4],[9,5,11,5],[9,6,11,6],[9,7,11,7],[9,8,11,8],[5,7,5,8],[7,0,7,12],[8,0,11,1],[8,2,11,2],[8,3,11,3],[8,4,8,5],[8,6,8,8],[8,9,11,9],[8,10,11,10],[8,11,11,11],[12,0,12,1],[13,0,18,1],[13,2,17,2],[13,3,17,3],[13,4,17,4],[13,5,17,5],[9,23,11,23],[9,24,11,24],[9,25,11,25],[9,26,11,26],[9,27,11,27],[10,16,11,16],[10,17,11,17],[9,16,9,17],[9,18,11,18],[9,19,11,19],[9,20,11,20],[9,21,11,21],[9,22,11,22],[8,12,11,12],[8,13,11,13],[8,16,8,27],[13,24,17,24],[13,25,17,25],[13,26,17,26],[13,27,17,27],[13,28,17,28],[13,30,17,30],[13,18,17,18],[13,19,17,19],[13,20,17,20],[13,21,17,21],[13,22,17,22],[13,23,17,23],[13,6,17,6],[13,7,17,7],[13,8,17,8],[13,9,17,9],[13,16,17,16],[13,17,17,17],[19,25,23,25],[19,26,23,26],[19,27,23,27],[19,28,23,28],[19,19,23,19],[19,20,23,20],[19,21,23,21],[19,22,23,22],[19,23,23,23],[19,24,23,24],[19,7,23,7],[19,8,23,8],[19,9,23,9],[19,16,23,16],[19,17,23,17],[19,18,23,18],[19,0,24,1],[19,2,23,2],[19,3,23,3],[19,4,23,4],[19,5,23,5],[19,6,23,6],[25,25,29,25],[25,26,29,26],[25,27,29,27],[25,28,29,28],[31,0,36,1],[31,2,35,2],[31,3,35,3],[31,4,35,4],[31,5,35,5],[31,6,35,6],[25,19,29,19],[25,20,29,20],[25,21,29,21],[25,22,29,22],[25,23,29,23],[25,24,29,24],[25,7,29,7],[25,8,29,8],[25,9,29,9],[25,16,29,16],[25,17,29,17],[25,18,29,18],[31,25,35,25],[31,26,35,26],[31,27,35,27],[31,28,35,28],[25,0,30,1],[25,2,29,2],[25,3,29,3],[25,4,29,4],[25,5,29,5],[25,6,29,6],[37,17,41,17],[37,18,41,18],[43,25,47,25],[43,26,47,26],[43,27,47,27],[43,28,47,28],[37,0,42,1],[37,2,41,2],[37,3,41,3],[37,4,41,4],[37,5,41,5],[37,6,41,6],[31,19,35,19],[31,20,35,20],[31,21,35,21],[31,22,35,22],[31,23,35,23],[31,24,35,24],[31,7,35,7],[31,8,35,8],[31,9,35,9],[31,16,35,16],[31,17,35,17],[31,18,35,18],[43,19,47,19],[43,20,47,20],[43,21,47,21],[43,22,47,22],[43,23,47,23],[43,24,47,24],[43,7,47,7],[43,8,47,8],[43,9,47,9],[43,16,47,16],[43,17,47,17],[43,18,47,18],[37,25,41,25],[37,26,41,26],[37,27,41,27],[37,28,41,28],[43,0,48,1],[43,2,47,2],[43,3,47,3],[43,4,47,4],[43,5,47,5],[43,6,47,6],[37,19,41,19],[37,20,41,20],[37,21,41,21],[37,22,41,22],[37,23,41,23],[37,24,41,24],[37,7,41,7],[37,8,41,8],[37,9,41,9],[37,16,41,16],[49,25,53,25],[49,26,53,26],[49,27,53,27],[49,28,53,28],[55,0,60,1],[55,2,59,2],[55,3,59,3],[55,4,59,4],[55,5,59,5],[55,6,59,6],[49,19,53,19],[49,20,53,20],[49,21,53,21],[49,22,53,22],[49,23,53,23],[49,24,53,24],[49,7,53,7],[49,8,53,8],[49,9,53,9],[49,16,53,16],[49,17,53,17],[49,18,53,18],[55,25,59,25],[55,26,59,26],[55,27,59,27],[55,28,59,28],[49,0,54,1],[49,2,53,2],[49,3,53,3],[49,4,53,4],[49,5,53,5],[49,6,53,6],[55,19,59,19],[55,20,59,20],[55,21,59,21],[55,22,59,22],[55,23,59,23],[55,24,59,24],[55,7,59,7],[55,8,59,8],[55,9,59,9],[55,16,59,16],[55,17,59,17],[55,18,59,18],[67,19,71,19],[67,20,71,20],[67,21,71,21],[67,22,71,22],[67,23,71,23],[67,24,71,24],[67,7,71,7],[67,8,71,8],[67,9,71,9],[67,16,71,16],[67,17,71,17],[67,18,71,18],[61,25,65,25],[61,26,65,26],[61,27,65,27],[61,28,65,28],[67,0,72,1],[67,2,71,2],[67,3,71,3],[67,4,71,4],[67,5,71,5],[67,6,71,6],[61,19,65,19],[61,20,65,20],[61,21,65,21],[61,22,65,22],[61,23,65,23],[61,24,65,24],[61,7,65,7],[61,8,65,8],[61,9,65,9],[61,16,65,16],[61,17,65,17],[61,18,65,18],[67,25,71,25],[67,26,71,26],[67,27,71,27],[67,28,71,28],[61,0,66,1],[61,2,65,2],[61,3,65,3],[61,4,65,4],[61,5,65,5],[61,6,65,6],[73,25,77,25],[73,26,77,26],[73,27,77,27],[73,28,77,28],[79,0,84,1],[79,2,83,2],[79,3,83,3],[79,4,83,4],[79,5,83,5],[79,6,83,6],[73,19,77,19],[73,20,77,20],[73,21,77,21],[73,22,77,22],[73,23,77,23],[73,24,77,24],[73,7,77,7],[73,8,77,8],[73,9,77,9],[73,16,77,16],[73,17,77,17],[73,18,77,18],[79,25,83,25],[79,26,83,26],[79,27,83,27],[79,28,83,28],[73,0,78,1],[73,2,77,2],[73,3,77,3],[73,4,77,4],[73,5,77,5],[73,6,77,6],[79,19,83,19],[79,20,83,20],[79,21,83,21],[79,22,83,22],[79,23,83,23],[79,24,83,24],[79,7,83,7],[79,8,83,8],[79,9,83,9],[79,16,83,16],[79,17,83,17],[79,18,83,18],[91,19,95,19],[91,20,95,20],[91,21,95,21],[91,22,95,22],[91,23,95,23],[91,24,95,24],[91,7,95,7],[91,8,95,8],[91,9,95,9],[91,16,95,16],[91,17,95,17],[91,18,95,18],[85,25,89,25],[85,26,89,26],[85,27,89,27],[85,28,89,28],[91,0,96,1],[91,2,95,2],[91,3,95,3],[91,4,95,4],[91,5,95,5],[91,6,95,6],[85,19,89,19],[85,20,89,20],[85,21,89,21],[85,22,89,22],[85,23,89,23],[85,24,89,24],[85,7,89,7],[85,8,89,8],[85,9,89,9],[85,16,89,16],[85,17,89,17],[85,18,89,18],[91,25,95,25],[91,26,95,26],[91,27,95,27],[91,28,95,28],[85,0,90,1],[85,2,89,2],[85,3,89,3],[85,4,89,4],[85,5,89,5],[85,6,89,6],[97,25,101,25],[97,26,101,26],[97,27,101,27],[97,28,101,28],[103,0,108,1],[103,2,107,2],[103,3,107,3],[103,4,107,4],[103,5,107,5],[103,6,107,6],[97,19,101,19],[97,20,101,20],[97,21,101,21],[97,22,101,22],[97,23,101,23],[97,24,101,24],[97,7,101,7],[97,8,101,8],[97,9,101,9],[97,16,101,16],[97,17,101,17],[97,18,101,18],[103,25,107,25],[103,26,107,26],[103,27,107,27],[103,28,107,28],[97,0,102,1],[97,2,101,2],[97,3,101,3],[97,4,101,4],[97,5,101,5],[97,6,101,6],[103,19,107,19],[103,20,107,20],[103,21,107,21],[103,22,107,22],[103,23,107,23],[103,24,107,24],[103,7,107,7],[103,8,107,8],[103,9,107,9],[103,16,107,16],[103,17,107,17],[103,18,107,18],[115,19,119,19],[115,20,119,20],[115,21,119,21],[115,22,119,22],[115,23,119,23],[115,24,119,24],[115,7,119,7],[115,8,119,8],[115,9,119,9],[115,16,119,16],[115,17,119,17],[115,18,119,18],[109,25,113,25],[109,26,113,26],[109,27,113,27],[109,28,113,28],[115,0,120,1],[115,2,119,2],[115,3,119,3],[115,4,119,4],[115,5,119,5],[115,6,119,6],[109,19,113,19],[109,20,113,20],[109,21,113,21],[109,22,113,22],[109,23,113,23],[109,24,113,24],[109,7,113,7],[109,8,113,8],[109,9,113,9],[109,16,113,16],[109,17,113,17],[109,18,113,18],[115,25,119,25],[115,26,119,26],[115,27,119,27],[115,28,119,28],[109,0,114,1],[109,2,113,2],[109,3,113,3],[109,4,113,4],[109,5,113,5],[109,6,113,6],[121,25,125,25],[121,26,125,26],[121,27,125,27],[121,28,125,28],[127,0,132,1],[127,2,131,2],[127,3,131,3],[127,4,131,4],[127,5,131,5],[127,6,131,6],[121,19,125,19],[121,20,125,20],[121,21,125,21],[121,22,125,22],[121,23,125,23],[121,24,125,24],[121,7,125,7],[121,8,125,8],[121,9,125,9],[121,16,125,16],[121,17,125,17],[121,18,125,18],[127,25,131,25],[127,26,131,26],[127,27,131,27],[127,28,131,28],[121,0,126,1],[121,2,125,2],[121,3,125,3],[121,4,125,4],[121,5,125,5],[121,6,125,6],[127,19,131,19],[127,20,131,20],[127,21,131,21],[127,22,131,22],[127,23,131,23],[127,24,131,24],[127,7,131,7],[127,8,131,8],[127,9,131,9],[127,16,131,16],[127,17,131,17],[127,18,131,18],[139,19,143,19],[139,20,143,20],[139,21,143,21],[139,22,143,22],[139,23,143,23],[139,24,143,24],[139,7,143,7],[139,8,143,8],[139,9,143,9],[139,16,143,16],[139,17,143,17],[139,18,143,18],[133,25,137,25],[133,26,137,26],[133,27,137,27],[133,28,137,28],[139,0,144,1],[139,2,143,2],[139,3,143,3],[139,4,143,4],[139,5,143,5],[139,6,143,6],[133,19,137,19],[133,20,137,20],[133,21,137,21],[133,22,137,22],[133,23,137,23],[133,24,137,24],[133,7,137,7],[133,8,137,8],[133,9,137,9],[133,16,137,16],[133,17,137,17],[133,18,137,18],[139,25,143,25],[139,26,143,26],[139,27,143,27],[139,28,143,28],[133,0,138,1],[133,2,137,2],[133,3,137,3],[133,4,137,4],[133,5,137,5],[133,6,137,6],[145,25,149,25],[145,26,149,26],[145,27,149,27],[145,28,149,28],[151,0,156,1],[151,2,155,2],[151,3,155,3],[151,4,155,4],[151,5,155,5],[151,6,155,6],[145,19,149,19],[145,20,149,20],[145,21,149,21],[145,22,149,22],[145,23,149,23],[145,24,149,24],[145,7,149,7],[145,8,149,8],[145,9,149,9],[145,16,149,16],[145,17,149,17],[145,18,149,18],[151,25,155,25],[151,26,155,26],[151,27,155,27],[151,28,155,28],[145,0,150,1],[145,2,149,2],[145,3,149,3],[145,4,149,4],[145,5,149,5],[145,6,149,6],[157,18,161,18],[163,25,167,25],[163,26,167,26],[163,27,167,27],[163,28,167,28],[157,0,162,1],[157,2,161,2],[157,3,161,3],[157,4,161,4],[157,5,161,5],[157,6,161,6],[151,19,155,19],[151,20,155,20],[151,21,155,21],[151,22,155,22],[151,23,155,23],[151,24,155,24],[151,7,155,7],[151,8,155,8],[151,9,155,9],[151,16,155,16],[151,17,155,17],[151,18,155,18],[163,19,167,19],[163,20,167,20],[163,21,167,21],[163,22,167,22],[163,23,167,23],[163,24,167,24],[163,7,167,7],[163,8,167,8],[175,28,179,28],[169,0,174,1],[169,2,173,2],[169,3,173,3],[169,4,173,4],[169,5,173,5],[169,6,173,6],[163,9,167,9],[163,16,167,16],[163,17,167,17],[163,18,167,18],[157,25,161,25],[157,26,161,26],[157,27,161,27],[157,28,161,28],[163,0,168,1],[163,2,167,2],[163,3,167,3],[163,4,167,4],[163,5,167,5],[163,6,167,6],[157,19,161,19],[157,20,161,20],[157,21,161,21],[157,22,161,22],[157,23,161,23],[157,24,161,24],[157,7,161,7],[157,8,161,8],[157,9,161,9],[157,16,161,16],[157,17,161,17],[188,18,192,18],[188,19,192,19],[188,20,192,20],[188,21,192,21],[188,22,192,22],[188,23,192,23],[188,6,192,6],[169,25,173,25],[169,26,173,26],[169,27,173,27],[169,28,173,28],[175,0,180,1],[175,2,179,2],[175,3,179,3],[175,4,179,4],[175,5,179,5],[175,6,179,6],[169,19,173,19],[169,20,173,20],[169,21,173,21],[169,22,173,22],[169,23,173,23],[169,24,173,24],[169,7,173,7],[169,8,173,8],[169,9,173,9],[169,16,173,16],[169,17,173,17],[169,18,173,18],[175,25,179,25],[175,26,179,26],[175,27,179,27],[181,0,186,1],[181,2,185,2],[181,3,185,3],[181,4,185,4],[181,5,185,5],[181,6,185,6],[175,19,179,19],[175,20,179,20],[175,21,179,21],[175,22,179,22],[175,23,179,23],[175,24,179,24],[175,7,179,7],[175,8,179,8],[175,9,179,9],[175,16,179,16],[175,17,179,17],[175,18,179,18],[188,7,192,7],[188,8,192,8],[188,9,192,9],[188,16,192,16],[188,17,192,17],[181,25,185,25],[181,26,185,26],[181,27,185,27],[181,28,185,28],[187,0,187,1],[188,0,193,1],[188,2,192,2],[188,3,192,3],[188,4,192,4],[188,5,192,5],[181,19,185,19],[181,20,185,20],[181,21,185,21],[181,22,185,22],[181,23,185,23],[181,24,185,24],[181,7,185,7],[181,8,185,8],[181,9,185,9],[181,16,185,16],[181,17,185,17],[181,18,185,18],[188,24,192,24],[188,25,192,25],[188,26,192,26],[188,27,192,27],[188,28,192,28],[200,0,205,1],[200,2,204,2],[200,3,204,3],[200,4,204,4],[200,5,204,5],[194,18,198,18],[194,19,198,19],[194,20,198,20],[194,21,198,21],[194,22,198,22],[194,23,198,23],[194,6,198,6],[194,7,198,7],[194,8,198,8],[194,9,198,9],[194,16,198,16],[194,17,198,17],[194,0,199,1],[194,2,198,2],[194,3,198,3],[194,4,198,4],[194,5,198,5],[200,18,204,18],[200,19,204,19],[200,20,204,20],[200,21,204,21],[200,22,204,22],[200,23,204,23],[200,6,204,6],[200,7,204,7],[200,8,204,8],[200,9,204,9],[200,16,204,16],[200,17,204,17],[194,24,198,24],[194,25,198,25],[194,26,198,26],[194,27,198,27],[194,28,198,28],[200,24,204,24],[200,25,204,25],[200,26,204,26],[200,27,204,27],[200,28,204,28],[212,0,217,1],[212,2,216,2],[212,3,216,3],[212,4,216,4],[212,5,216,5],[206,18,210,18],[206,19,210,19],[206,20,210,20],[206,21,210,21],[206,22,210,22],[206,23,210,23],[206,6,210,6],[206,7,210,7],[206,8,210,8],[206,9,210,9],[206,16,210,16],[206,17,210,17],[206,0,211,1],[206,2,210,2],[206,3,210,3],[206,4,210,4],[206,5,210,5],[212,18,216,18],[212,19,216,19],[212,20,216,20],[212,21,216,21],[212,22,216,22],[212,23,216,23],[212,6,216,6],[212,7,216,7],[212,8,216,8],[212,9,216,9],[212,16,216,16],[212,17,216,17],[206,24,210,24],[206,25,210,25],[206,26,210,26],[206,27,210,27],[206,28,210,28],[212,24,216,24],[212,25,216,25],[212,26,216,26],[212,27,216,27],[212,28,216,28],[218,24,222,24],[218,25,222,25],[218,26,222,26],[218,27,222,27],[218,28,222,28],[224,0,229,1],[224,2,228,2],[224,3,228,3],[224,4,228,4],[224,5,228,5],[218,18,222,18],[218,19,222,19],[218,20,222,20],[218,21,222,21],[218,22,222,22],[218,23,222,23],[218,6,222,6],[218,7,222,7],[218,8,222,8],[218,9,222,9],[218,16,222,16],[218,17,222,17],[224,24,228,24],[224,25,228,25],[224,26,228,26],[224,27,228,27],[224,28,228,28],[218,0,223,1],[218,2,222,2],[218,3,222,3],[218,4,222,4],[218,5,222,5],[230,0,230,1],[224,18,228,18],[224,19,228,19],[224,20,228,20],[224,21,228,21],[224,22,228,22],[224,23,228,23],[224,6,228,6],[224,7,228,7],[224,8,228,8],[224,9,228,9],[224,16,228,16],[224,17,228,17],[231,25,237,25],[231,26,237,26],[231,27,237,27],[231,28,237,28],[231,19,237,19],[231,20,237,20],[231,21,237,21],[231,22,237,22],[231,23,237,23],[231,24,237,24],[231,7,237,7],[231,8,237,8],[231,9,237,9],[231,16,237,16],[231,17,237,17],[231,18,237,18],[231,0,238,1],[231,2,237,2],[231,3,237,3],[231,4,237,4],[231,5,237,5],[231,6,237,6],[239,25,243,25],[239,26,243,26],[239,27,243,27],[239,28,243,28],[245,0,250,1],[245,2,249,2],[245,3,249,3],[245,4,249,4],[245,5,249,5],[245,6,249,6],[239,19,243,19],[239,20,243,20],[239,21,243,21],[239,22,243,22],[239,23,243,23],[239,24,243,24],[239,7,243,7],[239,8,243,8],[239,9,243,9],[239,16,243,16],[239,17,243,17],[239,18,243,18],[245,25,249,25],[245,26,249,26],[245,27,249,27],[245,28,249,28],[239,0,244,1],[239,2,243,2],[239,3,243,3],[239,4,243,4],[239,5,243,5],[239,6,243,6],[245,19,249,19],[245,20,249,20],[245,21,249,21],[245,22,249,22],[245,23,249,23],[245,24,249,24],[245,7,249,7],[245,8,249,8],[245,9,249,9],[245,16,249,16],[245,17,249,17],[245,18,249,18],[257,19,262,19],[257,20,262,20],[257,21,262,21],[257,22,262,22],[257,23,262,23],[257,24,262,24],[257,7,262,7],[257,8,262,8],[257,9,262,9],[257,16,262,16],[257,17,262,17],[257,18,262,18],[251,25,255,25],[251,26,255,26],[251,27,255,27],[251,28,255,28],[257,0,263,1],[257,2,262,2],[257,3,262,3],[257,4,262,4],[257,5,262,5],[257,6,262,6],[251,19,255,19],[251,20,255,20],[251,21,255,21],[251,22,255,22],[251,23,255,23],[251,24,255,24],[251,7,255,7],[251,8,255,8],[251,9,255,9],[251,16,255,16],[251,17,255,17],[251,18,255,18],[257,25,262,25],[257,26,262,26],[257,27,262,27],[257,28,262,28],[251,0,256,1],[251,2,255,2],[251,3,255,3],[251,4,255,4],[251,5,255,5],[251,6,255,6],[264,25,268,25],[264,26,268,26],[264,27,268,27],[264,28,268,28],[270,0,275,1],[270,2,274,2],[270,3,274,3],[270,4,274,4],[270,5,274,5],[270,6,274,6],[264,19,268,19],[264,20,268,20],[264,21,268,21],[264,22,268,22],[264,23,268,23],[264,24,268,24],[264,7,268,7],[264,8,268,8],[264,9,268,9],[264,16,268,16],[264,17,268,17],[264,18,268,18],[270,25,274,25],[270,26,274,26],[270,27,274,27],[270,28,274,28],[264,0,269,1],[264,2,268,2],[264,3,268,3],[264,4,268,4],[264,5,268,5],[264,6,268,6],[270,19,274,19],[270,20,274,20],[270,21,274,21],[270,22,274,22],[270,23,274,23],[270,24,274,24],[270,7,274,7],[270,8,274,8],[270,9,274,9],[270,16,274,16],[270,17,274,17],[270,18,274,18],[282,19,286,19],[282,20,286,20],[282,21,286,21],[282,22,286,22],[282,23,286,23],[282,24,286,24],[282,7,286,7],[282,8,286,8],[282,9,286,9],[282,16,286,16],[282,17,286,17],[282,18,286,18],[276,25,280,25],[276,26,280,26],[276,27,280,27],[276,28,280,28],[282,0,287,1]],"merged_total":1221,"flags":["merged_cut"]}
[]
[null,null,null,null,"DIRECCION DE PROMOCIÓN Y PREVENCIÓN - SUBDIRECCION DE ENFERMEDADES TRANSMISIBLES"]
[null,null,null,null,"GRUPO DE INMUNOPREVENIBLES - PROGRAMA AMPLIADO DE INMUNIZACIONES"]
[null,null,null,null,"INFORME MOVIMIENTO MENSUAL DE BIOLÓGICOS "]
[]
["ENTIDAD TERRITORIAL","META",null,null,"MES:",null,null,"MARZO",null,null,"AÑO:",2022]
[]
["CENTRO DE ACOPIO (corresponde al movimiento de insumos del centro de acopio departamental o distrital)"]
["INSUMOS",null,"SALDO MES ANTERIOR","ENTRADAS","ENTRADA",null,"SALIDAS",null,null,"SALDO QUE INICIA EL MES SIGUIENTE","CANTIDAD EN DOSIS","LOTE ","FECHA DE VENCIMIENTO","CONTROL \nDIGITAL POR VENTANA DE USO",null,null,"CAUSAS DE PERDIDA DE BIOLÓGICO ",null,null,null,null,null,null,null,null,null,null,null,"TOTAL DOSIS PERDIDAS        ",null,"PORCENTAJE DE PERDIDA"]
[null,null,null,null,"DESPACHOS","TRASLADOS RECIBIDOS","DESPACHOS","TRASLADOS ENVIADOS","DOSIS PERDIDAS",null,null,null,null,null,null,null," POR FRASCO ABIERTO  ",null,"INTERRUPCION DE CADENA DE FRIO","APLICACIÓN FUERA DE LA EDAD","CONTAMINACION DEL BIOLÓGICO/DISPOSITIVO MÉDICO","FRASCO/VIAL  ROTO","ERRORES EN LA MANIPULACION","VENCIMIENTO DEL BIOLÓGICO/DISPOSITIVO MÉDICO","FARMACOVIGILANCIA/ TECNOVIGILANCIA","VOMITO FRANCO","SINIESTRO O ROBO","RECONSTITUCION BIOLÓGICO"]
[null,null,null,null,null,null,null,null,null,null,null,null,null,null,null,null,"INSTITUCIONAL","EXTRAMURAL"]
[]
["INMUNOBIOLÓGICOS"]
["BCG (vacuna)",null,{"$f":"#REF!","v":{"$error":"#REF!"}},null,null,null,null,null,{"$f":"AC14","v":0},{"$f":"+(C14+D14+F14+E14)-(G14+H14+I14)","v":{"$error":"#REF!"}},null,null,null,{"$f":"IFERROR(IF(DATEDIF(TODAY(),M14,\"M\")<=6,\"ROJO\",IF(DATEDIF(TODAY(),M14,\"M\")>=12,\"VERDE\",IF(AND(DATEDIF(TODAY(),M14,\"M\")>6,DATEDIF(TODAY(),M14,\"M\")<=11),\"AMARILLO\",IF(M14<TODAY(),\"VENCIDO\",0)))),O14)","v":""},{"$f":"IF(M14=0,\"\",\"VENCIDO\")","v":""},null,null,null,null,null,null,null,null,null,null,null,null,null,{"$f":"SUM(Q14:AB18)","v":0},null,0.01,null,null,{"$f":"+IF(AC14<>I14,1,0)","v":0},null,null,null,null,null,"AMAZONAS","ENERO"]
[null,null,null,null,null,null,null,null,null,null,null,null,null,{"$f":"IFERROR(IF(DATEDIF(TODAY(),M15,\"M\")<=6,\"ROJO\",IF(DATEDIF(TODAY(),M15,\"M\")>=12,\"VERDE\",IF(AND(DATEDIF(TODAY(),M15,\"M\")>6,DATEDIF(TODAY(),M15,\"M\")<=11),\"AMARILLO\",IF(M15<TODAY(),\"VENCIDO\",0)))),O15)","v":""},{"$f":"IF(M15=0,\"\",\"VENCIDO\")","v":""},null,null,null,null,null,null,null,null,null,null,null,null,null,null,null,null,null,null,null,null,null,null,null,null,"ANTIOQUIA","FEBRERO"]
[null,null,null,null,null,null,null,null,null,null,null,null,null,"","",null,null,null,null,null,null,null,null,null,null,null,null,null,null,null,null,null,null,null,null,null,null,null,null,"ARAUCA","MARZO"]
[null,null,null,null,null,null,null,null,null,null,null,null,null,"","",null,null,null,null,null,null,null,null,null,null,null,null,null,null,null,null,null,null,null,null,null,null,null,null,"ATLANTICO","ABRIL"]
[null,null,null,null,null,null,null,null,null,null,null,null,null,"","",null,null,null,null,null,null,null,null,null,null,null,null,null,null,null,null,null,null,null,null,null,null,null,null,"BARRANQUILLA","MAYO"]
[null,null,null,null,null,null,null,null,null,{"$f":"J14=K19","v":{"$error":"#REF!"}},{"$f":"SUM(K14:K18)","v":0},null,null,"","",null,null,null,null,null,null,null,null,null,null,null,null,null,null,null,null,null,null,null,null,null,null,null,null,"BOGOTA D.C.","JUNIO"]
["Hepatitis B pediátrica ",null,{"$f":"#REF!","v":{"$error":"#REF!"}},null,null,null,null,null,{"$f":"AC20","v":0},{"$f":"+(C20+D20+F20+E20)-(G20+H20+I20)","v":{"$error":"#REF!"}},null,null,null,"","",null,null,null,null,null,null,null,null,null,null,null,null,null,{"$f":"SUM(Q20:AB24)","v":0},null,{"$f":"IFERROR(AA18*100/(W18+AA18),0)","v":0},null,null,{"$f":"+IF(AC20<>I20,1,0)","v":0},null,null,null,null,null,"BOLIVAR","JULIO"]
[null,null,null,null,null,null,null,null,null,null,null,null,null,"","",null,null,null,null,null,null,null,null,null,null,null,null,null,null,null,null,null,null,null,null,null,null,null,null,"CARTAGENA","AGOSTO"]
[null,null,null,null,null,null,null,null,null,null,null,null,null,"","",null,null,null,null,null,null,null,null,null,null,null,null,null,null,null,null,null,null,null,null,null,null,null,null,"BOYACA","SEPTIEMBRE"]
[null,null,null,null,null,null,null,null,null,null,null,null,null,"","",null,null,null,null,null,null,null,null,null,null,null,null,null,null,null,null,null,null,null,null,null,null,null,null,"CALDAS","OCTUBRE"]
[null,null,null,null,null,null,null,null,null,null,null,null,null,"","",null,null,null,null,null,null,null,null,null,null,null,null,null,null,null,null,null,null,null,null,null,null,null,null,"CAQUETA","NOVIEMBRE"]
[null,null,null,null,null,null,null,null,null,{"$f":"J20=K25","v":{"$error":"#REF!"}},{"$f":"SUM(K20:K24)","v":0},null,null,"","",null,null,null,null,null,null,null,null,null,null,null,null,null,null,null,{"$f":"IFERROR(AA23*100/(W23+AA23),0)","v":0},null,null,null,null,null,null,null,null,"CASANARE","DICIEMBRE"]
["Hepatitis B adultos ",null,{"$f":"#REF!","v":{"$error":"#REF!"}},null,null,null,null,null,{"$f":"AC26","v":0},{"$f":"+(C26+D26+F26)-(E26+I26+H26)","v":{"$error":"#REF!"}},null,null,null,"","",null,null,null,null,null,null,null,null,null,null,null,null,null,{"$f":"SUM(Q26:AB30)","v":0},null,null,null,null,{"$f":"+IF(AC26<>I26,1,0)","v":0},null,null,null,null,null,"BOLIVAR"]
[null,null,null,null,null,null,null,null,null,null,null,null,null,"","",null,null,null,null,null,null,null,null,null,null,null,null,null,null,null,null,null,null,null,null,null,null,null,null,"CARTAGENA"]
[null,null,null,null,null,null,null,null,null,null,null,null,null,"","",null,null,null,null,null,null,null,null,null,null,null,null,null,null,null,null,null,null,null,null,null,null,null,null,"BOYACA"]
[null,null,null,null,null,null,null,null,null,null,null,null,null,"","",null,null,null,null,null,null,null,null,null,null,null,null,null,null,null,null,null,null,null,null,null,null,null,null,"CALDAS"]
[null,null,null,null,null,null,null,null,null,null,null,null,null,"","",null,null,null,null,null,null,null,null,null,null,null,null,null,null,null,null,null,null,null,null,null,null,null,null,"CAQUETA"]
[null,null,null,null,null,null,null,null,null,{"$f":"J26=K31","v":{"$error":"#REF!"}},{"$f":"SUM(K26:K30)","v":0},null,null,"","",null,null,null,null,null,null,null,null,null,null,null,null,null,null,null,{"$f":"IFERROR(AA29*100/(W29+AA29),0)","v":0},null,null,null,null,null,null,null,null,"CASANARE"]
["Polio inactivada - VIP",null,{"$f":"#REF!","v":{"$error":"#REF!"}},null,null,null,null,null,{"$f":"AC32","v":0},{"$f":"+(C32+D32+F32+E32)-(G32+H32+I32)","v":{"$error":"#REF!"}},null,null,null,"","",null,null,null,null,null,null,null,null,null,null,null,null,null,{"$f":"SUM(Q32:AB36)","v":0},null,null,null,null,{"$f":"+IF(AC32<>I32,1,0)","v":0},null,null,null,null,null,"CAUCA"]
[null,null,null,null,null,null,null,null,null,null,null,null,null,"","",null,null,null,null,null,null,null,null,null,null,null,null,null,null,null,null,null,null,null,null,null,null,null,null,"CESAR"]
[null,null,null,null,null,null,null,null,null,null,null,null,null,"","",null,null,null,null,null,null,null,null,null,null,null,null,null,null,null,null,null,null,null,null,null,null,null,null,"CHOCO"]
[null,null,null,null,null,null,null,null,null,null,null,null,null,"","",null,null,null,null,null,null,null,null,null,null,null,null,null,null,null,null,null,null,null,null,null,null,null,null,"CORDOBA"]
[null,null,null,null,null,null,null,null,null,null,null,null,null,"","",null,null,null,null,null,null,null,null,null,null,null,null,null,null,null,{"$f":"IFERROR(AA34*100/(W34+AA34),0)","v":0},null,null,null,null,null,null,null,null,"CUNDINAMARCA"]
[null,null,null,null,null,null,null,null,null,{"$f":"J32=K37","v":{"$error":"#REF!"}},{"$f":"SUM(K32:K36)","v":0},null,null,"","",null,null,null,null,null,null,null,null,null,null,null,null,null,null,null,null,null,null,null,null,null,null,null,null,"GUAINIA"]
["Polio oral",null,{"$f":"#REF!","v":{"$error":"#REF!"}},null,null,null,null,null,{"$f":"AC38","v":0},{"$f":"+(C38+D38+F38+E38)-(G38+H38+I38)","v":{"$error":"#REF!"}},null,null,null,"","",null,null,null,null,null,null,null,null,null,null,null,null,null,{"$f":"SUM(Q38:AB42)","v":0},null,null,null,null,{"$f":"+IF(AC38<>I38,1,0)","v":0},null,null,null,null,null,"GUAVIARE"]
[null,null,null,null,null,null,null,null,null,null,null,null,null,"","",null,null,null,null,null,null,null,null,null,null,null,null,null,null,null,null,null,null,null,null,null,null,null,null,"HUILA"]
[null,null,null,null,null,null,null,null,null,null,null,null,null,"","",null,null,null,null,null,null,null,null,null,null,null,null,null,null,null,null,null,null,null,null,null,null,null,null,"LA GUAJIRA"]
[null,null,null,null,null,null,null,null,null,null,null,null,null,"","",null,null,null,null,null,null,null,null,null,null,null,null,null,null,null,null,null,null,null,null,null,null,null,null,"MAGDALENA"]
[null,null,null,null,null,null,null,null,null,null,null,null,null,"","",null,null,null,null,null,null,null,null,null,null,null,null,null,null,null,{"$f":"IFERROR(AA40*100/(W40+AA40),0)","v":0},null,null,null,null,null,null,null,null,"SANTA MARTA"]
[null,null,null,null,null,null,null,null,null,{"$f":"J38=K43","v":{"$error":"#REF!"}},{"$f":"SUM(K38:K42)","v":0},null,null,"","",null,null,null,null,null,null,null,null,null,null,null,null,null,null,null,null,null,null,null,null,null,null,null,null,"META"]
["Pentavalente",null,{"$f":"#REF!","v":{"$error":"#REF!"}},null,null,null,null,null,{"$f":"AC44","v":0},{"$f":"+(C44+D44+F44+E44)-(G44+H44+I44)","v":{"$error":"#REF!"}},null,null,null,"","",null,null,null,null,null,null,null,null,null,null,null,null,null,{"$f":"SUM(Q44:AB48)","v":0},null,null,null,null,{"$f":"+IF(AC44<>I44,1,0)","v":0},null,null,null,null,null,"NARIÑO"]
[null,null,null,null,null,null,null,null,null,null,null,null,null,"","",null,null,null,null,null,null,null,null,null,null,null,null,null,null,null,null,null,null,null,null,null,null,null,null,"NORTE DE SANTANDER"]
[null,null,null,null,null,null,null,null,null,null,null,null,null,"","",null,null,null,null,null,null,null,null,null,null,null,null,null,null,null,null,null,null,null,null,null,null,null,null,"PUTUMAYO"]
[null,null,null,null,null,null,null,null,null,null,null,null,null,"","",null,null,null,null,null,null,null,null,null,null,null,null,null,null,null,{"$f":"IFERROR(AA45*100/(W45+AA45),0)","v":0},null,null,null,null,null,null,null,null,"QUINDIO"]
[null,null,null,null,null,null,null,null,null,null,null,null,null,"","",null,null,null,null,null,null,null,null,null,null,null,null,null,null,null,null,null,null,null,null,null,null,null,null,"RISARALDA"]
[null,null,null,null,null,null,null,null,null,{"$f":"J44=K49","v":{"$error":"#REF!"}},{"$f":"SUM(K44:K48)","v":0},null,null,"","",null,null,null,null,null,null,null,null,null,null,null,null,null,null,null,null,null,null,null,null,null,null,null,null,"SAN ANDRES ISLA"]
["Hexavalente",null,{"$f":"#REF!","v":{"$error":"#REF!"}},null,null,null,null,null,{"$f":"AC50","v":0},{"$f":"+(C50+D50+F50+E50)-(G50+H50+I50)","v":{"$error":"#REF!"}},null,null,null,"","",null,null,null,null,null,null,null,null,null,null,null,null,null,{"$f":"SUM(Q50:AB54)","v":0},null,null,null,null,{"$f":"+IF(AC50<>I50,1,0)","v":0},null,null,null,null,null,"NARIÑO"]
[null,null,null,null,null,null,null,null,null,null,null,null,null,"","",null,null,null,null,null,null,null,null,null,null,null,null,null,null,null,null,null,null,null,null,null,null,null,null,"NORTE DE SANTANDER"]
[null,null,null,null,null,null,null,null,null,null,null,null,null,"","",null,null,null,null,null,null,null,null,null,null,null,null,null,null,null,null,null,null,null,null,null,null,null,null,"PUTUMAYO"]
[null,null,null,null,null,null,null,null,null,null,null,null,null,"","",null,null,null,null,null,null,null,null,null,null,null,null,null,null,null,{"$f":"IFERROR(AA51*100/(W51+AA51),0)","v":0},null,null,null,null,null,null,null,null,"QUINDIO"]
[null,null,null,null,null,null,null,null,null,null,null,null,null,"","",null,null,null,null,null,null,null,null,null,null,null,null,null,null,null,null,null,null,null,null,null,null,null,null,"RISARALDA"]
[null,null,null,null,null,null,null,null,null,{"$f":"J50=K55","v":{"$error":"#REF!"}},{"$f":"SUM(K50:K54)","v":0},null,null,"","",null,null,null,null,null,null,null,null,null,null,null,null,null,null,null,null,null,null,null,null,null,null,null,null,"SAN ANDRES ISLA"]
["DPT",null,{"$f":"#REF!","v":{"$error":"#REF!"}},null,null,null,null,null,{"$f":"AC56","v":0},{"$f":"+(C56+D56+F56+E56)-(G56+H56+I56)","v":{"$error":"#REF!"}},null,null,null,"","",null,null,null,null,null,null,null,null,null,null,null,null,null,{"$f":"SUM(Q56:AB60)","v":0},null,null,null,null,{"$f":"+IF(AC56<>I56,1,0)","v":0},null,null,null,null,null,"SANTANDER"]
[null,null,null,null,null,null,null,null,null,null,null,null,null,"","",null,null,null,null,null,null,null,null,null,null,null,null,null,null,null,null,null,null,null,null,null,null,null,null,"SUCRE"]
[null,null,null,null,null,null,null,null,null,null,null,null,null,"","",null,null,null,null,null,null,null,null,null,null,null,null,null,null,null,null,null,null,null,null,null,null,null,null,"TOLIMA"]
[null,null,null,null,null,null,null,null,null,null,null,null,null,"","",null,null,null,null,null,null,null,null,null,null,null,null,null,null,null,{"$f":"IFERROR(AA57*100/(W57+AA57),0)","v":0},null,null,null,null,null,null,null,null,"VALLE"]
[null,null,null,null,null,null,null,null,null,null,null,null,null,"","",null,null,null,null,null,null,null,null,null,null,null,null,null,null,null,null,null,null,null,null,null,null,null,null,"BUENAVENTURA"]
[null,null,null,null,null,null,null,null,null,{"$f":"J56=K61","v":{"$error":"#REF!"}},{"$f":"SUM(K56:K60)","v":0},null,null,"","",null,null,null,null,null,null,null,null,null,null,null,null,null,null,null,null,null,null,null,null,null,null,null,null,"VAUPES"]
["DTaP Pediatrica",null,{"$f":"#REF!","v":{"$error":"#REF!"}},null,null,null,null,null,{"$f":"AC62","v":0},{"$f":"+(C62+D62+F62+E62)-(G62+H62+I62)","v":{"$error":"#REF!"}},null,null,null,"","",null,null,null,null,null,null,null,null,null,null,null,null,null,{"$f":"SUM(Q62:AB66)","v":0},null,null,null,null,{"$f":"+IF(AC62<>I62,1,0)","v":0},null,null,null,null,null,"VICHADA"]
[null,null,null,null,null,null,null,null,null,null,null,null,null,"",""]
[null,null,null,null,null,null,null,null,null,null,null,null,null,"","",null,null,null,null,null,null,null,null,null,null,null,null,null,null,null,{"$f":"IFERROR(AA62*100/(W62+AA62),0)","v":0}]
[null,null,null,null,null,null,null,null,null,null,null,null,null,"",""]
[null,null,null,null,null,null,null,null,null,null,null,null,null,"",""]
[null,null,null,null,null,null,null,null,null,{"$f":"J62=K67","v":{"$error":"#REF!"}},{"$f":"SUM(K62:K66)","v":0},null,null,"",""]
["Td pediatrica",null,{"$f":"#REF!","v":{"$error":"#REF!"}},null,null,null,null,null,{"$f":"AC68","v":0},{"$f":"+(C68+D68+F68+E68)-(G68+H68+I68)","v":{"$error":"#REF!"}},null,null,null,"","",null,null,null,null,null,null,null,null,null,null,null,null,null,{"$f":"SUM(Q68:AB72)","v":0},null,null,null,null,{"$f":"+IF(AC68<>I68,1,0)","v":0}]
[null,null,null,null,null,null,null,null,null,null,null,null,null,"",""]
[null,null,null,null,null,null,null,null,null,null,null,null,null,"","",null,null,null,null,null,null,null,null,null,null,null,null,null,null,null,{"$f":"IFERROR(AA68*100/(W68+AA68),0)","v":0}]
[null,null,null,null,null,null,null,null,null,null,null,null,null,"",""]
[null,null,null,null,null,null,null,null,null,null,null,null,null,"",""]
[null,null,null,null,null,null,null,null,null,{"$f":"J68=K73","v":{"$error":"#REF!"}},{"$f":"SUM(K68:K72)","v":0},null,null,"",""]
["Rotavirus",null,{"$f":"#REF!","v":{"$error":"#REF!"}},null,null,null,null,null,{"$f":"AC74","v":0},{"$f":"+(C74+D74+F74+E74)-(G74+H74+I74)","v":{"$error":"#REF!"}},null,null,null,"","",null,null,null,null,null,null,null,null,null,null,null,null,null,{"$f":"SUM(Q74:AB78)","v":0},null,null,null,null,{"$f":"+IF(AC74<>I74,1,0)","v":0}]
[null,null,null,null,null,null,null,null,null,null,null,null,null,"","",null,null,null,null,null,null,null,null,null,null,null,null,null,null,null,{"$f":"IFERROR(AA73*100/(W73+AA73),0)","v":0}]
[null,null,null,null,null,null,null,null,null,null,null,null,null,"",""]
[null,null,null,null,null,null,null,null,null,null,null,null,null,"",""]
[null,null,null,null,null,null,null,null,null,null,null,null,null,"",""]
[null,null,null,null,null,null,null,null,null,{"$f":"J74=K79","v":{"$error":"#REF!"}},{"$f":"SUM(K74:K78)","v":0},null,null,{"$f":"IFERROR(IF(DATEDIF(TODAY(),M79,\"M\")<=6,\"ROJO\",IF(DATEDIF(TODAY(),M79,\"M\")>=12,\"VERDE\",IF(AND(DATEDIF(TODAY(),M79,\"M\")>6,DATEDIF(TODAY(),M79,\"M\")<=11),\"AMARILLO\",IF(M79<TODAY(),\"VENCIDO\",0)))),O79)","v":""},""]
["Neumococo_Decavalente",null,{"$f":"#REF!","v":{"$error":"#REF!"}},null,null,null,null,null,{"$f":"AC80","v":0},{"$f":"+(C80+D80+F80+E80)-(G80+H80+I80)","v":{"$error":"#REF!"}},null,null,null,"","",null,null,null,null,null,null,null,null,null,null,null,null,null,{"$f":"SUM(Q80:AB84)","v":0},null,null,null,null,{"$f":"+IF(AC80<>I80,1,0)","v":0}]
[null,null,null,null,null,null,null,null,null,null,null,null,null,"","",null,null,null,null,null,null,null,null,null,null,null,null,null,null,null,{"$f":"IFERROR(AA79*100/(W79+AA79),0)","v":0}]
[null,null,null,null,null,null,null,null,null,null,null,null,null,"",""]
[null,null,null,null,null,null,null,null,null,null,null,null,null,"",""]
[null,null,null,null,null,null,null,null,null,null,null,null,null,"",""]
[null,null,null,null,null,null,null,null,null,{"$f":"J80=K85","v":{"$error":"#REF!"}},{"$f":"SUM(K80:K84)","v":0},null,null,"",{"$f":"IF(M85=0,\"\",\"VENCIDO\")","v":""}]
["Neumococo_Trecevalente",null,{"$f":"#REF!","v":{"$error":"#REF!"}},null,null,null,null,null,{"$f":"AC86","v":0},{"$f":"+(C86+D86+F86+E86)-(G86+H86+I86)","v":{"$error":"#REF!"}},null,null,null,"","",null,null,null,null,null,null,null,null,null,null,null,null,null,{"$f":"SUM(Q86:AB90)","v":0},null,{"$f":"IFERROR(AA84*100/(W84+AA84),0)","v":0},null,null,{"$f":"+IF(AC86<>I86,1,0)","v":0}]
[null,null,null,null,null,null,null,null,null,null,null,null,null,"",""]
[null,null,null,null,null,null,null,null,null,null,null,null,null,"",""]
[null,null,null,null,null,null,null,null,null,null,null,null,null,"",""]
[null,null,null,null,null,null,null,null,null,null,null,null,null,"",""]
[null,null,null,null,null,null,null,null,null,{"$f":"J86=K91","v":{"$error":"#REF!"}},{"$f":"SUM(K86:K90)","v":0},null,null,"",""]
["Triple Viral (vacuna)",null,{"$f":"#REF!","v":{"$error":"#REF!"}},null,null,null,null,null,{"$f":"AC92","v":0},{"$f":"+(C92+D92+F92+E92)-(G92+H92+I92)","v":{"$error":"#REF!"}},null,null,"2023-09-30","ROJO","VENCIDO",null,null,null,null,null,null,null,null,null,null,null,null,null,{"$f":"SUM(Q92:AB96)","v":0},null,{"$f":"IFERROR(AA90*100/(W90+AA90),0)","v":0},null,null,{"$f":"+IF(AC92<>I92,1,0)","v":0}]
[null,null,null,null,null,null,null,null,null,null,null,null,"2023-07-31","VENCIDO","VENCIDO"]
[null,null,null,null,null,null,null,null,null,null,null,null,"2023-07-31","VENCIDO","VENCIDO"]
[null,null,null,null,null,null,null,null,null,null,null,null,"2023-11-30","ROJO","VENCIDO"]
[null,null,null,null,null,null,null,null,null,null,null,null,"2023-02-28","VENCIDO","VENCIDO"]
[null,null,null,null,null,null,null,null,null,{"$f":"J92=K97","v":{"$error":"#REF!"}},{"$f":"SUM(K92:K96)","v":0},null,null,"","",null,null,null,null,null,null,null,null,null,null,null,null,null,null,null,{"$f":"IFERROR(AA95*100/(W95+AA95),0)","v":0}]
["Sarampion Rubéola (vacuna)",null,{"$f":"#REF!","v":{"$error":"#REF!"}},null,null,null,null,null,{"$f":"AC98","v":0},{"$f":"+(C98+D98+F98+E98)-(G98+H98+I98)","v":{"$error":"#REF!"}},null,null,"2023-11-30","ROJO","VENCIDO",null,null,null,null,null,null,null,null,null,null,null,null,null,{"$f":"SUM(Q98:AB102)","v":0},null,null,null,null,{"$f":"+IF(AC98<>I98,1,0)","v":0}]
[null,null,null,null,null,null,null,null,null,null,null,null,"2023-11-30","ROJO","VENCIDO"]
[null,null,null,null,null,null,null,null,null,null,null,null,null,"",""]
[null,null,null,null,null,null,null,null,null,null,null,null,null,"",""]
[null,null,null,null,null,null,null,null,null,null,null,null,null,"",""]
[null,null,null,null,null,null,null,null,null,{"$f":"J98=K103","v":{"$error":"#REF!"}},{"$f":"SUM(K98:K102)","v":0},null,null,"","",null,null,null,null,null,null,null,null,null,null,null,null,null,null,null,{"$f":"IFERROR(AA101*100/(W101+AA101),0)","v":0}]
["Fiebre amarilla (vacuna)",null,{"$f":"#REF!","v":{"$error":"#REF!"}},null,null,null,null,null,{"$f":"AC104","v":0},{"$f":"+(C104+D104+F104+E104)-(G104+H104+I104)","v":{"$error":"#REF!"}},null,null,null,"","",null,null,null,null,null,null,null,null,null,null,null,null,null,{"$f":"SUM(Q104:AB108)","v":0},null,null,null,null,{"$f":"+IF(AC104<>I104,1,0)","v":0}]
[null,null,null,null,null,null,null,null,null,null,null,null,null,"",""]
[null,null,null,null,null,null,null,null,null,null,null,null,null,"",""]
[null,null,null,null,null,null,null,null,null,null,null,null,null,"",""]
[null,null,null,null,null,null,null,null,null,null,null,null,null,"","",null,null,null,null,null,null,null,null,null,null,null,null,null,null,null,{"$f":"IFERROR(AA106*100/(W106+AA106),0)","v":0}]
[null,null,null,null,null,null,null,null,null,{"$f":"J104=K109","v":{"$error":"#REF!"}},{"$f":"SUM(K104:K108)","v":0},null,null,"",""]
["Hepatitis A pediátrica ",null,{"$f":"#REF!","v":{"$error":"#REF!"}},null,null,null,null,null,{"$f":"AC110","v":0},{"$f":"+(C110+D110+F110+E110)-(G110+H110+I110)","v":{"$error":"#REF!"}},null,null,null,"","",null,null,null,null,null,null,null,null,null,null,null,null,null,{"$f":"SUM(Q110:AB114)","v":0},null,null,null,null,{"$f":"+IF(AC110<>I110,1,0)","v":0}]
[null,null,null,null,null,null,null,null,null,null,null,null,null,"",""]
[null,null,null,null,null,null,null,null,null,null,null,null,null,"",""]
[null,null,null,null,null,null,null,null,null,null,null,null,null,"",""]
[null,null,null,null,null,null,null,null,null,null,null,null,null,"","",null,null,null,null,null,null,null,null,null,null,null,null,null,null,null,{"$f":"IFERROR(AA112*100/(W112+AA112),0)","v":0}]
[null,null,null,null,null,null,null,null,null,{"$f":"J110=K115","v":{"$error":"#REF!"}},{"$f":"SUM(K110:K114)","v":0},null,null,"",""]
["Varicela (vacuna)",null,{"$f":"#REF!","v":{"$error":"#REF!"}},null,null,null,null,null,{"$f":"AC116","v":0},{"$f":"+(C116+D116+F116+E116)-(G116+H116+I116)","v":{"$error":"#REF!"}},null,null,null,"","",null,null,null,null,null,null,null,null,null,null,null,null,null,{"$f":"SUM(Q116:AB120)","v":0},null,null,null,null,{"$f":"+IF(AC116<>I116,1,0)","v":0}]
[null,null,null,null,null,null,null,null,null,null,null,null,null,"",""]
[null,null,null,null,null,null,null,null,null,null,null,null,null,"",""]
[null,null,null,null,null,null,null,null,null,null,null,null,null,"","",null,null,null,null,null,null,null,null,null,null,null,null,null,null,null,{"$f":"IFERROR(AA117*100/(W117+AA117),0)","v":0}]
[null,null,null,null,null,null,null,null,null,null,null,null,null,"",""]
[null,null,null,null,null,null,null,null,null,{"$f":"J116=K121","v":{"$error":"#REF!"}},{"$f":"SUM(K116:K120)","v":0},null,null,"",""]
["Td Adultos",null,{"$f":"#REF!","v":{"$error":"#REF!"}},null,null,null,null,null,{"$f":"AC122","v":0},{"$f":"+(C122+D122+F122+E122)-(G122+H122+I122)","v":{"$error":"#REF!"}},null,null,"2023-09-30","ROJO","VENCIDO",null,null,null,null,null,null,null,null,null,null,null,null,null,{"$f":"SUM(Q122:AB126)","v":0},null,null,null,null,{"$f":"+IF(AC122<>I122,1,0)","v":0}]
[null,null,null,null,null,null,null,null,null,null,null,null,"2023-09-30","ROJO","VENCIDO"]
[null,null,null,null,null,null,null,null,null,null,null,null,null,"",""]
[null,null,null,null,null,null,null,null,null,null,null,null,null,"","",null,null,null,null,null,null,null,null,null,null,null,null,null,null,null,{"$f":"IFERROR(AA123*100/(W123+AA123),0)","v":0}]
[null,null,null,null,null,null,null,null,null,null,null,null,null,"",""]
[null,null,null,null,null,null,null,null,null,{"$f":"J122=K127","v":{"$error":"#REF!"}},{"$f":"SUM(K122:K126)","v":0},null,null,"",""]
["DTaP Adolescentes /Adultos",null,{"$f":"#REF!","v":{"$error":"#REF!"}},null,null,null,null,null,{"$f":"AC128","v":0},{"$f":"+(C128+D128+F128+E128)-(G128+H128+I128)","v":{"$error":"#REF!"}},null,null,"2023-07-31","VENCIDO","VENCIDO",null,null,null,null,null,null,null,null,null,null,null,null,null,{"$f":"SUM(Q128:AB132)","v":0},null,null,null,null,{"$f":"+IF(AC128<>I128,1,0)","v":0}]
[null,null,null,null,null,null,null,null,null,null,null,null,"2022-09-30","VENCIDO","VENCIDO"]
[null,null,null,null,null,null,null,null,null,null,null,null,null,"","",null,null,null,null,null,null,null,null,null,null,null,null,null,null,null,{"$f":"IFERROR(AA128*100/(W128+AA128),0)","v":0}]
[null,null,null,null,null,null,null,null,null,null,null,null,null,"",""]
[null,null,null,null,null,null,null,null,null,null,null,null,null,"",""]
[null,null,null,null,null,null,null,null,null,{"$f":"J128=K133","v":{"$error":"#REF!"}},{"$f":"SUM(K128:K132)","v":0},null,null,"",""]
["Influenza pediatrica",null,{"$f":"#REF!","v":{"$error":"#REF!"}},null,null,null,null,null,{"$f":"AC134","v":0},{"$f":"+(C134+D134+F134+E134)-(G134+H134+I134)","v":{"$error":"#REF!"}},null,null,null,"","",null,null,null,null,null,null,null,null,null,null,null,null,null,{"$f":"SUM(Q134:AB138)","v":0},null,null,null,null,{"$f":"+IF(AC134<>I134,1,0)","v":0}]
[null,null,null,null,null,null,null,null,null,null,null,null,null,"",""]
[null,null,null,null,null,null,null,null,null,null,null,null,null,"","",null,null,null,null,null,null,null,null,null,null,null,null,null,null,null,{"$f":"IFERROR(AA134*100/(W134+AA134),0)","v":0}]
[null,null,null,null,null,null,null,null,null,null,null,null,null,"",""]
[null,null,null,null,null,null,null,null,null,null,null,null,null,"",""]
[null,null,null,null,null,null,null,null,null,{"$f":"J134=K139","v":{"$error":"#REF!"}},{"$f":"SUM(K134:K138)","v":0},null,null,"",""]
["Influenza Adultos",null,{"$f":"#REF!","v":{"$error":"#REF!"}},null,null,null,null,null,{"$f":"AC140","v":0},{"$f":"+(C140+D140+F140+E140)-(G140+H140+I140)","v":{"$error":"#REF!"}},null,null,null,"","",null,null,null,null,null,null,null,null,null,null,null,null,null,{"$f":"SUM(Q140:AB144)","v":0},null,null,null,null,{"$f":"+IF(AC140<>I140,1,0)","v":0}]
[null,null,null,null,null,null,null,null,null,null,null,null,null,"","",null,null,null,null,null,null,null,null,null,null,null,null,null,null,null,{"$f":"IFERROR(AA139*100/(W139+AA139),0)","v":0}]
[null,null,null,null,null,null,null,null,null,null,null,null,null,"",""]
[null,null,null,null,null,null,null,null,null,null,null,null,null,"",""]
[null,null,null,null,null,null,null,null,null,null,null,null,null,"",""]
[null,null,null,null,null,null,null,null,null,{"$f":"J140=K145","v":{"$error":"#REF!"}},{"$f":"SUM(K140:K144)","v":0},null,null,{"$f":"IFERROR(IF(DATEDIF(TODAY(),M145,\"M\")<=6,\"ROJO\",IF(DATEDIF(TODAY(),M145,\"M\")>=12,\"VERDE\",IF(AND(DATEDIF(TODAY(),M145,\"M\")>6,DATEDIF(TODAY(),M145,\"M\")<=11),\"AMARILLO\",IF(M145<TODAY(),\"VENCIDO\",0)))),O145)","v":""},""]
["VPH (vacuna)",null,{"$f":"#REF!","v":{"$error":"#REF!"}},null,null,null,null,null,{"$f":"AC146","v":0},{"$f":"+(C146+D146+F146+E146)-(G146+H146+I146)","v":{"$error":"#REF!"}},null,null,null,"","",null,null,null,null,null,null,null,null,null,null,null,null,null,{"$f":"SUM(Q146:AB150)","v":0},null,null,null,null,{"$f":"+IF(AC146<>I146,1,0)","v":0}]
[null,null,null,null,null,null,null,null,null,null,null,null,null,"","",null,null,null,null,null,null,null,null,null,null,null,null,null,null,null,{"$f":"IFERROR(AA145*100/(W145+AA145),0)","v":0}]
[null,null,null,null,null,null,null,null,null,null,null,null,null,"",""]
[null,null,null,null,null,null,null,null,null,null,null,null,null,"",{"$f":"IF(M149=0,\"\",\"VENCIDO\")","v":""}]
[null,null,null,null,null,null,null,null,null,null,null,null,null,"",""]
[null,null,null,null,null,null,null,null,null,{"$f":"J146=K151","v":{"$error":"#REF!"}},{"$f":"SUM(K146:K150)","v":0},null,null,"",""]
["Antirrabica Humana (vacuna)",null,{"$f":"#REF!","v":{"$error":"#REF!"}},null,null,null,null,null,{"$f":"AC152","v":0},{"$f":"+(C152+D152+F152+E152)-(G152+H152+I152)","v":{"$error":"#REF!"}},null,null,null,"","",null,null,null,null,null,null,null,null,null,null,null,null,null,{"$f":"SUM(Q152:AB156)","v":0},null,{"$f":"IFERROR(AA150*100/(W150+AA150),0)","v":0},null,null,{"$f":"+IF(AC152<>I152,1,0)","v":0}]
[null,null,null,null,null,null,null,null,null,null,null,null,null,"",""]
[null,null,null,null,null,null,null,null,null,null,null,null,null,"",""]
[null,null,null,null,null,null,null,null,null,null,null,null,null,"",""]
[null,null,null,null,null,null,null,null,null,null,null,null,null,"",""]
[null,null,null,null,null,null,null,null,null,{"$f":"J152=K157","v":{"$error":"#REF!"}},{"$f":"SUM(K152:K156)","v":0},null,null,"",""]
["Inmunoglobulina antirrabica humana (suero)",null,{"$f":"#REF!","v":{"$error":"#REF!"}},null,null,null,null,null,{"$f":"AC158","v":0},{"$f":"+(C158+D158+F158+E158)-(G158+H158+I158)","v":{"$error":"#REF!"}},null,null,null,"","",null,null,null,null,null,null,null,null,null,null,null,null,null,{"$f":"SUM(Q158:AB162)","v":0},null,{"$f":"IFERROR(AA156*100/(W156+AA156),0)","v":0},null,null,{"$f":"+IF(AC158<>I158,1,0)","v":0}]
[null,null,null,null,null,null,null,null,null,null,null,null,null,"",""]
[null,null,null,null,null,null,null,null,null,null,null,null,null,"",""]
[null,null,null,null,null,null,null,null,null,null,null,null,null,"",""]
[null,null,null,null,null,null,null,null,null,null,null,null,null,"",""]
[null,null,null,null,null,null,null,null,null,{"$f":"J158=K163","v":{"$error":"#REF!"}},{"$f":"SUM(K158:K162)","v":0},null,null,"","",null,null,null,null,null,null,null,null,null,null,null,null,null,null,null,{"$f":"IFERROR(AA161*100/(W161+AA161),0)","v":0}]
["Inmunoglobulina antihepatitis B",null,{"$f":"#REF!","v":{"$error":"#REF!"}},null,null,null,null,null,{"$f":"AC164","v":0},{"$f":"+(C164+D164+F164+E164)-(G164+H164+I164)","v":{"$error":"#REF!"}},null,null,null,"","",null,null,null,null,null,null,null,null,null,null,null,null,null,{"$f":"SUM(Q164:AB168)","v":0},null,null,null,null,{"$f":"+IF(AC164<>I164,1,0)","v":0}]
[null,null,null,null,null,null,null,null,null,null,null,null,null,"",""]
[null,null,null,null,null,null,null,null,null,null,null,null,null,"",""]
[null,null,null,null,null,null,null,null,null,null,null,null,null,"",""]
[null,null,null,null,null,null,null,null,null,null,null,null,null,"",""]
[null,null,null,null,null,null,null,null,null,{"$f":"J164=K169","v":{"$error":"#REF!"}},{"$f":"SUM(K164:K168)","v":0},null,null,"","",null,null,null,null,null,null,null,null,null,null,null,null,null,null,null,{"$f":"IFERROR(AA167*100/(W167+AA167),0)","v":0}]
["Inmunoglobulina antitetanica ",null,{"$f":"#REF!","v":{"$error":"#REF!"}},null,null,null,null,null,{"$f":"AC170","v":0},{"$f":"+(C170+D170+F170+E170)-(G170+H170+I170)","v":{"$error":"#REF!"}},null,null,null,"","",null,null,null,null,null,null,null,null,null,null,null,null,null,{"$f":"SUM(Q170:AB174)","v":0},null,null,null,null,{"$f":"+IF(AC170<>I170,1,0)","v":0}]
[null,null,null,null,null,null,null,null,null,null,null,null,null,"",""]
[null,null,null,null,null,null,null,null,null,null,null,null,null,"",""]
[null,null,null,null,null,null,null,null,null,null,null,null,null,"",""]
[null,null,null,null,null,null,null,null,null,null,null,null,null,"","",null,null,null,null,null,null,null,null,null,null,null,null,null,null,null,{"$f":"IFERROR(AA172*100/(W172+AA172),0)","v":0}]
[null,null,null,null,null,null,null,null,null,{"$f":"J170=K175","v":{"$error":"#REF!"}},{"$f":"SUM(K170:K174)","v":0},null,null,"",""]
["Antitoxina difterica",null,{"$f":"#REF!","v":{"$error":"#REF!"}},null,null,null,null,null,{"$f":"AC176","v":0},{"$f":"+(C176+D176+F176+E176)-(G176+H176+I176)","v":{"$error":"#REF!"}},null,null,null,"","",null,null,null,null,null,null,null,null,null,null,null,null,null,{"$f":"SUM(Q176:AB180)","v":0},null,null,null,null,{"$f":"+IF(AC176<>I176,1,0)","v":0}]
[null,null,null,null,null,null,null,null,null,null,null,null,null,"",""]
[null,null,null,null,null,null,null,null,null,null,null,null,null,"",""]
[null,null,null,null,null,null,null,null,null,null,null,null,null,"",""]
[null,null,null,null,null,null,null,null,null,null,null,null,null,"","",null,null,null,null,null,null,null,null,null,null,null,null,null,null,null,{"$f":"IFERROR(AA178*100/(W178+AA178),0)","v":0}]
[null,null,null,null,null,null,null,null,null,{"$f":"J176=K181","v":{"$error":"#REF!"}},{"$f":"SUM(K176:K180)","v":0},null,null,"",""]
["Meningococo",null,{"$f":"#REF!","v":{"$error":"#REF!"}},null,null,null,null,null,{"$f":"AC182","v":0},{"$f":"+(C182+D182+F182+E182)-(G182+H182+I182)","v":{"$error":"#REF!"}},null,null,null,"","",null,null,null,null,null,null,null,null,null,null,null,null,null,{"$f":"SUM(Q182:AB186)","v":0},null,null,null,null,{"$f":"+IF(AC182<>I182,1,0)","v":0}]
[null,null,null,null,null,null,null,null,null,null,null,null,null,"",""]
[null,null,null,null,null,null,null,null,null,null,null,null,null,"",""]
[null,null,null,null,null,null,null,null,null,null,null,null,null,"","",null,null,null,null,null,null,null,null,null,null,null,null,null,null,null,{"$f":"IFERROR(AA183*100/(W183+AA183),0)","v":0}]
[null,null,null,null,null,null,null,null,null,null,null,null,null,"",""]
[null,null,null,null,null,null,null,null,null,{"$f":"J182=K187","v":{"$error":"#REF!"}},{"$f":"SUM(K182:K186)","v":0},null,null,"",""]
["DILUYENTES",null,null,null,null,null,null,null,null,null,null,null,null,"",""]
["BCG (diluyente)",null,{"$f":"#REF!","v":{"$error":"#REF!"}},null,null,null,null,null,{"$f":"AC189","v":0},{"$f":"+(C189+D189+F189+E189)-(G189+H189+I189)","v":{"$error":"#REF!"}},null,null,null,"","",null,null,null,null,null,null,null,null,null,null,null,null,null,{"$f":"SUM(Q189:AB193)","v":0},null,null,null,null,{"$f":"+IF(AC189<>I189,1,0)","v":0}]
[null,null,null,null,null,null,null,null,null,null,null,null,null,"",""]
[null,null,null,null,null,null,null,null,null,null,null,null,null,"","",null,null,null,null,null,null,null,null,null,null,null,null,null,null,null,{"$f":"IFERROR(AA189*100/(W189+AA189),0)","v":0}]
[null,null,null,null,null,null,null,null,null,null,null,null,null,"",""]
[null,null,null,null,null,null,null,null,null,null,null,null,null,"",""]
[null,null,null,null,null,null,null,null,null,{"$f":"J189=K194","v":{"$error":"#REF!"}},{"$f":"SUM(K189:K193)","v":0},null,null,"",""]
["Triple viral - SRP (diluyente)",null,{"$f":"#REF!","v":{"$error":"#REF!"}},null,null,null,null,null,{"$f":"AC195","v":0},{"$f":"+(C195+D195+F195+E195)-(G195+H195+I195)","v":{"$error":"#REF!"}},null,null,null,"","",null,null,null,null,null,null,null,null,null,null,null,null,null,{"$f":"SUM(Q195:AB199)","v":0},null,null,null,null,{"$f":"+IF(AC195<>I195,1,0)","v":0}]
[null,null,null,null,null,null,null,null,null,null,null,null,null,"","",null,null,null,null,null,null,null,null,null,null,null,null,null,null,null,{"$f":"IFERROR(AA194*100/(W194+AA194),0)","v":0}]
[null,null,null,null,null,null,null,null,null,null,null,null,null,"",""]
[null,null,null,null,null,null,null,null,null,null,null,null,null,"",""]
[null,null,null,null,null,null,null,null,null,null,null,null,null,"",""]
[null,null,null,null,null,null,null,null,null,{"$f":"J195=K200","v":{"$error":"#REF!"}},{"$f":"SUM(K195:K199)","v":0},null,null,"",""]
["Sarampión - Rubeola - SR (diluyente)",null,{"$f":"#REF!","v":{"$error":"#REF!"}},null,null,null,null,null,{"$f":"AC201","v":0},{"$f":"+(C201+D201+F201+E201)-(G201+H201+I201)","v":{"$error":"#REF!"}},null,null,null,"","",null,null,null,null,null,null,null,null,null,null,null,null,null,{"$f":"SUM(Q201:AB205)","v":0},null,null,null,null,{"$f":"+IF(AC201<>I201,1,0)","v":0}]
[null,null,null,null,null,null,null,null,null,null,null,null,null,"","",null,null,null,null,null,null,null,null,null,null,null,null,null,null,null,{"$f":"IFERROR(AA200*100/(W200+AA200),0)","v":0}]
[null,null,null,null,null,null,null,null,null,null,null,null,null,"",""]
[null,null,null,null,null,null,null,null,null,null,null,null,null,"",""]
[null,null,null,null,null,null,null,null,null,null,null,null,null,"",""]
[null,null,null,null,null,null,null,null,null,{"$f":"J201=K206","v":{"$error":"#REF!"}},{"$f":"SUM(K201:K205)","v":0},null,null,"",""]
["Fiebre amarilla (diluyente)",null,{"$f":"#REF!","v":{"$error":"#REF!"}},null,null,null,null,null,{"$f":"AC207","v":0},{"$f":"+(C207+D207+F207+E207)-(G207+H207+I207)","v":{"$error":"#REF!"}},null,null,null,"","",null,null,null,null,null,null,null,null,null,null,null,null,null,{"$f":"SUM(Q207:AB211)","v":0},null,{"$f":"IFERROR(AA205*100/(W205+AA205),0)","v":0},null,null,{"$f":"+IF(AC207<>I207,1,0)","v":0}]
[null,null,null,null,null,null,null,null,null,null,null,null,null,"",""]
[null,null,null,null,null,null,null,null,null,null,null,null,null,{"$f":"IFERROR(IF(DATEDIF(TODAY(),M209,\"M\")<=6,\"ROJO\",IF(DATEDIF(TODAY(),M209,\"M\")>=12,\"VERDE\",IF(AND(DATEDIF(TODAY(),M209,\"M\")>6,DATEDIF(TODAY(),M209,\"M\")<=11),\"AMARILLO\",IF(M209<TODAY(),\"VENCIDO\",0)))),O209)","v":""},""]
[null,null,null,null,null,null,null,null,null,null,null,null,null,"",""]
[null,null,null,null,null,null,null,null,null,null,null,null,null,"",""]
[null,null,null,null,null,null,null,null,null,{"$f":"J207=K212","v":{"$error":"#REF!"}},{"$f":"SUM(K207:K211)","v":0},null,null,"",""]
["Varicela (diluyente)",null,{"$f":"#REF!","v":{"$error":"#REF!"}},null,null,null,null,null,{"$f":"AC213","v":0},{"$f":"+(C213+D213+F213+E213)-(G213+H213+I213)","v":{"$error":"#REF!"}},null,null,null,"",{"$f":"IF(M213=0,\"\",\"VENCIDO\")","v":""},null,null,null,null,null,null,null,null,null,null,null,null,null,{"$f":"SUM(Q213:AB217)","v":0},null,{"$f":"IFERROR(AA211*100/(W211+AA211),0)","v":0},null,null,{"$f":"+IF(AC213<>I213,1,0)","v":0}]
[null,null,null,null,null,null,null,null,null,null,null,null,null,"",""]
[null,null,null,null,null,null,null,null,null,null,null,null,null,"",""]
[null,null,null,null,null,null,null,null,null,null,null,null,null,"",""]
[null,null,null,null,null,null,null,null,null,null,null,null,null,"",""]
[null,null,null,null,null,null,null,null,null,{"$f":"J213=K218","v":{"$error":"#REF!"}},{"$f":"SUM(K213:K217)","v":0},null,null,"",""]
["Antirrabica humana (diluyente)",null,{"$f":"#REF!","v":{"$error":"#REF!"}},null,null,null,null,null,{"$f":"AC219","v":0},{"$f":"+(C219+D219+F219+E219)-(G219+H219+I219)","v":{"$error":"#REF!"}},null,null,null,"","",null,null,null,null,null,null,null,null,null,null,null,null,null,{"$f":"SUM(Q219:AB223)","v":0},null,null,null,null,{"$f":"+IF(AC219<>I219,1,0)","v":0}]
[null,null,null,null,null,null,null,null,null,null,null,null,null,"",""]
[null,null,null,null,null,null,null,null,null,null,null,null,null,"",""]
[null,null,null,null,null,null,null,null,null,null,null,null,null,"",""]
[null,null,null,null,null,null,null,null,null,null,null,null,null,"",""]
[null,null,null,null,null,null,null,null,null,{"$f":"J219=K224","v":{"$error":"#REF!"}},{"$f":"SUM(K219:K223)","v":0},null,null,"",""]
["Meningococo (solvente)",null,{"$f":"#REF!","v":{"$error":"#REF!"}},null,null,null,null,null,{"$f":"AC225","v":0},{"$f":"+(C225+D225+F225+E225)-(G225+H225+I225)","v":{"$error":"#REF!"}},null,null,null,"","",null,null,null,null,null,null,null,null,null,null,null,null,null,{"$f":"SUM(Q225:AB229)","v":0},null,null,null,null,{"$f":"+IF(AC225<>I225,1,0)","v":0}]
[null,null,null,null,null,null,null,null,null,null,null,null,null,"",""]
[null,null,null,null,null,null,null,null,null,null,null,null,null,"",""]
[null,null,null,null,null,null,null,null,null,null,null,null,null,"",""]
[null,null,null,null,null,null,null,null,null,null,null,null,null,"",""]
[null,null,null,null,null,null,null,null,null,{"$f":"J225=K230","v":{"$error":"#REF!"}},{"$f":"SUM(K225:K229)","v":0},null,null,{"$f":"IFERROR(IF(DATEDIF(TODAY(),M230,\"M\")<=6,\"ROJO\",IF(DATEDIF(TODAY(),M230,\"M\")>=12,\"VERDE\",IF(AND(DATEDIF(TODAY(),M230,\"M\")>6,DATEDIF(TODAY(),M230,\"M\")<=11),\"AMARILLO\",IF(M230<TODAY(),\"VENCIDO\",0)))),O230)","v":""},""]
["JERINGAS",null,null,null,null,null,null,null,null,null,null,null,null,null,""]
["Jeringa Desechable 22G1 1/2\" AD",null,{"$f":"#REF!","v":{"$error":"#REF!"}},null,null,null,null,null,{"$f":"+AC232","v":0},{"$f":"+(C240+D240+F240+E240)-(G240+H240+I240)","v":{"$error":"#REF!"}},2000,90265,"2024-08-31",{"$f":"IFERROR(IF(DATEDIF(TODAY(),M232,\"M\")<=6,\"ROJO\",IF(DATEDIF(TODAY(),M232,\"M\")>=12,\"VERDE\",IF(AND(DATEDIF(TODAY(),M232,\"M\")>6,DATEDIF(TODAY(),M232,\"M\")<=11),\"AMARILLO\",IF(M232<TODAY(),\"VENCIDO\",0)))),O232)","v":"VERDE"},"VENCIDO",null,null,null,null,null,null,null,null,null,null,null,null,null,{"$f":"SUM(Q232:AB238)","v":0},null,null,null,null,{"$f":"+IF(AC232<>I232,1,0)","v":0}]
[null,null,null,null,null,null,null,null,null,null,4000,200023,"2025-03-31","VERDE","VENCIDO"]
[null,null,null,null,null,null,null,null,null,null,17540,200024,"2025-03-31","VERDE","VENCIDO"]
[null,null,null,null,null,null,null,null,null,null,6000,200035,"2025-05-31","VERDE","VENCIDO"]
[null,null,null,null,null,null,null,null,null,null,3000,200035,"2025-05-31","VERDE","VENCIDO"]
[null,null,null,null,null,null,null,null,null,null,null,null,null,"",""]
[null,null,null,null,null,null,null,null,null,null,null,null,null,"",""]
[null,null,null,null,null,null,null,null,null,{"$f":"J232=K239","v":{"$error":"#REF!"}},{"$f":"SUM(K232:K238)","v":32540},null,null,"",""]
["Jeringa Desechable 22G1 1/2\" Convencional",null,{"$f":"#REF!","v":{"$error":"#REF!"}},null,null,null,null,null,{"$f":"AC240","v":0},{"$f":"+(C240+D240+F240+E240)-(G240+H240+I240)","v":{"$error":"#REF!"}},null,null,null,"","",null,null,null,null,null,null,null,null,null,null,null,null,null,{"$f":"SUM(Q240:AB244)","v":0},null,null,null,null,{"$f":"+IF(AC240<>I240,1,0)","v":0}]
[null,null,null,null,null,null,null,null,null,null,null,null,null,"",""]
[null,null,null,null,null,null,null,null,null,null,null,null,null,"",""]
[null,null,null,null,null,null,null,null,null,null,null,null,null,"",""]
[null,null,null,null,null,null,null,null,null,null,null,null,null,"",""]
[null,null,null,null,null,null,null,null,null,{"$f":"J240=K245","v":{"$error":"#REF!"}},{"$f":"SUM(K240:K244)","v":0},null,null,"",""]
["Jeringa Desechable 23G1\" AD",null,{"$f":"#REF!","v":{"$error":"#REF!"}},null,null,null,null,null,{"$f":"AC246","v":0},{"$f":"+(C246+D246+F246+E246)-(G246+H246+I246)","v":{"$error":"#REF!"}},25060,210008,"2026-01-31","VERDE","VENCIDO",null,null,null,null,null,null,null,null,null,null,null,null,null,{"$f":"SUM(Q246:AB250)","v":0},null,null,null,null,{"$f":"+IF(AC246<>I246,1,0)","v":0}]
[null,null,null,null,null,null,null,null,null,null,null,null,null,"",""]
[null,null,null,null,null,null,null,null,null,null,null,null,null,"",""]
[null,null,null,null,null,null,null,null,null,null,null,null,null,"",""]
[null,null,null,null,null,null,null,null,null,null,null,null,null,"",""]
[null,null,null,null,null,null,null,null,null,{"$f":"J246=K251","v":{"$error":"#REF!"}},{"$f":"SUM(K246:K250)","v":25060},null,null,"",""]
["Jeringa Desechable 23G1\" Convencional",null,{"$f":"#REF!","v":{"$error":"#REF!"}},null,null,null,null,null,{"$f":"AC252","v":0},{"$f":"+(C252+D252+F252+E252)-(G252+H252+I252)","v":{"$error":"#REF!"}},null,null,null,"","",null,null,null,null,null,null,null,null,null,null,null,null,null,{"$f":"SUM(Q252:AB256)","v":0},null,null,null,null,{"$f":"+IF(AC252<>I252,1,0)","v":0}]
[null,null,null,null,null,null,null,null,null,null,null,null,null,"",""]
[null,null,null,null,null,null,null,null,null,null,null,null,null,"",""]
[null,null,null,null,null,null,null,null,null,null,null,null,null,"",""]
[null,null,null,null,null,null,null,null,null,null,null,null,null,"",""]
[null,null,null,null,null,null,null,null,null,{"$f":"J252=K257","v":{"$error":"#REF!"}},{"$f":"SUM(K252:K256)","v":0},null,null,"",""]
["Jeringa Desechable 25G5/8\" AD",null,{"$f":"#REF!","v":{"$error":"#REF!"}},null,null,null,null,null,{"$f":"AC258","v":0},{"$f":"+(C240+D240+F240+E240)-(G240+H240+I240)","v":{"$error":"#REF!"}},1400,200022,"2025-01-31","VERDE","VENCIDO",null,null,null,null,null,null,null,null,null,null,null,null,null,{"$f":"SUM(Q258:AB264)","v":0},null,null,null,null,{"$f":"+IF(AC258<>I258,1,0)","v":0}]
[null,null,null,null,null,null,null,null,null,null,3000,200051,"2025-07-31","VERDE","VENCIDO"]
[null,null,null,null,null,null,null,null,null,null,6000,200053,"2025-07-31","VERDE","VENCIDO"]
[null,null,null,null,null,null,null,null,null,null,890,432009,"2025-02-28","VERDE","VENCIDO"]
[null,null,null,null,null,null,null,null,null,null,24400,200053,"2025-07-31","VERDE","VENCIDO"]
[null,null,null,null,null,null,null,null,null,null,5600,"200054","2025-07-31","VERDE","VENCIDO"]
[null,null,null,null,null,null,null,null,null,{"$f":"J258=K264","v":{"$error":"#REF!"}},{"$f":"SUM(K258:K263)","v":41290},null,null,"",""]
["Jeringa Desechable 25G5/8\" Convencional",null,{"$f":"#REF!","v":{"$error":"#REF!"}},null,null,null,null,null,{"$f":"AC265","v":0},{"$f":"+(C265+D265+F265+E265)-(G265+H265+I265)","v":{"$error":"#REF!"}},null,null,null,"","",null,null,null,null,null,null,null,null,null,null,null,null,null,{"$f":"SUM(Q265:AB269)","v":0},null,null,null,null,{"$f":"+IF(AC265<>I265,1,0)","v":0}]
[null,null,null,null,null,null,null,null,null,null,null,null,null,"",""]
[null,null,null,null,null,null,null,null,null,null,null,null,null,"",""]
[null,null,null,null,null,null,null,null,null,null,null,null,null,"",""]
[null,null,null,null,null,null,null,null,null,null,null,null,null,"",""]
[null,null,null,null,null,null,null,null,null,{"$f":"J265=K270","v":{"$error":"#REF!"}},{"$f":"SUM(K265:K269)","v":0},null,null,"",""]
["Jeringa Desechable 26G 3/8\" AD",null,{"$f":"#REF!","v":{"$error":"#REF!"}},null,null,null,null,null,{"$f":"AC271","v":0},{"$f":"+(C271+D271+F271+E271)-(G271+H271+I271)","v":{"$error":"#REF!"}},1035,90272,"2024-08-31","VERDE","VENCIDO",null,null,null,null,null,null,null,null,null,null,null,null,null,{"$f":"SUM(Q271:AB275)","v":0},null,null,null,null,{"$f":"+IF(AC271<>I271,1,0)","v":0}]
[null,null,null,null,null,null,null,null,null,null,300,582101,"2026-05-31","VERDE","VENCIDO"]
[null,null,null,null,null,null,null,null,null,null,null,null,null,"",""]
[null,null,null,null,null,null,null,null,null,null,null,null,null,"",""]
[null,null,null,null,null,null,null,null,null,null,null,null,null,"",""]
[null,null,null,null,null,null,null,null,null,{"$f":"J271=K276","v":{"$error":"#REF!"}},{"$f":"SUM(K271:K275)","v":1335},null,null,"",""]
["Jeringa Desechable 26G 3/8\" Convencional",null,{"$f":"#REF!","v":{"$error":"#REF!"}},null,null,null,null,null,{"$f":"AC277","v":0},{"$f":"+(C277+D277+F277+E277)-(G277+H277+I277)","v":{"$error":"#REF!"}},null,null,null,"",{"$f":"IF(M277=0,\"\",\"VENCIDO\")","v":""},null,null,null,null,null,null,null,null,null,null,null,null,null,{"$f":"SUM(Q277:AB281)","v":0},null,null,null,null,{"$f":"+IF(AC277<>I277,1,0)","v":0}]
[null,null,null,null,null,null,null,null,null,null,null,null,null,"",""]
[null,null,null,null,null,null,null,null,null,null,null,null,null,"",""]
[null,null,null,null,null,null,null,null,null,null,null,null,null,"",""]
[null,null,null,null,null,null,null,null,null,null,null,null,null,"",""]
[null,null,null,null,null,null,null,null,null,{"$f":"J277=K282","v":{"$error":"#REF!"}},{"$f":"SUM(K277:K281)","v":0},null,null,"",""]
["Jeringa Desechable 27G 3/8\" ",null,{"$f":"#REF!","v":{"$error":"#REF!"}},null,null,null,null,null,{"$f":"AC283","v":0},{"$f":"+(C283+D283+F283+E283)-(G283+H283+I283)","v":{"$error":"#REF!"}},0,null,null,"","",null,null,null,null,null,null,null,null,null,null,null,null,null,{"$f":"SUM(Q283:AB287)","v":0},null,null,null,null,{"$f":"+IF(AC283<>I283,1,0)","v":0}]
[null,null,null,null,null,null,null,null,null,null,0,null,null,"",""]
[null,null,null,null,null,null,null,null,null,null,0,null,null,"",""]
[null,null,null,null,null,null,null,null,null,null,0,null,null,"",""]
[null,null,null,null,null,null,null,null,null,null,0,null,null,"",""]
[null,null,null,null,null,null,null,null,null,{"$f":"J283=K288","v":{"$error":"#REF!"}},{"$f":"SUM(K283:K287)","v":0}]
["Goteros ",null,{"$f":"#REF!","v":{"$error":"#REF!"}},null,null,null,null,null,{"$f":"AC289","v":0},{"$f":"+(C289+D289+F289+E289)-(G289+H289+I289)","v":{"$error":"#REF!"}},null,null,null,null,null,null,null,null,null,null,null,null,null,null,null,null,null,null,{"$f":"SUM(Q289:AB293)","v":0},null,null,null,null,{"$f":"+IF(AC289<>I289,1,0)","v":0}]
[]
[]
[]
[]
[null,null,null,null,null,null,null,null,null,{"$f":"J289=K294","v":{"$error":"#REF!"}},{"$f":"SUM(K289:K293)","v":0}]
["CARNE DE VACUNACIÓN INFANTIL",null,{"$f":"#REF!","v":{"$error":"#REF!"}},null,null,null,null,null,{"$f":"AC295","v":0},{"$f":"+(C289+D289+F289+E289)-(G289+H289+I289)","v":{"$error":"#REF!"}},null,null,null,null,null,null,null,null,null,null,null,null,null,null,null,null,null,null,{"$f":"SUM(Q295:AB295)","v":0},null,null,null,null,{"$f":"+IF(AC295<>I295,1,0)","v":0}]
["CARNE/CERTIFICADO DE VACUNACIÓN DE ADULTOS",null,{"$f":"#REF!","v":{"$error":"#REF!"}},null,null,null,null,null,{"$f":"AC296","v":0},{"$f":"+(C290+D290+F290+E290)-(G290+H290+I290)","v":0},null,null,null,null,null,null,null,null,null,null,null,null,null,null,null,null,null,null,{"$f":"SUM(Q296:AB296)","v":0},null,null,null,null,0]
["CARNE/CERTIFICADO INTERNACIONAL DE VACUNACIÓN",null,{"$f":"#REF!","v":{"$error":"#REF!"}},null,null,null,null,null,{"$f":"AC297","v":0},0,null,null,null,null,null,null,null,null,null,null,null,null,null,null,null,null,null,null,0,null,null,null,null,0]
["TARJETAS UNIFICADAS DE VACUNACION -TUV ADULTOS",null,{"$f":"#REF!","v":{"$error":"#REF!"}},null,null,null,null,null,{"$f":"AC298","v":0},0,null,null,null,null,null,null,null,null,null,null,null,null,null,null,null,null,null,null,0,null,null,null,null,0]
["TARJETAS UNIFICADAS DE VACUNACION -TUV NIÑOS",null,{"$f":"#REF!","v":{"$error":"#REF!"}},null,null,null,null,null,{"$f":"AC299","v":0},0,null,null,null,null,null,null,null,null,null,null,null,null,null,null,null,null,null,null,0,null,null,null,null,0]
[]
["OBSERVACIONES MUNICIPIOS: (Especifique las caracteristicas de los traslados realizados, pérdidas, entre otras que considere deba puntualizar)."]
[]
[]
[]
["CONSOLIDADO MUNICIPIOS (Consolida los movimientos realizados por los municipios )"]
["INSUMOS",null,"SALDO MES ANTERIOR","ENTRADAS","D. APLICADAS",null,"ENTRADAS",null,"SALIDAS",null,null,null,null,null,null,null,"CAUSAS DE PERDIDA DE BIOLÓGICO ",null,null,null,null,null,null,null,null,null,null,null,null,null,"PORCENTAJE DE PERDIDA"]
[null,null,null,null,"DOSIS APLICADAS\nCOLOMBIANOS","DOSIS APLICADAS EXTRANJEROS","DESPACHOS","TRASLADOS ENTRADAS","DESPACHOS","TRASLADOS SALIDAS","DOSIS PERDIDAS","SALDO QUE INICIA EL MES SIGUIENTE",null,null,null,null," POR FRASCO ABIERTO  ",null,"INTERRUPCION DE CADENA DE FRIO","APLICACIÓN FUERA DE LA EDAD","CONTAMINACION DEL BIOLÓGICO/DISPOSITIVO MÉDICO","FRASCO/VIAL  ROTO","ERRORES EN LA MANIPULACION","VENCIMIENTO DEL BIOLÓGICO/DISPOSITIVO MÉDICO","FARMACOVIGILANCIA/ TECNOVIGILANCIA","VOMITO FRANCO","SINIESTRO O ROBO","RECONSTITUCION BIOLÓGICO","TOTAL DOSIS PERDIDAS        "]
[null,null,null,null,null,null,null,null,null,null,null,null,null,null,null,null,"INSTITUCIONAL","EXTRAMURAL"]
[]
["BCG (vacuna)",null,{"$f":"#REF!","v":{"$error":"#REF!"}},null,null,null,null,null,null,null,{"$f":"+AC310","v":0},{"$f":"+(C310+D310+G310+H310)-(E310+F310+I310+J310+K310)","v":{"$error":"#REF!"}},null,null,null,null,null,null,null,null,null,null,null,null,null,null,null,null,{"$f":"SUM(Q310:AB310)","v":0},null,{"$f":"+(AC310)/(E310+F310+AC310)","v":{"$error":"#DIV/0!"}},null,null,{"$f":"+IF(AC310<>K310,1,0)","v":0}]
["Hepatitis B pediatrica",null,{"$f":"#REF!","v":{"$error":"#REF!"}},null,null,null,null,null,null,null,0,{"$f":"+(C311+D311+G311+H311)-(E311+F311+I311+J311+K311)","v":{"$error":"#REF!"}},null,null,null,null,null,null,null,null,null,null,null,null,null,null,null,null,{"$f":"SUM(Q311:AB311)","v":0},null,{"$f":"(AC311)/(E311+F311+AC311)","v":{"$error":"#DIV/0!"}},null,null,0]
["Hepatitis B Adultos",null,{"$f":"#REF!","v":{"$error":"#REF!"}},null,null,null,null,null,null,null,0,{"$error":"#REF!"},null,null,null,null,null,null,null,null,null,null,null,null,null,null,null,null,0,null,{"$f":"(AC312)/(E312+F312+AC312)","v":{"$error":"#DIV/0!"}},null,null,0]
["Polio Inactivada -VIP",null,{"$f":"#REF!","v":{"$error":"#REF!"}},null,null,null,null,null,null,null,0,{"$error":"#REF!"},null,null,null,null,null,null,null,null,null,null,null,null,null,null,null,null,0,null,{"$error":"#DIV/0!"},null,null,0]
["Polio oral",null,{"$f":"#REF!","v":{"$error":"#REF!"}},null,null,null,null,null,null,null,0,{"$error":"#REF!"},null,null,null,null,null,null,null,null,null,null,null,null,null,null,null,null,0,null,{"$f":"+(AC314*1)/(E314+F314+AC314)","v":{"$error":"#DIV/0!"}},null,null,0]
["Pentavalente",null,{"$f":"#REF!","v":{"$error":"#REF!"}},null,null,null,null,null,null,null,0,{"$error":"#REF!"},null,null,null,null,null,null,null,null,null,null,null,null,null,null,null,null,0,null,{"$error":"#DIV/0!"},null,null,0]
["Hexavalente",null,{"$f":"#REF!","v":{"$error":"#REF!"}},null,null,null,null,null,null,null,0,{"$error":"#REF!"},null,null,null,null,null,null,null,null,null,null,null,null,null,null,null,null,0,null,{"$f":"(AC316)/(E317+F317+AC316)","v":{"$error":"#DIV/0!"}},null,null,{"$f":"+IF(AC316<>K317,1,0)","v":0}]
["DPT",null,{"$f":"#REF!","v":{"$error":"#REF!"}},null,null,null,null,null,null,null,0,{"$f":"+(C317+D317+G317+H317)-(E317+F317+I317+J317+K317)","v":{"$error":"#REF!"}},null,null,null,null,null,null,null,null,null,null,null,null,null,null,null,null,0,null,{"$error":"#DIV/0!"},null,null,0]
["DTaP pediatrica",null,{"$f":"#REF!","v":{"$error":"#REF!"}},null,null,null,null,null,null,null,0,{"$error":"#REF!"},null,null,null,null,null,null,null,null,null,null,null,null,null,null,null,null,0,null,{"$error":"#DIV/0!"},null,null,0]
["TD Pediatrica",null,{"$f":"#REF!","v":{"$error":"#REF!"}},null,null,null,null,null,null,null,0,{"$error":"#REF!"},null,null,null,null,null,null,null,null,null,null,null,null,null,null,null,null,0,null,{"$error":"#DIV/0!"},null,null,0]
["Rotavirus",null,{"$f":"#REF!","v":{"$error":"#REF!"}},null,null,null,null,null,null,null,0,{"$error":"#REF!"},null,null,null,null,null,null,null,null,null,null,null,null,null,null,null,null,0,null,{"$error":"#DIV/0!"},null,null,0]
["Neumococo Decavalente",null,{"$f":"#REF!","v":{"$error":"#REF!"}},null,null,null,null,null,null,null,0,{"$error":"#REF!"},null,null,null,null,null,null,null,null,null,null,null,null,null,null,null,null,0,null,{"$error":"#DIV/0!"},null,null,0]
["Neumococo Trecevalente",null,{"$f":"#REF!","v":{"$error":"#REF!"}},null,null,null,null,null,null,null,0,{"$error":"#REF!"},null,null,null,null,null,null,null,null,null,null,null,null,null,null,null,null,0,null,{"$error":"#DIV/0!"},null,null,0]
["Triple Viral (vacuna)",null,{"$f":"#REF!","v":{"$error":"#REF!"}},null,null,null,null,null,null,null,0,{"$error":"#REF!"},null,null,null,null,null,null,null,null,null,null,null,null,null,null,null,null,0,null,{"$error":"#DIV/0!"},null,null,0]
["Sarampión Rubéola (vacuna)",null,{"$f":"#REF!","v":{"$error":"#REF!"}},null,null,null,null,null,null,null,0,{"$error":"#REF!"},null,null,null,null,null,null,null,null,null,null,null,null,null,null,null,null,0,null,{"$f":"+(AC324*1)/(E325+F325+AC324)","v":{"$error":"#DIV/0!"}},null,null,0]
["Fiebre amarilla (vacuna)",null,{"$f":"#REF!","v":{"$error":"#REF!"}},null,null,null,null,null,null,null,0,{"$error":"#REF!"},null,null,null,null,null,null,null,null,null,null,null,null,null,null,null,null,0,null,{"$f":"(AC325)/(E326+F326+AC325)","v":{"$error":"#DIV/0!"}},null,null,0]
["Hepatitis A pediátrica (vacuna)",null,{"$f":"#REF!","v":{"$error":"#REF!"}},null,null,null,null,null,null,null,0,{"$error":"#REF!"},null,null,null,null,null,null,null,null,null,null,null,null,null,null,null,null,0,null,{"$f":"(AC326)/(E327+F327+AC326)","v":{"$error":"#DIV/0!"}},null,null,0]
["Varicela (vacuna)",null,{"$f":"#REF!","v":{"$error":"#REF!"}},null,null,null,null,null,null,null,0,{"$error":"#REF!"},null,null,null,null,null,null,null,null,null,null,null,null,null,null,null,null,0,null,{"$f":"+(AC327*1)/(E328+F328+AC327)","v":{"$error":"#DIV/0!"}},null,null,0]
["Td Adultos",null,{"$f":"#REF!","v":{"$error":"#REF!"}},null,null,null,null,null,null,null,0,{"$error":"#REF!"},null,null,null,null,null,null,null,null,null,null,null,null,null,null,null,null,0,null,{"$f":"(AC328)/(E329+F329+AC328)","v":{"$error":"#DIV/0!"}},null,null,0]
["DTaP Adolescentes / Adultos",null,{"$f":"#REF!","v":{"$error":"#REF!"}},null,null,null,null,null,null,null,0,{"$error":"#REF!"},null,null,null,null,null,null,null,null,null,null,null,null,null,null,null,null,0,null,{"$error":"#DIV/0!"},null,null,0]
["Influenza pediatrica",null,{"$f":"#REF!","v":{"$error":"#REF!"}},null,null,null,null,null,null,null,0,{"$error":"#REF!"},null,null,null,null,null,null,null,null,null,null,null,null,null,null,null,null,0,null,{"$error":"#DIV/0!"},null,null,0]
["Influenza Adultos",null,{"$f":"#REF!","v":{"$error":"#REF!"}},null,null,null,null,null,null,null,0,{"$error":"#REF!"},null,null,null,null,null,null,null,null,null,null,null,null,null,null,null,null,0,null,{"$error":"#DIV/0!"},null,null,0]
["VPH",null,{"$f":"#REF!","v":{"$error":"#REF!"}},null,null,null,null,null,null,null,0,{"$error":"#REF!"},null,null,null,null,null,null,null,null,null,null,null,null,null,null,null,null,0,null,{"$error":"#DIV/0!"},null,null,0]
["Antirrabica humana",null,{"$f":"#REF!","v":{"$error":"#REF!"}},null,null,null,null,null,null,null,0,{"$error":"#REF!"},null,null,null,null,null,null,null,null,null,null,null,null,null,null,null,null,0,null,{"$error":"#DIV/0!"},null,null,0]
["Inmunoglobulina antirrabica humana (suero)",null,{"$f":"#REF!","v":{"$error":"#REF!"}},null,null,null,null,null,null,null,0,{"$error":"#REF!"},null,null,null,null,null,null,null,null,null,null,null,null,null,null,null,null,0,null,{"$error":"#DIV/0!"},null,null,0]
["Inmunoglobulina antihepatitis B",null,{"$f":"#REF!","v":{"$error":"#REF!"}},null,null,null,null,null,null,null,0,{"$error":"#REF!"},null,null,null,null,null,null,null,null,null,null,null,null,null,null,null,null,0,null,{"$error":"#DIV/0!"},null,null,0]
["Inmunoglobulina antitetanica ",null,{"$f":"#REF!","v":{"$error":"#REF!"}},null,null,null,null,null,null,null,0,{"$error":"#REF!"},null,null,null,null,null,null,null,null,null,null,null,null,null,null,null,null,0,null,{"$error":"#DIV/0!"},null,null,0]
["Antitoxina difterica",null,{"$f":"#REF!","v":{"$error":"#REF!"}},null,null,null,null,null,null,null,0,{"$error":"#REF!"},null,null,null,null,null,null,null,null,null,null,null,null,null,null,null,null,0,null,{"$error":"#DIV/0!"},null,null,0]
["Meningococo",null,{"$f":"#REF!","v":{"$error":"#REF!"}},null,null,null,null,null,null,null,0,{"$error":"#REF!"},null,null,null,null,null,null,null,null,null,null,null,null,null,null,null,null,0,null,{"$f":"(AC338)/(#REF!+#REF!+AC338)","v":{"$error":"#REF!"}},null,null,{"$f":"+IF(AC338<>#REF!,1,0)","v":{"$error":"#REF!"}}]
["DILUYENTES"]
["BCG (diluyente)",null,{"$f":"#REF!","v":{"$error":"#REF!"}},null,null,null,null,null,null,null,0,{"$error":"#REF!"},null,null,null,null,null,null,null,null,null,null,null,null,null,null,null,null,0,null,null,null,null,{"$f":"+IF(AC340<>K340,1,0)","v":0}]
["Triple viral - SRP (diluyente)",null,{"$f":"#REF!","v":{"$error":"#REF!"}},null,null,null,null,null,null,null,0,{"$error":"#REF!"},null,null,null,null,null,null,null,null,null,null,null,null,null,null,null,null,0,null,null,null,null,0]
["Sarampión - Rubeola - SR (diluyente)",null,{"$f":"#REF!","v":{"$error":"#REF!"}},null,null,null,null,null,null,null,0,{"$error":"#REF!"},null,null,null,null,null,null,null,null,null,null,null,null,null,null,null,null,0,null,null,null,null,0]
["Fiebre amarilla (diluyente)",null,{"$f":"#REF!","v":{"$error":"#REF!"}},null,null,null,null,null,null,null,0,{"$error":"#REF!"},null,null,null,null,null,null,null,null,null,null,null,null,null,null,null,null,0,null,null,null,null,0]
["Varicela (diluyente)",null,{"$f":"#REF!","v":{"$error":"#REF!"}},null,null,null,null,null,null,null,0,{"$error":"#REF!"},null,null,null,null,null,null,null,null,null,null,null,null,null,null,null,null,0,null,null,null,null,0]
["Vacuna Antirrabica Humana (diluyente)",null,{"$f":"#REF!","v":{"$error":"#REF!"}},null,null,null,null,null,null,null,0,{"$error":"#REF!"},null,null,null,null,null,null,null,null,null,null,null,null,null,null,null,null,0,null,null,null,null,0]
["Meningococo (solvente)",null,{"$f":"#REF!","v":{"$error":"#REF!"}},null,null,null,null,null,null,null,0,{"$error":"#REF!"},null,null,null,null,null,null,null,null,null,null,null,null,null,null,null,null,0,null,null,null,null,0]
["JERINGAS"]
["Jeringa Desechable 22G1 1/2\" AD",null,{"$f":"#REF!","v":{"$error":"#REF!"}},null,null,null,null,null,null,null,{"$f":"+AC348","v":0},{"$error":"#REF!"},null,null,null,null,null,null,null,null,null,null,null,null,null,null,null,null,0,null,null,null,null,{"$f":"+IF(AC348<>K348,1,0)","v":0}]
["Jeringa Desechable 22G1 1/2\" Convencional",null,{"$f":"#REF!","v":{"$error":"#REF!"}},null,null,null,null,null,null,null,0,{"$error":"#REF!"},null,null,null,null,null,null,null,null,null,null,null,null,null,null,null,null,0,null,null,null,null,0]
["Jeringa Desechable 23G1\" AD",null,{"$f":"#REF!","v":{"$error":"#REF!"}},null,null,null,null,null,null,null,0,{"$error":"#REF!"},null,null,null,null,null,null,null,null,null,null,null,null,null,null,null,null,0,null,null,null,null,0]
["Jeringa Desechable 23G1\" Convencional",null,{"$f":"#REF!","v":{"$error":"#REF!"}},null,null,null,null,null,null,null,0,{"$error":"#REF!"},null,null,null,null,null,null,null,null,null,null,null,null,null,null,null,null,0,null,null,null,null,0]
["Jeringa Desechable 25G5/8\" AD",null,{"$f":"#REF!","v":{"$error":"#REF!"}},null,null,null,null,null,null,null,0,{"$error":"#REF!"},null,null,null,null,null,null,null,null,null,null,null,null,null,null,null,null,0,null,null,null,null,0]
["Jeringa Desechable 25G5/8\" Convencional",null,{"$f":"#REF!","v":{"$error":"#REF!"}},null,null,null,null,null,null,null,0,{"$error":"#REF!"},null,null,null,null,null,null,null,null,null,null,null,null,null,null,null,null,0,null,null,null,null,0]
["Jeringa Desechable 26G 3/8\" AD",null,{"$f":"#REF!","v":{"$error":"#REF!"}},null,null,null,null,null,null,null,0,{"$error":"#REF!"},null,null,null,null,null,null,null,null,null,null,null,null,null,null,null,null,0,null,null,null,null,0]
["Jeringa Desechable 26G 3/8\" Convencional",null,{"$f":"#REF!","v":{"$error":"#REF!"}},null,null,null,null,null,null,null,0,{"$error":"#REF!"},null,null,null,null,null,null,null,null,null,null,null,null,null,null,null,null,0,null,null,null,null,0]
["Jeringa Desechable 27G 3/8\" ",null,{"$f":"#REF!","v":{"$error":"#REF!"}},null,null,null,null,null,null,null,0,{"$error":"#REF!"},null,null,null,null,null,null,null,null,null,null,null,null,null,null,null,null,0,null,null,null,null,0]
["Gotero",null,{"$f":"#REF!","v":{"$error":"#REF!"}},null,null,null,null,null,null,null,0,{"$error":"#REF!"},null,null,null,null,null,null,null,null,null,null,null,null,null,null,null,null,0,null,null,null,null,0]
["CARNE DE VACUNACIÓN INFANTIL",null,{"$f":"#REF!","v":{"$error":"#REF!"}},null,null,null,null,null,null,null,0,{"$error":"#REF!"},null,null,null,null,null,null,null,null,null,null,null,null,null,null,null,null,0,null,null,null,null,0]
["CARNE/CERTIFICADO DE VACUNACIÓN DE ADULTOS",null,{"$f":"#REF!","v":{"$error":"#REF!"}},null,null,null,null,null,null,null,0,{"$error":"#REF!"},null,null,null,null,null,null,null,null,null,null,null,null,null,null,null,null,0,null,null,null,null,0]
["CARNE/CERTIFICADO INTERNACIONAL DE VACUNACIÓN",null,{"$f":"#REF!","v":{"$error":"#REF!"}},null,null,null,null,null,null,null,0,{"$error":"#REF!"},null,null,null,null,null,null,null,null,null,null,null,null,null,null,null,null,0,null,null,null,null,0]
["TARJETAS UNIFICADAS DE VACUNACION -TUV ADULTOS",null,{"$f":"#REF!","v":{"$error":"#REF!"}},null,null,null,null,null,null,null,0,{"$error":"#REF!"},null,null,null,null,null,null,null,null,null,null,null,null,null,null,null,null,0,null,null,null,null,0]
["TARJETAS UNIFICADAS DE VACUNACION -TUV NIÑOS",null,{"$f":"#REF!","v":{"$error":"#REF!"}},null,null,null,null,null,null,null,0,{"$error":"#REF!"},null,null,null,null,null,null,null,null,null,null,null,null,null,null,null,null,0,null,null,null,null,0]
[]
[]
["CONSOLIDADO ENTIDAD TERRITORIAL - CELDAS AUTOMATICAS PROTEGIDAS CONTRA ESCRITURA"]
["INSUMOS",null,"SALDO MES ANTERIOR","ENTRADAS","D. APLICADAS",null,"ENTRADAS",null,"SALIDAS",null,null,"SALDO QUE INICIA EL MES SIGUIENTE",null,null,null,null,"CAUSAS DE PERDIDA DE BIOLÓGICO ",null,null,null,null,null,null,null,null,null,null,null,"TOTAL DOSIS PERDIDAS        ",null,"PORCENTAJE DE PERDIDA"]
[null,null,null,null,"DOSIS APLICADAS\nCOLOMBIANOS","DOSIS APLICADAS EXTRANJEROS","DESPACHOS","TRASLADOS ENTRADAS","DESPACHOS","TRASLADOS SALIDAS","DOSIS PERDIDAS",null,null,null,null,null," POR FRASCO ABIERTO  ",null,"INTERRUPCION DE CADENA DE FRIO","APLICACIÓN FUERA DE LA EDAD","CONTAMINACION DEL BIOLÓGICO/DISPOSITIVO MÉDICO","FRASCO/VIAL  ROTO","ERRORES EN LA MANIPULACION","VENCIMIENTO DEL BIOLÓGICO/DISPOSITIVO MÉDICO","FARMACOVIGILANCIA/ TECNOVIGILANCIA","VOMITO FRANCO","SINIESTRO O ROBO","RECONSTITUCION BIOLÓGICO"]
[null,null,null,null,null,null,null,null,null,null,null,null,null,null,null,null,"INSTITUCIONAL","EXTRAMURAL"]
[]
["BCG (vacuna)",null,{"$f":"C14+C310","v":{"$error":"#REF!"}},{"$f":"+D14","v":0},{"$f":"+E310","v":0},0,{"$f":"+G310","v":0},{"$f":"+H310","v":0},{"$f":"+I310","v":0},{"$f":"+I310","v":0},{"$f":"+K310+I14","v":0},{"$f":"+L310+J14","v":{"$error":"#REF!"}},null,null,null,null,{"$f":"+Q310+Q14","v":0},{"$f":"+R310+R14","v":0},0,0,0,0,0,0,0,0,0,0,{"$f":"SUM(Q370:AB370)","v":0},null,{"$f":"+(AC370)/(E370+F370+AC370)","v":{"$error":"#DIV/0!"}},null,null,{"$f":"+IF(AC370<>K370,1,0)","v":0}]
["Hepatitis B pediatrica",null,{"$f":"+C311+C20","v":{"$error":"#REF!"}},{"$f":"D20","v":0},0,0,0,0,0,0,{"$f":"+K311+I20","v":0},{"$f":"+L311+J20","v":{"$error":"#REF!"}},null,null,null,null,{"$f":"+Q311+Q20","v":0},0,0,0,0,0,0,0,0,0,0,0,0,null,{"$f":"(AC371)/(E371+F371+AC371)","v":{"$error":"#DIV/0!"}},null,null,0]
["Hepatitis B Adultos",null,{"$f":"+C312+C26","v":{"$error":"#REF!"}},{"$f":"+D26","v":0},0,0,0,0,0,0,{"$f":"+K312+I26","v":0},{"$f":"+L312+J26","v":{"$error":"#REF!"}},null,null,null,null,{"$f":"+Q312+Q26","v":0},0,0,0,0,0,0,0,0,0,0,0,0,null,{"$f":"(AC372)/(E372+F372+AC372)","v":{"$error":"#DIV/0!"}},null,null,0]
["Polio Inactivada -VIP",null,{"$f":"+C313+C32","v":{"$error":"#REF!"}},{"$f":"D32","v":0},0,0,0,0,0,0,{"$f":"+K313+I32","v":0},{"$f":"+L313+J32","v":{"$error":"#REF!"}},null,null,null,null,{"$f":"+Q313+Q32","v":0},0,0,0,0,0,0,0,0,0,0,0,0,null,{"$error":"#DIV/0!"},null,null,0]
["Polio oral",null,{"$f":"+C314+C38","v":{"$error":"#REF!"}},{"$f":"D38","v":0},0,0,0,0,0,0,{"$f":"+K314+I38","v":0},{"$f":"+L314+J38","v":{"$error":"#REF!"}},null,null,null,null,{"$f":"+Q314+Q38","v":0},0,0,0,0,0,0,0,0,0,0,0,0,null,{"$f":"+(AC374*1)/(E374+F374+AC374)","v":{"$error":"#DIV/0!"}},null,null,0]
["Pentavalente",null,{"$f":"+C315+C44","v":{"$error":"#REF!"}},{"$f":"D44","v":0},0,0,0,0,0,0,{"$f":"+K315+I44","v":0},{"$f":"+L315+J44","v":{"$error":"#REF!"}},null,null,null,null,{"$f":"+Q315+Q44","v":0},0,0,0,0,0,0,0,0,0,0,0,0,null,{"$error":"#DIV/0!"},null,null,0]
["Hexavalente",null,{"$f":"+C316+C50","v":{"$error":"#REF!"}},{"$f":"+D50","v":0},{"$f":"+E316+E50","v":0},{"$f":"+F316+F50","v":0},0,0,0,{"$error":"#REF!"},{"$f":"+K316+I50","v":0},{"$f":"+L316+J50","v":{"$error":"#REF!"}},null,null,null,null,{"$f":"+Q316+Q50","v":0},{"$f":"+R316+R50","v":0},0,0,0,0,0,0,0,0,0,0,0,null,{"$f":"(AC377)/(E377+F377+AC377)","v":{"$error":"#DIV/0!"}},null,null,{"$f":"+IF(AC377<>K377,1,0)","v":0}]
["DPT",null,{"$f":"+C317+C56","v":{"$error":"#REF!"}},{"$f":"D56","v":0},{"$f":"+E317","v":0},0,0,0,0,{"$f":"+I317","v":0},{"$f":"+K317+I56","v":0},{"$f":"+L317+J56","v":{"$error":"#REF!"}},null,null,null,null,{"$f":"+Q316+Q56","v":0},0,0,0,0,0,0,0,0,0,0,0,{"$f":"SUM(Q377:AB377)","v":0},null,{"$error":"#DIV/0!"},null,null,0]
["DTaP pediatrica",null,{"$f":"+C318+C62","v":{"$error":"#REF!"}},{"$f":"D62","v":0},0,0,0,0,0,0,{"$f":"+K318+I62","v":0},{"$f":"+L318+J62","v":{"$error":"#REF!"}},null,null,null,null,{"$f":"+Q317+Q62","v":0},0,0,0,0,0,0,0,0,0,0,0,0,null,{"$error":"#DIV/0!"},null,null,0]
["TD Pediatrica",null,{"$f":"+C319+C68","v":{"$error":"#REF!"}},{"$f":"D68","v":0},0,0,0,0,0,0,{"$f":"+K319+I68","v":0},{"$f":"+L319+J68","v":{"$error":"#REF!"}},null,null,null,null,{"$f":"+Q318+Q68","v":0},0,0,0,0,0,0,0,0,0,0,0,0,null,{"$error":"#DIV/0!"},null,null,0]
["Rotavirus",null,{"$f":"+C320+C74","v":{"$error":"#REF!"}},{"$f":"D74","v":0},0,0,0,0,0,0,{"$f":"+K320+I74","v":0},{"$f":"+L320+J74","v":{"$error":"#REF!"}},null,null,null,null,{"$f":"+Q319+Q74","v":0},0,0,0,0,0,0,0,0,0,0,0,0,null,{"$error":"#DIV/0!"},null,null,0]
["Neumococo Decavalente",null,{"$f":"+C321+C80","v":{"$error":"#REF!"}},{"$f":"D85","v":0},0,0,0,0,0,0,{"$f":"+K321+I85","v":0},{"$f":"+L321+J80","v":{"$error":"#REF!"}},null,null,null,null,{"$f":"+Q320+Q85","v":0},0,0,0,0,0,0,0,0,0,0,0,0,null,{"$error":"#DIV/0!"},null,null,0]
["Neumococo Trecevalente",null,{"$f":"+C322+C81","v":{"$error":"#REF!"}},{"$f":"D86","v":0},0,0,0,0,0,0,{"$f":"+K322+I86","v":0},{"$f":"+L322+J86","v":{"$error":"#REF!"}},null,null,null,null,{"$f":"+Q321+Q86","v":0},0,0,0,0,0,0,0,0,0,0,0,0,null,{"$error":"#DIV/0!"},null,null,0]
["Triple Viral (vacuna)",null,{"$f":"+C323+C92","v":{"$error":"#REF!"}},{"$f":"D92","v":0},0,0,0,0,0,0,{"$f":"+K323+I92","v":0},{"$f":"+L323+J92","v":{"$error":"#REF!"}},null,null,null,null,{"$f":"+Q322+Q92","v":0},0,0,0,0,0,0,0,0,0,0,0,0,null,{"$error":"#DIV/0!"},null,null,0]
["Sarampión Rubéola (vacuna)",null,{"$f":"+C324+C98","v":{"$error":"#REF!"}},{"$f":"D98","v":0},0,0,0,0,0,0,{"$f":"+K324+I98","v":0},{"$f":"+L324+J98","v":{"$error":"#REF!"}},null,null,null,null,{"$f":"+Q323+Q98","v":0},0,0,0,0,0,0,0,0,0,0,0,0,null,{"$f":"+(AC385*1)/(E385+F385+AC385)","v":{"$error":"#DIV/0!"}},null,null,0]
["Fiebre amarilla (vacuna)",null,{"$f":"+C325+C104","v":{"$error":"#REF!"}},{"$f":"D104","v":0},0,0,0,0,0,0,{"$f":"+K325+I104","v":0},{"$f":"+L325+J104","v":{"$error":"#REF!"}},null,null,null,null,{"$f":"+Q324+Q104","v":0},0,0,0,0,0,0,0,0,0,0,0,0,null,{"$f":"(AC386)/(E386+F386+AC386)","v":{"$error":"#DIV/0!"}},null,null,0]
["Hepatitis A pediátrica (vacuna)",null,{"$f":"+C326+C110","v":{"$error":"#REF!"}},{"$f":"D110","v":0},0,0,0,0,0,0,{"$f":"+K326+I110","v":0},{"$f":"+L326+J110","v":{"$error":"#REF!"}},null,null,null,null,{"$f":"+Q325+Q110","v":0},0,0,0,0,0,0,0,0,0,0,0,0,null,{"$f":"(AC387)/(E387+F387+AC387)","v":{"$error":"#DIV/0!"}},null,null,0]
["Varicela (vacuna)",null,{"$f":"+C327+C116","v":{"$error":"#REF!"}},{"$f":"D116","v":0},{"$f":"+E327","v":0},0,0,0,0,0,{"$f":"+K327+I116","v":0},{"$f":"+L327+J116","v":{"$error":"#REF!"}},null,null,null,null,{"$f":"+Q326+Q116","v":0},0,0,0,0,0,0,0,0,0,0,0,0,null,{"$f":"+(AC388*1)/(E388+F388+AC388)","v":{"$error":"#DIV/0!"}},null,null,0]
["Td Adultos",null,{"$f":"+C328+C122","v":{"$error":"#REF!"}},{"$f":"D122","v":0},0,0,0,0,0,0,{"$f":"+K328+I122","v":0},{"$f":"+L328+J122","v":{"$error":"#REF!"}},null,null,null,null,{"$f":"+Q327+Q122","v":0},0,0,0,0,0,0,0,0,0,0,0,0,null,{"$f":"(AC389)/(E389+F389+AC389)","v":{"$error":"#DIV/0!"}},null,null,0]
["DTaP Adolescentes / Adultos",null,{"$f":"+C329+C128","v":{"$error":"#REF!"}},{"$f":"D128","v":0},0,0,0,0,0,0,{"$f":"+K329+I128","v":0},{"$f":"+L329+J128","v":{"$error":"#REF!"}},null,null,null,null,{"$f":"+Q328+Q128","v":0},0,0,0,0,0,0,0,0,0,0,0,0,null,{"$error":"#DIV/0!"},null,null,0]
["Influenza pediatrica",null,{"$f":"+C330+C134","v":{"$error":"#REF!"}},{"$f":"D134","v":0},0,0,0,0,0,0,{"$f":"+K330+I134","v":0},{"$f":"+L330+J134","v":{"$error":"#REF!"}},null,null,null,null,{"$f":"+Q329+Q134","v":0},0,0,0,0,0,0,0,0,0,0,0,0,null,{"$error":"#DIV/0!"},null,null,0]
["Influenza Adultos",null,{"$f":"+C331+C140","v":{"$error":"#REF!"}},{"$f":"D140","v":0},0,0,0,0,0,0,{"$f":"+K331+I140","v":0},{"$f":"+L331+J140","v":{"$error":"#REF!"}},null,null,null,null,{"$f":"+Q330+Q140","v":0},0,0,0,0,0,0,0,0,0,0,0,0,null,{"$error":"#DIV/0!"},null,null,0]
["VPH",null,{"$f":"+C332+C146","v":{"$error":"#REF!"}},{"$f":"D146","v":0},0,0,0,0,0,0,{"$f":"+K332+I146","v":0},{"$f":"+L332+J146","v":{"$error":"#REF!"}},null,null,null,null,{"$f":"+Q331+Q146","v":0},0,0,0,0,0,0,0,0,0,0,0,0,null,{"$error":"#DIV/0!"},null,null,0]
["Antirrabica humana",null,{"$f":"+C333+C152","v":{"$error":"#REF!"}},{"$f":"D152","v":0},0,0,0,0,0,0,{"$f":"+K333+I152","v":0},{"$f":"+L333+J152","v":{"$error":"#REF!"}},null,null,null,null,{"$f":"+Q332+Q152","v":0},0,0,0,0,0,0,0,0,0,0,0,0,null,{"$error":"#DIV/0!"},null,null,0]
["Inmunoglobulina antirrabica humana",null,{"$f":"+C334+C158","v":{"$error":"#REF!"}},{"$f":"D158","v":0},0,0,0,0,0,0,{"$f":"+K334+I158","v":0},{"$f":"+L334+J158","v":{"$error":"#REF!"}},null,null,null,null,{"$f":"+Q333+Q158","v":0},0,0,0,0,0,0,0,0,0,0,0,0,null,{"$error":"#DIV/0!"},null,null,0]
["Inmunoglobulina antihepatitis B",null,{"$f":"+C335+C164","v":{"$error":"#REF!"}},{"$f":"D164","v":0},0,0,0,0,0,0,{"$f":"+K335+I164","v":0},{"$f":"+L335+J164","v":{"$error":"#REF!"}},null,null,null,null,{"$f":"+Q334+Q164","v":0},0,0,0,0,0,0,0,0,0,0,0,0,null,{"$error":"#DIV/0!"},null,null,0]
["Inmunoglobulina antitetanica ",null,{"$f":"+C336+C170","v":{"$error":"#REF!"}},{"$f":"D170","v":0},0,0,0,0,0,0,{"$f":"+K336+I170","v":0},{"$f":"+L336+J170","v":{"$error":"#REF!"}},null,null,null,null,{"$f":"+Q335+Q170","v":0},0,0,0,0,0,0,0,0,0,0,0,0,null,{"$error":"#DIV/0!"},null,null,0]
["Antitoxina difterica",null,{"$f":"+C337+C176","v":{"$error":"#REF!"}},{"$f":"D176","v":0},{"$f":"+E337","v":0},0,0,0,0,0,{"$f":"+K337+I176","v":0},{"$f":"+L337+J176","v":{"$error":"#REF!"}},null,null,null,null,{"$f":"+Q336+Q176","v":0},0,0,0,0,0,0,0,0,0,0,0,0,null,{"$error":"#DIV/0!"},null,null,0]
["Meningococo",null,{"$f":"+C338+C182","v":{"$error":"#REF!"}},{"$f":"D182","v":0},0,0,0,0,0,0,{"$f":"+K338+I182","v":0},{"$f":"+L338+J182","v":{"$error":"#REF!"}},null,null,null,null,{"$f":"+Q337+Q182","v":0},0,0,0,0,0,0,0,0,0,0,0,0,null,{"$f":"(#REF!)/(#REF!+#REF!+#REF!)","v":{"$error":"#REF!"}},null,null,{"$f":"+IF(#REF!<>#REF!,1,0)","v":{"$error":"#REF!"}}]
["DILUYENTES"]
["BCG (diluyente)",null,{"$f":"+C340+C189","v":{"$error":"#REF!"}},{"$f":"D189","v":0},{"$f":"+E340","v":0},0,0,0,0,{"$f":"+I340","v":0},{"$f":"+K340+I189","v":0},{"$f":"+L340+J189","v":{"$error":"#REF!"}},null,null,null,null,{"$f":"+Q340+Q189","v":0},0,0,0,0,0,0,0,0,0,0,0,0,null,null,null,null,{"$f":"+IF(AC400<>K400,1,0)","v":0}]
["Triple viral - SRP (diluyente)",null,{"$f":"+C341+C195","v":{"$error":"#REF!"}},{"$f":"D195","v":0},0,0,0,0,0,0,{"$f":"+K341+I195","v":0},{"$f":"+L341+J195","v":{"$error":"#REF!"}},null,null,null,null,{"$f":"+Q341+Q195","v":0},0,0,0,0,0,0,0,0,0,0,0,0,null,null,null,null,0]
["Sarampión - Rubeola - SR (diluyente)",null,{"$f":"+C342+C201","v":{"$error":"#REF!"}},{"$f":"D201","v":0},0,0,0,0,0,0,{"$f":"+K342+I201","v":0},{"$f":"+L342+J201","v":{"$error":"#REF!"}},null,null,null,null,{"$f":"+Q342+Q201","v":0},0,0,0,0,0,0,0,0,0,0,0,0,null,null,null,null,0]
["Fiebre amarilla (diluyente)",null,{"$f":"+C343+C207","v":{"$error":"#REF!"}},{"$f":"D207","v":0},0,0,0,0,0,0,{"$f":"+K343+I207","v":0},{"$f":"+L343+J207","v":{"$error":"#REF!"}},null,null,null,null,{"$f":"+Q343+Q207","v":0},0,0,0,0,0,0,0,0,0,0,0,0,null,null,null,null,0]
["Varicela (diluyente)",null,{"$f":"+C344+C213","v":{"$error":"#REF!"}},{"$f":"D213","v":0},0,0,0,0,0,0,{"$f":"+K344+I213","v":0},{"$f":"+L344+J213","v":{"$error":"#REF!"}},null,null,null,null,{"$f":"+Q344+Q213","v":0},0,0,0,0,0,0,0,0,0,0,0,0,null,null,null,null,0]
["Vacuna Antirrabica Humana (diluyente)",null,{"$f":"+C345+C219","v":{"$error":"#REF!"}},{"$f":"D219","v":0},0,0,0,0,0,0,{"$f":"+K345+I219","v":0},{"$f":"+L345+J219","v":{"$error":"#REF!"}},null,null,null,null,{"$f":"+Q345+Q219","v":0},0,0,0,0,0,0,0,0,0,0,0,0,null,null,null,null,0]
["Meningococo (solvente)",null,{"$f":"+C346+C225","v":{"$error":"#REF!"}},{"$f":"D225","v":0},{"$f":"+E346","v":0},0,0,0,0,0,{"$f":"+K346+I225","v":0},{"$f":"+L346+J225","v":{"$error":"#REF!"}},null,null,null,null,{"$f":"+Q346+Q225","v":0},0,0,0,0,0,0,0,0,0,0,0,0,null,null,null,null,0]
["JERINGAS"]
["Jeringa Desechable 22G1 1/2\" AD",null,{"$f":"+C348+C232","v":{"$error":"#REF!"}},{"$f":"D232","v":0},{"$f":"+E348","v":0},0,0,0,0,{"$f":"+I348","v":0},{"$f":"+K348+I232","v":0},{"$f":"+L348+J232","v":{"$error":"#REF!"}},null,null,null,null,{"$f":"+Q348+Q232","v":0},0,0,0,0,0,0,0,0,0,0,0,0,null,null,null,null,{"$f":"+IF(AC408<>K408,1,0)","v":0}]
["Jeringa Desechable 22G1 1/2\" Convencional",null,{"$f":"+C349+C240","v":{"$error":"#REF!"}},{"$f":"D240","v":0},0,0,0,0,0,0,{"$f":"+K349+I240","v":0},{"$f":"+L349+J240","v":{"$error":"#REF!"}},null,null,null,null,{"$f":"+Q349+Q238","v":0},0,0,0,0,0,0,0,0,0,0,0,0,null,null,null,null,0]
["Jeringa Desechable 23G1\" AD",null,{"$f":"+C350+C246","v":{"$error":"#REF!"}},{"$f":"D246","v":0},0,0,0,0,0,0,{"$f":"+K350+I246","v":0},{"$f":"+L350+J246","v":{"$error":"#REF!"}},null,null,null,null,0,0,0,0,0,0,0,0,0,0,0,0,0,null,null,null,null,0]
["Jeringa Desechable 23G1\" Convencional",null,{"$f":"+C351+C240","v":{"$error":"#REF!"}},{"$f":"D240","v":0},0,0,0,0,0,0,{"$f":"+K351+I240","v":0},{"$f":"+L351+J240","v":{"$error":"#REF!"}},null,null,null,null,0,0,0,0,0,0,0,0,0,0,0,0,0,null,null,null,null,0]
["Jeringa Desechable 25G5/8\" AD",null,{"$f":"+C352+C246","v":{"$error":"#REF!"}},{"$f":"D246","v":0},0,0,0,0,0,0,{"$f":"+K352+I246","v":0},{"$f":"+L352+J246","v":{"$error":"#REF!"}},null,null,null,null,{"$f":"+Q352+Q246","v":0},0,0,0,0,0,0,0,0,0,0,0,0,null,null,null,null,0]
["Jeringa Desechable 25G5/8\" Convencional",null,{"$f":"+C353+C252","v":{"$error":"#REF!"}},{"$f":"D252","v":0},0,0,0,0,0,0,{"$f":"+K353+I252","v":0},{"$f":"+L353+J252","v":{"$error":"#REF!"}},null,null,null,null,{"$f":"+Q353+Q252","v":0},0,0,0,0,0,0,0,0,0,0,0,0,null,null,null,null,0]
["Jeringa Desechable 26G 3/8\" AD",null,{"$f":"+C354+C271","v":{"$error":"#REF!"}},{"$f":"+D271","v":0},0,0,0,0,0,0,{"$f":"+K354+I271","v":0},{"$f":"+L354+J271","v":{"$error":"#REF!"}},null,null,null,null,{"$f":"+Q354+Q271","v":0},0,0,0,0,0,0,0,0,0,0,0,0,null,null,null,null,0]
["Jeringa Desechable 26G 3/8\" Convencional",null,{"$f":"+C355+C277","v":{"$error":"#REF!"}},{"$f":"+D277","v":0},0,0,0,0,0,0,{"$f":"+K355+I277","v":0},{"$f":"+L355+J277","v":{"$error":"#REF!"}},null,null,null,null,{"$f":"+Q355+Q277","v":0},0,0,0,0,0,0,0,0,0,0,0,0,null,null,null,null,0]
["Jeringa Desechable 27G 3/8\" ",null,{"$f":"+C356+C283","v":{"$error":"#REF!"}},{"$f":"+D283","v":0},0,0,0,0,0,0,{"$f":"+K356+I283","v":0},{"$f":"+L356+J283","v":{"$error":"#REF!"}},null,null,null,null,{"$f":"+Q356+Q283","v":0},0,0,0,0,0,0,0,0,0,0,0,0,null,null,null,null,0]
["Gotero",null,{"$f":"+C357+C289","v":{"$error":"#REF!"}},{"$f":"D289","v":0},0,0,0,0,0,0,{"$f":"+K357+I289","v":0},{"$f":"+L357+J289","v":{"$error":"#REF!"}},null,null,null,null,{"$f":"+Q357+Q289","v":0},0,0,0,0,0,0,0,0,0,0,0,0,null,null,null,null,0]
["CARNE DE VACUNACIÓN INFANTIL",null,{"$f":"+C358+C295","v":{"$error":"#REF!"}},{"$f":"D295","v":0},0,0,0,0,0,0,{"$f":"+K358+I295","v":0},{"$error":"#REF!"},null,null,null,null,{"$f":"+Q358+Q295","v":0},0,0,0,0,0,0,0,0,0,0,0,0,null,null,null,null,0]
["CARNE/CERTIFICADO DE VACUNACIÓN DE ADULTOS",null,{"$f":"+C359+C296","v":{"$error":"#REF!"}},{"$f":"D296","v":0},0,0,0,0,0,0,0,{"$error":"#REF!"},null,null,null,null,0,0,0,0,0,0,0,0,0,0,0,0,0,null,null,null,null,0]
["CARNE/CERTIFICADO INTERNACIONAL DE VACUNACIÓN",null,{"$f":"+C360+C297","v":{"$error":"#REF!"}},{"$f":"D297","v":0},0,0,0,0,0,0,0,{"$error":"#REF!"},null,null,null,null,0,0,0,0,0,0,0,0,0,0,0,0,0,null,null,null,null,0]
["TARJETAS UNIFICADAS DE VACUNACION -TUV ADULTOS",null,{"$f":"+C361+C298","v":{"$error":"#REF!"}},{"$f":"+D298","v":0},0,0,0,0,0,0,0,{"$error":"#REF!"},null,null,null,null,0,0,0,0,0,0,0,0,0,0,0,0,0,null,null,null,null,0]
["TARJETAS UNIFICADAS DE VACUNACION -TUV NIÑOS",null,{"$f":"+C362+C299","v":{"$error":"#REF!"}},{"$f":"+D299","v":0},0,0,0,0,0,0,0,{"$error":"#REF!"},null,null,null,null,0,0,0,0,0,0,0,0,0,0,0,0,0,null,null,null,null,0]

{"sheet":"CONSOLIDADO","index":5,"n_rows":422,"n_cols":41,"rows_kept":422,"cut":false,"hidden":false,"merged":[[365,34,368,34],[305,34,308,34],[305,12,308,12],[365,12,368,12],[8,35,11,35],[8,36,11,36],[306,35,308,35],[306,36,308,36],[366,35,368,35],[366,36,368,36],[8,28,11,28],[8,30,11,30],[9,4,11,4],[9,5,11,5],[9,6,11,6],[9,7,11,7],[9,8,11,8],[9,24,11,24],[9,25,11,25],[9,26,11,26],[9,27,11,27],[13,28,17,28],[13,30,17,30],[13,18,17,18],[13,19,17,19],[13,20,17,20],[13,21,17,21],[13,22,17,22],[13,23,17,23],[13,6,17,6],[13,7,17,7],[13,8,17,8],[5,10,5,11],[7,0,7,12],[8,0,11,1],[8,2,11,2],[8,3,11,3],[8,4,8,5],[8,6,8,8],[8,9,11,9],[8,10,11,10],[8,11,11,11],[12,0,12,1],[13,0,18,1],[13,2,17,2],[13,3,17,3],[13,4,17,4],[13,5,17,5],[9,23,11,23],[10,16,11,16],[10,17,11,17],[9,16,9,17],[9,18,11,18],[9,19,11,19],[9,20,11,20],[9,21,11,21],[9,22,11,22],[8,12,11,12],[8,13,11,13],[8,16,8,27],[13,24,17,24],[13,25,17,25],[13,26,17,26],[13,27,17,27],[13,9,17,9],[13,16,17,16],[13,17,17,17],[19,25,23,25],[19,26,23,26],[19,27,23,27],[19,28,23,28],[19,19,23,19],[19,20,23,20],[19,21,23,21],[19,22,23,22],[19,23,23,23],[19,24,23,24],[19,7,23,7],[19,8,23,8],[19,9,23,9],[19,16,23,16],[19,17,23,17],[19,18,23,18],[19,0,24,1],[19,2,23,2],[19,3,23,3],[19,4,23,4],[19,5,23,5],[19,6,23,6],[25,25,29,25],[25,26,29,26],[25,27,29,27],[25,28,29,28],[31,0,36,1],[31,2,35,2],[31,3,35,3],[31,4,35,4],[31,5,35,5],[31,6,35,6],[25,19,29,19],[25,20,29,20],[25,21,29,21],[25,22,29,22],[25,23,29,23],[25,24,29,24],[25,7,29,7],[25,8,29,8],[25,9,29,9],[25,16,29,16],[25,17,29,17],[25,18,29,18],[31,25,35,25],[31,26,35,26],[31,27,35,27],[31,28,35,28],[25,0,30,1],[25,2,29,2],[25,3,29,3],[25,4,29,4],[25,5,29,5],[25,6,29,6],[37,17,41,17],[37,18,41,18],[43,25,47,25],[43,26,47,26],[43,27,47,27],[43,28,47,28],[37,0,42,1],[37,2,41,2],[37,3,41,3],[37,4,41,4],[37,5,41,5],[37,6,41,6],[31,19,35,19],[31,20,35,20],[31,21,35,21],[31,22,35,22],[31,23,35,23],[31,24,35,24],[31,7,35,7],[31,8,35,8],[31,9,35,9],[31,16,35,16],[31,17,35,17],[31,18,35,18],[43,19,47,19],[43,20,47,20],[43,21,47,21],[43,22,47,22],[43,23,47,23],[43,24,47,24],[43,7,47,7],[43,8,47,8],[43,9,47,9],[43,16,47,16],[43,17,47,17],[43,18,47,18],[37,25,41,25],[37,26,41,26],[37,27,41,27],[37,28,41,28],[43,0,48,1],[43,2,47,2],[43,3,47,3],[43,4,47,4],[43,5,47,5],[43,6,47,6],[37,19,41,19],[37,20,41,20],[37,21,41,21],[37,22,41,22],[37,23,41,23],[37,24,41,24],[37,7,41,7],[37,8,41,8],[37,9,41,9],[37,16,41,16],[49,25,53,25],[49,26,53,26],[49,27,53,27],[49,28,53,28],[55,0,60,1],[55,2,59,2],[55,3,59,3],[55,4,59,4],[55,5,59,5],[55,6,59,6],[49,19,53,19],[49,20,53,20],[49,21,53,21],[49,22,53,22],[49,23,53,23],[49,24,53,24],[49,7,53,7],[49,8,53,8],[49,9,53,9],[49,16,53,16],[49,17,53,17],[49,18,53,18],[55,25,59,25],[55,26,59,26],[55,27,59,27],[55,28,59,28],[49,0,54,1],[49,2,53,2],[49,3,53,3],[49,4,53,4],[49,5,53,5],[49,6,53,6],[55,19,59,19],[55,20,59,20],[55,21,59,21],[55,22,59,22],[55,23,59,23],[55,24,59,24],[55,7,59,7],[55,8,59,8],[55,9,59,9],[55,16,59,16],[55,17,59,17],[55,18,59,18],[67,19,71,19],[67,20,71,20],[67,21,71,21],[67,22,71,22],[67,23,71,23],[67,24,71,24],[67,7,71,7],[67,8,71,8],[67,9,71,9],[67,16,71,16],[67,17,71,17],[67,18,71,18],[61,25,65,25],[61,26,65,26],[61,27,65,27],[61,28,65,28],[67,0,72,1],[67,2,71,2],[67,3,71,3],[67,4,71,4],[67,5,71,5],[67,6,71,6],[61,19,65,19],[61,20,65,20],[61,21,65,21],[61,22,65,22],[61,23,65,23],[61,24,65,24],[61,7,65,7],[61,8,65,8],[61,9,65,9],[61,16,65,16],[61,17,65,17],[61,18,65,18],[67,25,71,25],[67,26,71,26],[67,27,71,27],[67,28,71,28],[61,0,66,1],[61,2,65,2],[61,3,65,3],[61,4,65,4],[61,5,65,5],[61,6,65,6],[73,25,77,25],[73,26,77,26],[73,27,77,27],[73,28,77,28],[79,0,84,1],[79,2,83,2],[79,3,83,3],[79,4,83,4],[79,5,83,5],[79,6,83,6],[73,19,77,19],[73,20,77,20],[73,21,77,21],[73,22,77,22],[73,23,77,23],[73,24,77,24],[73,7,77,7],[73,8,77,8],[73,9,77,9],[73,16,77,16],[73,17,77,17],[73,18,77,18],[79,25,83,25],[79,26,83,26],[79,27,83,27],[79,28,83,28],[73,0,78,1],[73,2,77,2],[73,3,77,3],[73,4,77,4],[73,5,77,5],[73,6,77,6],[79,19,83,19],[79,20,83,20],[79,21,83,21],[79,22,83,22],[79,23,83,23],[79,24,83,24],[79,7,83,7],[79,8,83,8],[79,9,83,9],[79,16,83,16],[79,17,83,17],[79,18,83,18],[91,19,95,19],[91,20,95,20],[91,21,95,21],[91,22,95,22],[91,23,95,23],[91,24,95,24],[91,7,95,7],[91,8,95,8],[91,9,95,9],[91,16,95,16],[91,17,95,17],[91,18,95,18],[85,25,89,25],[85,26,89,26],[85,27,89,27],[85,28,89,28],[91,0,96,1],[91,2,95,2],[91,3,95,3],[91,4,95,4],[91,5,95,5],[91,6,95,6],[85,19,89,19],[85,20,89,20],[85,21,89,21],[85,22,89,22],[85,23,89,23],[85,24,89,24],[85,7,89,7],[85,8,89,8],[85,9,89,9],[85,16,89,16],[85,17,89,17],[85,18,89,18],[91,25,95,25],[91,26,95,26],[91,27,95,27],[91,28,95,28],[85,0,90,1],[85,2,89,2],[85,3,89,3],[85,4,89,4],[85,5,89,5],[85,6,89,6],[97,25,101,25],[97,26,101,26],[97,27,101,27],[97,28,101,28],[103,0,108,1],[103,2,107,2],[103,3,107,3],[103,4,107,4],[103,5,107,5],[103,6,107,6],[97,19,101,19],[97,20,101,20],[97,21,101,21],[97,22,101,22],[97,23,101,23],[97,24,101,24],[97,7,101,7],[97,8,101,8],[97,9,101,9],[97,16,101,16],[97,17,101,17],[97,18,101,18],[103,25,107,25],[103,26,107,26],[103,27,107,27],[103,28,107,28],[97,0,102,1],[97,2,101,2],[97,3,101,3],[97,4,101,4],[97,5,101,5],[97,6,101,6],[103,19,107,19],[103,20,107,20],[103,21,107,21],[103,22,107,22],[103,23,107,23],[103,24,107,24],[103,7,107,7],[103,8,107,8],[103,9,107,9],[103,16,107,16],[103,17,107,17],[103,18,107,18],[115,19,119,19],[115,20,119,20],[115,21,119,21],[115,22,119,22],[115,23,119,23],[115,24,119,24],[115,7,119,7],[115,8,119,8],[115,9,119,9],[115,16,119,16],[115,17,119,17],[115,18,119,18],[109,25,113,25],[109,26,113,26],[109,27,113,27],[109,28,113,28],[115,0,120,1],[115,2,119,2],[115,3,119,3],[115,4,119,4],[115,5,119,5],[115,6,119,6],[109,19,113,19],[109,20,113,20],[109,21,113,21],[109,22,113,22],[109,23,113,23],[109,24,113,24],[109,7,113,7],[109,8,113,8],[109,9,113,9],[109,16,113,16],[109,17,113,17],[109,18,113,18],[115,25,119,25],[115,26,119,26],[115,27,119,27],[115,28,119,28],[109,0,114,1],[109,2,113,2],[109,3,113,3],[109,4,113,4],[109,5,113,5],[109,6,113,6],[121,25,125,25],[121,26,125,26],[121,27,125,27],[121,28,125,28],[127,0,132,1],[127,2,131,2],[127,3,131,3],[127,4,131,4],[127,5,131,5],[127,6,131,6],[121,19,125,19],[121,20,125,20],[121,21,125,21],[121,22,125,22],[121,23,125,23],[121,24,125,24],[121,7,125,7],[121,8,125,8],[121,9,125,9],[121,16,125,16],[121,17,125,17],[121,18,125,18],[127,25,131,25],[127,26,131,26],[127,27,131,27],[127,28,131,28],[121,0,126,1],[121,2,125,2],[121,3,125,3],[121,4,125,4],[121,5,125,5],[121,6,125,6],[127,19,131,19],[127,20,131,20],[127,21,131,21],[127,22,131,22],[127,23,131,23],[127,24,131,24],[127,7,131,7],[127,8,131,8],[127,9,131,9],[127,16,131,16],[127,17,131,17],[127,18,131,18],[139,19,143,19],[139,20,143,20],[139,21,143,21],[139,22,143,22],[139,23,143,23],[139,24,143,24],[139,7,143,7],[139,8,143,8],[139,9,143,9],[139,16,143,16],[139,17,143,17],[139,18,143,18],[133,25,137,25],[133,26,137,26],[133,27,137,27],[133,28,137,28],[139,0,144,1],[139,2,143,2],[139,3,143,3],[139,4,143,4],[139,5,143,5],[139,6,143,6],[133,19,137,19],[133,20,137,20],[133,21,137,21],[133,22,137,22],[133,23,137,23],[133,24,137,24],[133,7,137,7],[133,8,137,8],[133,9,137,9],[133,16,137,16],[133,17,137,17],[133,18,137,18],[139,25,143,25],[139,26,143,26],[139,27,143,27],[139,28,143,28],[133,0,138,1],[133,2,137,2],[133,3,137,3],[133,4,137,4],[133,5,137,5],[133,6,137,6],[145,25,149,25],[145,26,149,26],[145,27,149,27],[145,28,149,28],[151,0,156,1],[151,2,155,2],[151,3,155,3],[151,4,155,4],[151,5,155,5],[151,6,155,6],[145,19,149,19],[145,20,149,20],[145,21,149,21],[145,22,149,22],[145,23,149,23],[145,24,149,24],[145,7,149,7],[145,8,149,8],[145,9,149,9],[145,16,149,16],[145,17,149,17],[145,18,149,18],[151,25,155,25],[151,26,155,26],[151,27,155,27],[151,28,155,28],[145,0,150,1],[145,2,149,2],[145,3,149,3],[145,4,149,4],[145,5,149,5],[145,6,149,6],[157,18,161,18],[163,25,167,25],[163,26,167,26],[163,27,167,27],[163,28,167,28],[157,0,162,1],[157,2,161,2],[157,3,161,3],[157,4,161,4],[157,5,161,5],[157,6,161,6],[151,19,155,19],[151,20,155,20],[151,21,155,21],[151,22,155,22],[151,23,155,23],[151,24,155,24],[151,7,155,7],[151,8,155,8],[151,9,155,9],[151,16,155,16],[151,17,155,17],[151,18,155,18],[163,19,167,19],[163,20,167,20],[163,21,167,21],[163,22,167,22],[163,23,167,23],[163,24,167,24],[163,7,167,7],[163,8,167,8],[175,28,179,28],[169,0,174,1],[169,2,173,2],[169,3,173,3],[169,4,173,4],[169,5,173,5],[169,6,173,6],[163,9,167,9],[163,16,167,16],[163,17,167,17],[163,18,167,18],[157,25,161,25],[157,26,161,26],[157,27,161,27],[157,28,161,28],[163,0,168,1],[163,2,167,2],[163,3,167,3],[163,4,167,4],[163,5,167,5],[163,6,167,6],[157,19,161,19],[157,20,161,20],[157,21,161,21],[157,22,161,22],[157,23,161,23],[157,24,161,24],[157,7,161,7],[157,8,161,8],[157,9,161,9],[157,16,161,16],[157,17,161,17],[188,18,192,18],[188,19,192,19],[188,20,192,20],[188,21,192,21],[188,22,192,22],[188,23,192,23],[188,6,192,6],[169,25,173,25],[169,26,173,26],[169,27,173,27],[169,28,173,28],[175,0,180,1],[175,2,179,2],[175,3,179,3],[175,4,179,4],[175,5,179,5],[175,6,179,6],[169,19,173,19],[169,20,173,20],[169,21,173,21],[169,22,173,22],[169,23,173,23],[169,24,173,24],[169,7,173,7],[169,8,173,8],[169,9,173,9],[169,16,173,16],[169,17,173,17],[169,18,173,18],[175,25,179,25],[175,26,179,26],[175,27,179,27],[181,0,186,1],[181,2,185,2],[181,3,185,3],[181,4,185,4],[181,5,185,5],[181,6,185,6],[175,19,179,19],[175,20,179,20],[175,21,179,21],[175,22,179,22],[175,23,179,23],[175,24,179,24],[175,7,179,7],[175,8,179,8],[175,9,179,9],[175,16,179,16],[175,17,179,17],[175,18,179,18],[188,7,192,7],[188,8,192,8],[188,9,192,9],[188,16,192,16],[188,17,192,17],[181,25,185,25],[181,26,185,26],[181,27,185,27],[181,28,185,28],[187,0,187,1],[188,0,193,1],[188,2,192,2],[188,3,192,3],[188,4,192,4],[188,5,192,5],[181,19,185,19],[181,20,185,20],[181,21,185,21],[181,22,185,22],[181,23,185,23],[181,24,185,24],[181,7,185,7],[181,8,185,8],[181,9,185,9],[181,16,185,16],[181,17,185,17],[181,18,185,18],[188,24,192,24],[188,25,192,25],[188,26,192,26],[188,27,192,27],[188,28,192,28],[200,0,205,1],[200,2,204,2],[200,3,204,3],[200,4,204,4],[200,5,204,5],[194,18,198,18],[194,19,198,19],[194,20,198,20],[194,21,198,21],[194,22,198,22],[194,23,198,23],[194,6,198,6],[194,7,198,7],[194,8,198,8],[194,9,198,9],[194,16,198,16],[194,17,198,17],[194,0,199,1],[194,2,198,2],[194,3,198,3],[194,4,198,4],[194,5,198,5],[200,18,204,18],[200,19,204,19],[200,20,204,20],[200,21,204,21],[200,22,204,22],[200,23,204,23],[200,6,204,6],[200,7,204,7],[200,8,204,8],[200,9,204,9],[200,16,204,16],[200,17,204,17],[194,24,198,24],[194,25,198,25],[194,26,198,26],[194,27,198,27],[194,28,198,28],[200,24,204,24],[200,25,204,25],[200,26,204,26],[200,27,204,27],[200,28,204,28],[212,0,217,1],[212,2,216,2],[212,3,216,3],[212,4,216,4],[212,5,216,5],[206,18,210,18],[206,19,210,19],[206,20,210,20],[206,21,210,21],[206,22,210,22],[206,23,210,23],[206,6,210,6],[206,7,210,7],[206,8,210,8],[206,9,210,9],[206,16,210,16],[206,17,210,17],[206,0,211,1],[206,2,210,2],[206,3,210,3],[206,4,210,4],[206,5,210,5],[212,18,216,18],[212,19,216,19],[212,20,216,20],[212,21,216,21],[212,22,216,22],[212,23,216,23],[212,6,216,6],[212,7,216,7],[212,8,216,8],[212,9,216,9],[212,16,216,16],[212,17,216,17],[206,24,210,24],[206,25,210,25],[206,26,210,26],[206,27,210,27],[206,28,210,28],[212,24,216,24],[212,25,216,25],[212,26,216,26],[212,27,216,27],[212,28,216,28],[218,24,222,24],[218,25,222,25],[218,26,222,26],[218,27,222,27],[218,28,222,28],[224,0,229,1],[224,2,228,2],[224,3,228,3],[224,4,228,4],[224,5,228,5],[218,18,222,18],[218,19,222,19],[218,20,222,20],[218,21,222,21],[218,22,222,22],[218,23,222,23],[218,6,222,6],[218,7,222,7],[218,8,222,8],[218,9,222,9],[218,16,222,16],[218,17,222,17],[224,24,228,24],[224,25,228,25],[224,26,228,26],[224,27,228,27],[224,28,228,28],[218,0,223,1],[218,2,222,2],[218,3,222,3],[218,4,222,4],[218,5,222,5],[230,0,230,1],[224,18,228,18],[224,19,228,19],[224,20,228,20],[224,21,228,21],[224,22,228,22],[224,23,228,23],[224,6,228,6],[224,7,228,7],[224,8,228,8],[224,9,228,9],[224,16,228,16],[224,17,228,17],[231,25,237,25],[231,26,237,26],[231,27,237,27],[231,28,237,28],[231,19,237,19],[231,20,237,20],[231,21,237,21],[231,22,237,22],[231,23,237,23],[231,24,237,24],[231,7,237,7],[231,8,237,8],[231,9,237,9],[231,16,237,16],[231,17,237,17],[231,18,237,18],[231,0,238,1],[231,2,237,2],[231,3,237,3],[231,4,237,4],[231,5,237,5],[231,6,237,6],[239,25,243,25],[239,26,243,26],[239,27,243,27],[239,28,243,28],[245,0,250,1],[245,2,249,2],[245,3,249,3],[245,4,249,4],[245,5,249,5],[245,6,249,6],[239,19,243,19],[239,20,243,20],[239,21,243,21],[239,22,243,22],[239,23,243,23],[239,24,243,24],[239,7,243,7],[239,8,243,8],[239,9,243,9],[239,16,243,16],[239,17,243,17],[239,18,243,18],[245,25,249,25],[245,26,249,26],[245,27,249,27],[245,28,249,28],[239,0,244,1],[239,2,243,2],[239,3,243,3],[239,4,243,4],[239,5,243,5],[239,6,243,6],[245,19,249,19],[245,20,249,20],[245,21,249,21],[245,22,249,22],[245,23,249,23],[245,24,249,24],[245,7,249,7],[245,8,249,8],[245,9,249,9],[245,16,249,16],[245,17,249,17],[245,18,249,18],[257,19,262,19],[257,20,262,20],[257,21,262,21],[257,22,262,22],[257,23,262,23],[257,24,262,24],[257,7,262,7],[257,8,262,8],[257,9,262,9],[257,16,262,16],[257,17,262,17],[257,18,262,18],[251,25,255,25],[251,26,255,26],[251,27,255,27],[251,28,255,28],[257,0,263,1],[257,2,262,2],[257,3,262,3],[257,4,262,4],[257,5,262,5],[257,6,262,6],[251,19,255,19],[251,20,255,20],[251,21,255,21],[251,22,255,22],[251,23,255,23],[251,24,255,24],[251,7,255,7],[251,8,255,8],[251,9,255,9],[251,16,255,16],[251,17,255,17],[251,18,255,18],[257,25,262,25],[257,26,262,26],[257,27,262,27],[257,28,262,28],[251,0,256,1],[251,2,255,2],[251,3,255,3],[251,4,255,4],[251,5,255,5],[251,6,255,6],[264,25,268,25],[264,26,268,26],[264,27,268,27],[264,28,268,28],[270,0,275,1],[270,2,274,2],[270,3,274,3],[270,4,274,4],[270,5,274,5],[270,6,274,6],[264,19,268,19],[264,20,268,20],[264,21,268,21],[264,22,268,22],[264,23,268,23],[264,24,268,24],[264,7,268,7],[264,8,268,8],[264,9,268,9],[264,16,268,16],[264,17,268,17],[264,18,268,18],[270,25,274,25],[270,26,274,26],[270,27,274,27],[270,28,274,28],[264,0,269,1],[264,2,268,2],[264,3,268,3],[264,4,268,4],[264,5,268,5],[264,6,268,6],[270,19,274,19],[270,20,274,20],[270,21,274,21],[270,22,274,22],[270,23,274,23],[270,24,274,24],[270,7,274,7],[270,8,274,8],[270,9,274,9],[270,16,274,16],[270,17,274,17],[270,18,274,18],[282,19,286,19],[282,20,286,20],[282,21,286,21],[282,22,286,22],[282,23,286,23],[282,24,286,24],[282,7,286,7]],"merged_total":1232,"flags":["merged_cut"]}
[]
[null,null,null,null,"DIRECCION DE PROMOCIÓN Y PREVENCIÓN - SUBDIRECCION DE ENFERMEDADES TRANSMISIBLES"]
[null,null,null,null,"GRUPO DE INMUNOPREVENIBLES - PROGRAMA AMPLIADO DE INMUNIZACIONES"]
[null,null,null,null,"INFORME MOVIMIENTO MENSUAL DE BIOLÓGICOS "]
[]
["ENTIDAD TERRITORIAL","73 TOLIMA",null,"MUNICIPIO","73001 Ibague",null,null,null,null,"MES:",null,null,null,"AÑO:"]
[]
["CENTRO DE ACOPIO (corresponde al movimiento de insumos del centro de acopio departamental o distrital)"]
["INSUMOS",null,"SALDO MES ANTERIOR","ENTRADAS","ENTRADA",null,"SALIDAS",null,null,"SALDO QUE INICIA EL MES SIGUIENTE","CANTIDAD EN DOSIS","LOTE ","FECHA DE VENCIMIENTO","CONTROL \nDIGITAL POR VENTANA DE USO",null,null,"CAUSAS DE PERDIDA DE BIOLÓGICO ",null,null,null,null,null,null,null,null,null,null,null,"TOTAL DOSIS PERDIDAS        ",null,"PORCENTAJE DE PERDIDA",null,null,null,null,"DOSIS EN CUARENTENA","LOTE"]
[null,null,null,null,"CANTIDAD DE DESPACHOS","TRASLADOS RECIBIDOS","CANTIDAD DE DESPACHOS","TRASLADOS ENVIADOS","DOSIS PERDIDAS",null,null,null,null,null,null,null," POR FRASCO ABIERTO  ",null,"INTERRUPCION DE CADENA DE FRIO","APLICACIÓN FUERA DE LA EDAD","CONTAMINACION DEL BIOLÓGICO/DISPOSITIVO MÉDICO","FRASCO/VIAL  ROTO","ERRORES EN LA MANIPULACION","VENCIMIENTO DEL BIOLÓGICO/DISPOSITIVO MÉDICO","FARMACOVIGILANCIA/ TECNOVIGILANCIA","VOMITO FRANCO","SINIESTRO O ROBO","RECONSTITUCION BIOLÓGICO"]
[null,null,null,null,null,null,null,null,null,null,null,null,null,null,null,null,"INSTITUCIONAL","EXTRAMURAL"]
[]
["INMUNOBIOLÓGICOS"]
["BCG (vacuna)",null,{"$f":"(SUM(ENERO!C14:C18))","v":0},{"$f":"(SUM(ENERO!D14:D18))","v":0},{"$f":"(SUM(ENERO!E14:E18))","v":0},{"$f":"(SUM(ENERO!F14:F18))","v":0},{"$f":"(SUM(ENERO!G14:G18))","v":0},{"$f":"(SUM(ENERO!H14:H18))","v":0},{"$f":"AC14","v":0},{"$f":"+(C14+D14+F14+E14)-(G14+H14+I14)+SUM(AJ14:AJ18)","v":0},null,null,null,{"$f":"IFERROR(IF(DATEDIF(TODAY(),M14,\"M\")<=6,\"ROJO\",IF(DATEDIF(TODAY(),M14,\"M\")>=12,\"VERDE\",IF(AND(DATEDIF(TODAY(),M14,\"M\")>6,DATEDIF(TODAY(),M14,\"M\")<=11),\"AMARILLO\",IF(M14<TODAY(),\"VENCIDO\",0)))),O14)","v":""},{"$f":"IF(M14=0,\"\",\"VENCIDO\")","v":""},null,{"$f":"(SUM(ENERO!Q14:Q18))","v":0},{"$f":"(SUM(ENERO!R14:R18))","v":0},{"$f":"(SUM(ENERO!S14:S18))","v":0},{"$f":"(SUM(ENERO!T14:T18))","v":0},{"$f":"(SUM(ENERO!U14:U18))","v":0},{"$f":"(SUM(ENERO!V14:V18))","v":0},{"$f":"(SUM(ENERO!W14:W18))","v":0},{"$f":"(SUM(ENERO!X14:X18))","v":0},{"$f":"(SUM(ENERO!Y14:Y18))","v":0},{"$f":"(SUM(ENERO!Z14:Z18))","v":0},{"$f":"(SUM(ENERO!AA14:AA18))","v":0},{"$f":"(SUM(ENERO!AB14:AB18))","v":0},{"$f":"SUM(Q14:AB18)","v":0},null,0.01,null,null,{"$f":"+IF(AC14<>I14,1,0)","v":0},null,{"$f":"(SUM(ENERO!AJ14))","v":0},{"$f":"(SUM(ENERO!AK14))","v":0},null,null,"AMAZONAS","ENERO"]
[null,null,null,null,null,null,null,null,null,null,null,null,null,{"$f":"IFERROR(IF(DATEDIF(TODAY(),M15,\"M\")<=6,\"ROJO\",IF(DATEDIF(TODAY(),M15,\"M\")>=12,\"VERDE\",IF(AND(DATEDIF(TODAY(),M15,\"M\")>6,DATEDIF(TODAY(),M15,\"M\")<=11),\"AMARILLO\",IF(M15<TODAY(),\"VENCIDO\",0)))),O15)","v":""},{"$f":"IF(M15=0,\"\",\"VENCIDO\")","v":""},null,{"$f":"(SUM(ENERO!Q15))","v":0},{"$f":"(SUM(ENERO!R15))","v":0},{"$f":"(SUM(ENERO!S15))","v":0},{"$f":"(SUM(ENERO!T15))","v":0},{"$f":"(SUM(ENERO!U15))","v":0},{"$f":"(SUM(ENERO!V15))","v":0},{"$f":"(SUM(ENERO!W15))","v":0},{"$f":"(SUM(ENERO!X15))","v":0},{"$f":"(SUM(ENERO!Y15))","v":0},{"$f":"(SUM(ENERO!Z15))","v":0},{"$f":"(SUM(ENERO!AA15))","v":0},{"$f":"(SUM(ENERO!AB15))","v":0},null,null,null,null,null,null,null,{"$f":"(SUM(ENERO!AJ15))","v":0},{"$f":"(SUM(ENERO!AK15))","v":0},null,null,"ANTIOQUIA","FEBRERO"]
[null,null,null,null,null,null,null,null,null,null,null,null,null,"","",null,{"$f":"(SUM(ENERO!Q16))","v":0},{"$f":"(SUM(ENERO!R16))","v":0},{"$f":"(SUM(ENERO!S16))","v":0},{"$f":"(SUM(ENERO!T16))","v":0},{"$f":"(SUM(ENERO!U16))","v":0},{"$f":"(SUM(ENERO!V16))","v":0},{"$f":"(SUM(ENERO!W16))","v":0},{"$f":"(SUM(ENERO!X16))","v":0},{"$f":"(SUM(ENERO!Y16))","v":0},{"$f":"(SUM(ENERO!Z16))","v":0},{"$f":"(SUM(ENERO!AA16))","v":0},{"$f":"(SUM(ENERO!AB16))","v":0},null,null,null,null,null,null,null,{"$f":"(SUM(ENERO!AJ16))","v":0},{"$f":"(SUM(ENERO!AK16))","v":0},null,null,"ARAUCA","MARZO"]
[null,null,null,null,null,null,null,null,null,null,null,null,null,"","",null,{"$f":"(SUM(ENERO!Q17))","v":0},{"$f":"(SUM(ENERO!R17))","v":0},{"$f":"(SUM(ENERO!S17))","v":0},{"$f":"(SUM(ENERO!T17))","v":0},{"$f":"(SUM(ENERO!U17))","v":0},{"$f":"(SUM(ENERO!V17))","v":0},{"$f":"(SUM(ENERO!W17))","v":0},{"$f":"(SUM(ENERO!X17))","v":0},{"$f":"(SUM(ENERO!Y17))","v":0},{"$f":"(SUM(ENERO!Z17))","v":0},{"$f":"(SUM(ENERO!AA17))","v":0},{"$f":"(SUM(ENERO!AB17))","v":0},null,null,null,null,null,null,null,{"$f":"(SUM(ENERO!AJ17))","v":0},{"$f":"(SUM(ENERO!AK17))","v":0},null,null,"ATLANTICO","ABRIL"]
[null,null,null,null,null,null,null,null,null,null,null,null,null,"","",null,{"$f":"(SUM(ENERO!Q18))","v":0},{"$f":"(SUM(ENERO!R18))","v":0},{"$f":"(SUM(ENERO!S18))","v":0},{"$f":"(SUM(ENERO!T18))","v":0},{"$f":"(SUM(ENERO!U18))","v":0},{"$f":"(SUM(ENERO!V18))","v":0},{"$f":"(SUM(ENERO!W18))","v":0},{"$f":"(SUM(ENERO!X18))","v":0},{"$f":"(SUM(ENERO!Y18))","v":0},{"$f":"(SUM(ENERO!Z18))","v":0},{"$f":"(SUM(ENERO!AA18))","v":0},{"$f":"(SUM(ENERO!AB18))","v":0},null,null,null,null,null,null,null,{"$f":"(SUM(ENERO!AJ18))","v":0},{"$f":"(SUM(ENERO!AK18))","v":0},null,null,"BARRANQUILLA","MAYO"]
[null,null,null,null,null,null,null,null,null,{"$f":"J14=K19","v":true},{"$f":"SUM(K14:K18)","v":0},null,null,"","",null,null,null,null,null,null,null,null,null,null,null,null,null,null,null,null,null,null,null,null,{"$f":"(SUM(ENERO!AJ19))","v":0},{"$f":"(SUM(ENERO!AK19))","v":0},null,null,"BOGOTA D.C.","JUNIO"]
["Hepatitis B pediátrica ",null,{"$f":"(SUM(ENERO!C20:C24))","v":0},{"$f":"(SUM(ENERO!D20:D24))","v":0},{"$f":"(SUM(ENERO!E20:E24))","v":0},{"$f":"(SUM(ENERO!F20:F24))","v":0},{"$f":"(SUM(ENERO!G20:G24))","v":0},{"$f":"(SUM(ENERO!H20:H24))","v":0},{"$f":"AC20","v":0},{"$f":"+(C20+D20+F20+E20)-(G20+H20+I20)+SUM(AJ20:AJ24)","v":0},null,null,null,"","",null,{"$f":"(SUM(ENERO!Q20:Q24))","v":0},{"$f":"(SUM(ENERO!R20:R24))","v":0},{"$f":"(SUM(ENERO!S20:S24))","v":0},{"$f":"(SUM(ENERO!T20:T24))","v":0},{"$f":"(SUM(ENERO!U20:U24))","v":0},{"$f":"(SUM(ENERO!V20:V24))","v":0},{"$f":"(SUM(ENERO!W20:W24))","v":0},{"$f":"(SUM(ENERO!X20:X24))","v":0},{"$f":"(SUM(ENERO!Y20:Y24))","v":0},{"$f":"(SUM(ENERO!Z20:Z24))","v":0},{"$f":"(SUM(ENERO!AA20:AA24))","v":0},{"$f":"(SUM(ENERO!AB20:AB24))","v":0},{"$f":"SUM(Q20:AB24)","v":0},null,{"$f":"IFERROR(AA18*100/(W18+AA18),0)","v":0},null,null,{"$f":"+IF(AC20<>I20,1,0)","v":0},null,{"$f":"(SUM(ENERO!AJ20))","v":0},{"$f":"(SUM(ENERO!AK20))","v":0},null,null,"BOLIVAR","JULIO"]
[null,null,null,null,null,null,null,null,null,null,null,null,null,"","",null,{"$f":"(SUM(ENERO!Q21))","v":0},{"$f":"(SUM(ENERO!R21))","v":0},{"$f":"(SUM(ENERO!S21))","v":0},{"$f":"(SUM(ENERO!T21))","v":0},{"$f":"(SUM(ENERO!U21))","v":0},{"$f":"(SUM(ENERO!V21))","v":0},{"$f":"(SUM(ENERO!W21))","v":0},{"$f":"(SUM(ENERO!X21))","v":0},{"$f":"(SUM(ENERO!Y21))","v":0},{"$f":"(SUM(ENERO!Z21))","v":0},{"$f":"(SUM(ENERO!AA21))","v":0},{"$f":"(SUM(ENERO!AB21))","v":0},null,null,null,null,null,null,null,{"$f":"(SUM(ENERO!AJ21))","v":0},{"$f":"(SUM(ENERO!AK21))","v":0},null,null,"CARTAGENA","AGOSTO"]
[null,null,null,null,null,null,null,null,null,null,null,null,null,"","",null,{"$f":"(SUM(ENERO!Q22))","v":0},{"$f":"(SUM(ENERO!R22))","v":0},{"$f":"(SUM(ENERO!S22))","v":0},{"$f":"(SUM(ENERO!T22))","v":0},{"$f":"(SUM(ENERO!U22))","v":0},{"$f":"(SUM(ENERO!V22))","v":0},{"$f":"(SUM(ENERO!W22))","v":0},{"$f":"(SUM(ENERO!X22))","v":0},{"$f":"(SUM(ENERO!Y22))","v":0},{"$f":"(SUM(ENERO!Z22))","v":0},{"$f":"(SUM(ENERO!AA22))","v":0},{"$f":"(SUM(ENERO!AB22))","v":0},null,null,null,null,null,null,null,{"$f":"(SUM(ENERO!AJ22))","v":0},{"$f":"(SUM(ENERO!AK22))","v":0},null,null,"BOYACA","SEPTIEMBRE"]
[null,null,null,null,null,null,null,null,null,null,null,null,null,"","",null,{"$f":"(SUM(ENERO!Q23))","v":0},{"$f":"(SUM(ENERO!R23))","v":0},{"$f":"(SUM(ENERO!S23))","v":0},{"$f":"(SUM(ENERO!T23))","v":0},{"$f":"(SUM(ENERO!U23))","v":0},{"$f":"(SUM(ENERO!V23))","v":0},{"$f":"(SUM(ENERO!W23))","v":0},{"$f":"(SUM(ENERO!X23))","v":0},{"$f":"(SUM(ENERO!Y23))","v":0},{"$f":"(SUM(ENERO!Z23))","v":0},{"$f":"(SUM(ENERO!AA23))","v":0},{"$f":"(SUM(ENERO!AB23))","v":0},null,null,null,null,null,null,null,{"$f":"(SUM(ENERO!AJ23))","v":0},{"$f":"(SUM(ENERO!AK23))","v":0},null,null,"CALDAS","OCTUBRE"]
[null,null,null,null,null,null,null,null,null,null,null,null,null,"","",null,{"$f":"(SUM(ENERO!Q24))","v":0},{"$f":"(SUM(ENERO!R24))","v":0},{"$f":"(SUM(ENERO!S24))","v":0},{"$f":"(SUM(ENERO!T24))","v":0},{"$f":"(SUM(ENERO!U24))","v":0},{"$f":"(SUM(ENERO!V24))","v":0},{"$f":"(SUM(ENERO!W24))","v":0},{"$f":"(SUM(ENERO!X24))","v":0},{"$f":"(SUM(ENERO!Y24))","v":0},{"$f":"(SUM(ENERO!Z24))","v":0},{"$f":"(SUM(ENERO!AA24))","v":0},{"$f":"(SUM(ENERO!AB24))","v":0},null,null,null,null,null,null,null,{"$f":"(SUM(ENERO!AJ24))","v":0},{"$f":"(SUM(ENERO!AK24))","v":0},null,null,"CAQUETA","NOVIEMBRE"]
[null,null,null,null,null,null,null,null,null,{"$f":"J20=K25","v":true},{"$f":"SUM(K20:K24)","v":0},null,null,"","",null,null,null,null,null,null,null,null,null,null,null,null,null,null,null,{"$f":"IFERROR(AA23*100/(W23+AA23),0)","v":0},null,null,null,null,{"$f":"(SUM(ENERO!AJ25))","v":0},{"$f":"(SUM(ENERO!AK25))","v":0},null,null,"CASANARE","DICIEMBRE"]
["Hepatitis B adultos ",null,{"$f":"(SUM(ENERO!C26:C30))","v":0},{"$f":"(SUM(ENERO!D26:D30))","v":0},{"$f":"(SUM(ENERO!E26:E30))","v":0},{"$f":"(SUM(ENERO!F26:F30))","v":0},{"$f":"(SUM(ENERO!G26:G30))","v":0},{"$f":"(SUM(ENERO!H26:H30))","v":0},{"$f":"AC26","v":0},{"$f":"+(C26+D26+F26+E26)-(G26+H26+I26)+SUM(AJ26:AJ30)","v":0},null,null,null,"","",null,{"$f":"(SUM(ENERO!Q26:Q30))","v":0},{"$f":"(SUM(ENERO!R26:R30))","v":0},{"$f":"(SUM(ENERO!S26:S30))","v":0},{"$f":"(SUM(ENERO!T26:T30))","v":0},{"$f":"(SUM(ENERO!U26:U30))","v":0},{"$f":"(SUM(ENERO!V26:V30))","v":0},{"$f":"(SUM(ENERO!W26:W30))","v":0},{"$f":"(SUM(ENERO!X26:X30))","v":0},{"$f":"(SUM(ENERO!Y26:Y30))","v":0},{"$f":"(SUM(ENERO!Z26:Z30))","v":0},{"$f":"(SUM(ENERO!AA26:AA30))","v":0},{"$f":"(SUM(ENERO!AB26:AB30))","v":0},{"$f":"SUM(Q26:AB30)","v":0},null,null,null,null,{"$f":"+IF(AC26<>I26,1,0)","v":0},null,{"$f":"(SUM(ENERO!AJ26))","v":0},{"$f":"(SUM(ENERO!AK26))","v":0},null,null,"BOLIVAR"]
[null,null,null,null,null,null,null,null,null,null,null,null,null,"","",null,{"$f":"(SUM(ENERO!Q27))","v":0},{"$f":"(SUM(ENERO!R27))","v":0},{"$f":"(SUM(ENERO!S27))","v":0},{"$f":"(SUM(ENERO!T27))","v":0},{"$f":"(SUM(ENERO!U27))","v":0},{"$f":"(SUM(ENERO!V27))","v":0},{"$f":"(SUM(ENERO!W27))","v":0},{"$f":"(SUM(ENERO!X27))","v":0},{"$f":"(SUM(ENERO!Y27))","v":0},{"$f":"(SUM(ENERO!Z27))","v":0},{"$f":"(SUM(ENERO!AA27))","v":0},{"$f":"(SUM(ENERO!AB27))","v":0},null,null,null,null,null,null,null,{"$f":"(SUM(ENERO!AJ27))","v":0},{"$f":"(SUM(ENERO!AK27))","v":0},null,null,"CARTAGENA"]
[null,null,null,null,null,null,null,null,null,null,null,null,null,"","",null,{"$f":"(SUM(ENERO!Q28))","v":0},{"$f":"(SUM(ENERO!R28))","v":0},{"$f":"(SUM(ENERO!S28))","v":0},{"$f":"(SUM(ENERO!T28))","v":0},{"$f":"(SUM(ENERO!U28))","v":0},{"$f":"(SUM(ENERO!V28))","v":0},{"$f":"(SUM(ENERO!W28))","v":0},{"$f":"(SUM(ENERO!X28))","v":0},{"$f":"(SUM(ENERO!Y28))","v":0},{"$f":"(SUM(ENERO!Z28))","v":0},{"$f":"(SUM(ENERO!AA28))","v":0},{"$f":"(SUM(ENERO!AB28))","v":0},null,null,null,null,null,null,null,{"$f":"(SUM(ENERO!AJ28))","v":0},{"$f":"(SUM(ENERO!AK28))","v":0},null,null,"BOYACA"]
[null,null,null,null,null,null,null,null,null,null,null,null,null,"","",null,{"$f":"(SUM(ENERO!Q29))","v":0},{"$f":"(SUM(ENERO!R29))","v":0},{"$f":"(SUM(ENERO!S29))","v":0},{"$f":"(SUM(ENERO!T29))","v":0},{"$f":"(SUM(ENERO!U29))","v":0},{"$f":"(SUM(ENERO!V29))","v":0},{"$f":"(SUM(ENERO!W29))","v":0},{"$f":"(SUM(ENERO!X29))","v":0},{"$f":"(SUM(ENERO!Y29))","v":0},{"$f":"(SUM(ENERO!Z29))","v":0},{"$f":"(SUM(ENERO!AA29))","v":0},{"$f":"(SUM(ENERO!AB29))","v":0},null,null,null,null,null,null,null,{"$f":"(SUM(ENERO!AJ29))","v":0},{"$f":"(SUM(ENERO!AK29))","v":0},null,null,"CALDAS"]
[null,null,null,null,null,null,null,null,null,null,null,null,null,"","",null,{"$f":"(SUM(ENERO!Q30))","v":0},{"$f":"(SUM(ENERO!R30))","v":0},{"$f":"(SUM(ENERO!S30))","v":0},{"$f":"(SUM(ENERO!T30))","v":0},{"$f":"(SUM(ENERO!U30))","v":0},{"$f":"(SUM(ENERO!V30))","v":0},{"$f":"(SUM(ENERO!W30))","v":0},{"$f":"(SUM(ENERO!X30))","v":0},{"$f":"(SUM(ENERO!Y30))","v":0},{"$f":"(SUM(ENERO!Z30))","v":0},{"$f":"(SUM(ENERO!AA30))","v":0},{"$f":"(SUM(ENERO!AB30))","v":0},null,null,null,null,null,null,null,{"$f":"(SUM(ENERO!AJ30))","v":0},{"$f":"(SUM(ENERO!AK30))","v":0},null,null,"CAQUETA"]
[null,null,null,null,null,null,null,null,null,{"$f":"J26=K31","v":true},{"$f":"SUM(K26:K30)","v":0},null,null,"","",null,null,null,null,null,null,null,null,null,null,null,null,null,null,null,{"$f":"IFERROR(AA29*100/(W29+AA29),0)","v":0},null,null,null,null,{"$f":"(SUM(ENERO!AJ31))","v":0},{"$f":"(SUM(ENERO!AK31))","v":0},null,null,"CASANARE"]
["Polio inactivada - VIP",null,{"$f":"(SUM(ENERO!C32:C36))","v":0},{"$f":"(SUM(ENERO!D32:D36))","v":0},{"$f":"(SUM(ENERO!E32:E36))","v":0},{"$f":"(SUM(ENERO!F32:F36))","v":0},{"$f":"(SUM(ENERO!G32:G36))","v":0},{"$f":"(SUM(ENERO!H32:H36))","v":0},{"$f":"AC32","v":0},{"$f":"+(C32+D32+F32+E32)-(G32+H32+I32)+SUM(AJ32:AJ36)","v":0},null,null,null,"","",null,{"$f":"(SUM(ENERO!Q32:Q36))","v":0},{"$f":"(SUM(ENERO!R32:R36))","v":0},{"$f":"(SUM(ENERO!S32:S36))","v":0},{"$f":"(SUM(ENERO!T32:T36))","v":0},{"$f":"(SUM(ENERO!U32:U36))","v":0},{"$f":"(SUM(ENERO!V32:V36))","v":0},{"$f":"(SUM(ENERO!W32:W36))","v":0},{"$f":"(SUM(ENERO!X32:X36))","v":0},{"$f":"(SUM(ENERO!Y32:Y36))","v":0},{"$f":"(SUM(ENERO!Z32:Z36))","v":0},{"$f":"(SUM(ENERO!AA32:AA36))","v":0},{"$f":"(SUM(ENERO!AB32:AB36))","v":0},{"$f":"SUM(Q32:AB36)","v":0},null,null,null,null,{"$f":"+IF(AC32<>I32,1,0)","v":0},null,{"$f":"(SUM(ENERO!AJ32))","v":0},{"$f":"(SUM(ENERO!AK32))","v":0},null,null,"CAUCA"]
[null,null,null,null,null,null,null,null,null,null,null,null,null,"","",null,{"$f":"(SUM(ENERO!Q33))","v":0},{"$f":"(SUM(ENERO!R33))","v":0},{"$f":"(SUM(ENERO!S33))","v":0},{"$f":"(SUM(ENERO!T33))","v":0},{"$f":"(SUM(ENERO!U33))","v":0},{"$f":"(SUM(ENERO!V33))","v":0},{"$f":"(SUM(ENERO!W33))","v":0},{"$f":"(SUM(ENERO!X33))","v":0},{"$f":"(SUM(ENERO!Y33))","v":0},{"$f":"(SUM(ENERO!Z33))","v":0},{"$f":"(SUM(ENERO!AA33))","v":0},{"$f":"(SUM(ENERO!AB33))","v":0},null,null,null,null,null,null,null,{"$f":"(SUM(ENERO!AJ33))","v":0},{"$f":"(SUM(ENERO!AK33))","v":0},null,null,"CESAR"]
[null,null,null,null,null,null,null,null,null,null,null,null,null,"","",null,{"$f":"(SUM(ENERO!Q34))","v":0},{"$f":"(SUM(ENERO!R34))","v":0},{"$f":"(SUM(ENERO!S34))","v":0},{"$f":"(SUM(ENERO!T34))","v":0},{"$f":"(SUM(ENERO!U34))","v":0},{"$f":"(SUM(ENERO!V34))","v":0},{"$f":"(SUM(ENERO!W34))","v":0},{"$f":"(SUM(ENERO!X34))","v":0},{"$f":"(SUM(ENERO!Y34))","v":0},{"$f":"(SUM(ENERO!Z34))","v":0},{"$f":"(SUM(ENERO!AA34))","v":0},{"$f":"(SUM(ENERO!AB34))","v":0},null,null,null,null,null,null,null,{"$f":"(SUM(ENERO!AJ34))","v":0},{"$f":"(SUM(ENERO!AK34))","v":0},null,null,"CHOCO"]
[null,null,null,null,null,null,null,null,null,null,null,null,null,"","",null,{"$f":"(SUM(ENERO!Q35))","v":0},{"$f":"(SUM(ENERO!R35))","v":0},{"$f":"(SUM(ENERO!S35))","v":0},{"$f":"(SUM(ENERO!T35))","v":0},{"$f":"(SUM(ENERO!U35))","v":0},{"$f":"(SUM(ENERO!V35))","v":0},{"$f":"(SUM(ENERO!W35))","v":0},{"$f":"(SUM(ENERO!X35))","v":0},{"$f":"(SUM(ENERO!Y35))","v":0},{"$f":"(SUM(ENERO!Z35))","v":0},{"$f":"(SUM(ENERO!AA35))","v":0},{"$f":"(SUM(ENERO!AB35))","v":0},null,null,null,null,null,null,null,{"$f":"(SUM(ENERO!AJ35))","v":0},{"$f":"(SUM(ENERO!AK35))","v":0},null,null,"CORDOBA"]
[null,null,null,null,null,null,null,null,null,null,null,null,null,"","",null,{"$f":"(SUM(ENERO!Q36))","v":0},{"$f":"(SUM(ENERO!R36))","v":0},{"$f":"(SUM(ENERO!S36))","v":0},{"$f":"(SUM(ENERO!T36))","v":0},{"$f":"(SUM(ENERO!U36))","v":0},{"$f":"(SUM(ENERO!V36))","v":0},{"$f":"(SUM(ENERO!W36))","v":0},{"$f":"(SUM(ENERO!X36))","v":0},{"$f":"(SUM(ENERO!Y36))","v":0},{"$f":"(SUM(ENERO!Z36))","v":0},{"$f":"(SUM(ENERO!AA36))","v":0},{"$f":"(SUM(ENERO!AB36))","v":0},null,null,{"$f":"IFERROR(AA34*100/(W34+AA34),0)","v":0},null,null,null,null,{"$f":"(SUM(ENERO!AJ36))","v":0},{"$f":"(SUM(ENERO!AK36))","v":0},null,null,"CUNDINAMARCA"]
[null,null,null,null,null,null,null,null,null,{"$f":"J32=K37","v":true},{"$f":"SUM(K32:K36)","v":0},null,null,"","",null,null,null,null,null,null,null,null,null,null,null,null,null,null,null,null,null,null,null,null,{"$f":"(SUM(ENERO!AJ37))","v":0},{"$f":"(SUM(ENERO!AK37))","v":0},null,null,"GUAINIA"]
["Polio oral",null,{"$f":"(SUM(ENERO!C38:C42))","v":0},{"$f":"(SUM(ENERO!D38:D42))","v":0},{"$f":"(SUM(ENERO!E38:E42))","v":0},{"$f":"(SUM(ENERO!F38:F42))","v":0},{"$f":"(SUM(ENERO!G38:G42))","v":0},{"$f":"(SUM(ENERO!H38:H42))","v":0},{"$f":"AC38","v":0},{"$f":"+(C38+D38+F38+E38)-(G38+H38+I38)+SUM(AJ38:AJ42)","v":0},null,null,null,"","",null,{"$f":"(SUM(ENERO!Q38:Q42))","v":0},{"$f":"(SUM(ENERO!R38:R42))","v":0},{"$f":"(SUM(ENERO!S38:S42))","v":0},{"$f":"(SUM(ENERO!T38:T42))","v":0},{"$f":"(SUM(ENERO!U38:U42))","v":0},{"$f":"(SUM(ENERO!V38:V42))","v":0},{"$f":"(SUM(ENERO!W38:W42))","v":0},{"$f":"(SUM(ENERO!X38:X42))","v":0},{"$f":"(SUM(ENERO!Y38:Y42))","v":0},{"$f":"(SUM(ENERO!Z38:Z42))","v":0},{"$f":"(SUM(ENERO!AA38:AA42))","v":0},{"$f":"(SUM(ENERO!AB38:AB42))","v":0},{"$f":"SUM(Q38:AB42)","v":0},null,null,null,null,{"$f":"+IF(AC38<>I38,1,0)","v":0},null,{"$f":"(SUM(ENERO!AJ38))","v":0},{"$f":"(SUM(ENERO!AK38))","v":0},null,null,"GUAVIARE"]
[null,null,null,null,null,null,null,null,null,null,null,null,null,"","",null,{"$f":"(SUM(ENERO!Q39))","v":0},{"$f":"(SUM(ENERO!R39))","v":0},{"$f":"(SUM(ENERO!S39))","v":0},{"$f":"(SUM(ENERO!T39))","v":0},{"$f":"(SUM(ENERO!U39))","v":0},{"$f":"(SUM(ENERO!V39))","v":0},{"$f":"(SUM(ENERO!W39))","v":0},{"$f":"(SUM(ENERO!X39))","v":0},{"$f":"(SUM(ENERO!Y39))","v":0},{"$f":"(SUM(ENERO!Z39))","v":0},{"$f":"(SUM(ENERO!AA39))","v":0},{"$f":"(SUM(ENERO!AB39))","v":0},null,null,null,null,null,null,null,{"$f":"(SUM(ENERO!AJ39))","v":0},{"$f":"(SUM(ENERO!AK39))","v":0},null,null,"HUILA"]
[null,null,null,null,null,null,null,null,null,null,null,null,null,"","",null,{"$f":"(SUM(ENERO!Q40))","v":0},{"$f":"(SUM(ENERO!R40))","v":0},{"$f":"(SUM(ENERO!S40))","v":0},{"$f":"(SUM(ENERO!T40))","v":0},{"$f":"(SUM(ENERO!U40))","v":0},{"$f":"(SUM(ENERO!V40))","v":0},{"$f":"(SUM(ENERO!W40))","v":0},{"$f":"(SUM(ENERO!X40))","v":0},{"$f":"(SUM(ENERO!Y40))","v":0},{"$f":"(SUM(ENERO!Z40))","v":0},{"$f":"(SUM(ENERO!AA40))","v":0},{"$f":"(SUM(ENERO!AB40))","v":0},null,null,null,null,null,null,null,{"$f":"(SUM(ENERO!AJ40))","v":0},{"$f":"(SUM(ENERO!AK40))","v":0},null,null,"LA GUAJIRA"]
[null,null,null,null,null,null,null,null,null,null,null,null,null,"","",null,{"$f":"(SUM(ENERO!Q41))","v":0},{"$f":"(SUM(ENERO!R41))","v":0},{"$f":"(SUM(ENERO!S41))","v":0},{"$f":"(SUM(ENERO!T41))","v":0},{"$f":"(SUM(ENERO!U41))","v":0},{"$f":"(SUM(ENERO!V41))","v":0},{"$f":"(SUM(ENERO!W41))","v":0},{"$f":"(SUM(ENERO!X41))","v":0},{"$f":"(SUM(ENERO!Y41))","v":0},{"$f":"(SUM(ENERO!Z41))","v":0},{"$f":"(SUM(ENERO!AA41))","v":0},{"$f":"(SUM(ENERO!AB41))","v":0},null,null,null,null,null,null,null,{"$f":"(SUM(ENERO!AJ41))","v":0},{"$f":"(SUM(ENERO!AK41))","v":0},null,null,"MAGDALENA"]
[null,null,null,null,null,null,null,null,null,null,null,null,null,"","",null,{"$f":"(SUM(ENERO!Q42))","v":0},{"$f":"(SUM(ENERO!R42))","v":0},{"$f":"(SUM(ENERO!S42))","v":0},{"$f":"(SUM(ENERO!T42))","v":0},{"$f":"(SUM(ENERO!U42))","v":0},{"$f":"(SUM(ENERO!V42))","v":0},{"$f":"(SUM(ENERO!W42))","v":0},{"$f":"(SUM(ENERO!X42))","v":0},{"$f":"(SUM(ENERO!Y42))","v":0},{"$f":"(SUM(ENERO!Z42))","v":0},{"$f":"(SUM(ENERO!AA42))","v":0},{"$f":"(SUM(ENERO!AB42))","v":0},null,null,{"$f":"IFERROR(AA40*100/(W40+AA40),0)","v":0},null,null,null,null,{"$f":"(SUM(ENERO!AJ42))","v":0},{"$f":"(SUM(ENERO!AK42))","v":0},null,null,"SANTA MARTA"]
[null,null,null,null,null,null,null,null,null,{"$f":"J38=K43","v":true},{"$f":"SUM(K38:K42)","v":0},null,null,"","",null,null,null,null,null,null,null,null,null,null,null,null,null,null,null,null,null,null,null,null,{"$f":"(SUM(ENERO!AJ43))","v":0},{"$f":"(SUM(ENERO!AK43))","v":0},null,null,"META"]
["Pentavalente",null,{"$f":"(SUM(ENERO!C44:C48))","v":0},{"$f":"(SUM(ENERO!D44:D48))","v":0},{"$f":"(SUM(ENERO!E44:E48))","v":0},{"$f":"(SUM(ENERO!F44:F48))","v":0},{"$f":"(SUM(ENERO!G44:G48))","v":0},{"$f":"(SUM(ENERO!H44:H48))","v":0},{"$f":"AC44","v":0},{"$f":"+(C44+D44+F44+E44)-(G44+H44+I44)+SUM(AJ44:AJ48)","v":0},null,null,null,"","",null,{"$f":"(SUM(ENERO!Q44:Q48))","v":0},{"$f":"(SUM(ENERO!R44:R48))","v":0},{"$f":"(SUM(ENERO!S44:S48))","v":0},{"$f":"(SUM(ENERO!T44:T48))","v":0},{"$f":"(SUM(ENERO!U44:U48))","v":0},{"$f":"(SUM(ENERO!V44:V48))","v":0},{"$f":"(SUM(ENERO!W44:W48))","v":0},{"$f":"(SUM(ENERO!X44:X48))","v":0},{"$f":"(SUM(ENERO!Y44:Y48))","v":0},{"$f":"(SUM(ENERO!Z44:Z48))","v":0},{"$f":"(SUM(ENERO!AA44:AA48))","v":0},{"$f":"(SUM(ENERO!AB44:AB48))","v":0},{"$f":"SUM(Q44:AB48)","v":0},null,null,null,null,{"$f":"+IF(AC44<>I44,1,0)","v":0},null,{"$f":"(SUM(ENERO!AJ44))","v":0},{"$f":"(SUM(ENERO!AK44))","v":0},null,null,"NARIÑO"]
[null,null,null,null,null,null,null,null,null,null,null,null,null,"","",null,{"$f":"(SUM(ENERO!Q45))","v":0},{"$f":"(SUM(ENERO!R45))","v":0},{"$f":"(SUM(ENERO!S45))","v":0},{"$f":"(SUM(ENERO!T45))","v":0},{"$f":"(SUM(ENERO!U45))","v":0},{"$f":"(SUM(ENERO!V45))","v":0},{"$f":"(SUM(ENERO!W45))","v":0},{"$f":"(SUM(ENERO!X45))","v":0},{"$f":"(SUM(ENERO!Y45))","v":0},{"$f":"(SUM(ENERO!Z45))","v":0},{"$f":"(SUM(ENERO!AA45))","v":0},{"$f":"(SUM(ENERO!AB45))","v":0},null,null,null,null,null,null,null,{"$f":"(SUM(ENERO!AJ45))","v":0},{"$f":"(SUM(ENERO!AK45))","v":0},null,null,"NORTE DE SANTANDER"]
[null,null,null,null,null,null,null,null,null,null,null,null,null,"","",null,{"$f":"(SUM(ENERO!Q46))","v":0},{"$f":"(SUM(ENERO!R46))","v":0},{"$f":"(SUM(ENERO!S46))","v":0},{"$f":"(SUM(ENERO!T46))","v":0},{"$f":"(SUM(ENERO!U46))","v":0},{"$f":"(SUM(ENERO!V46))","v":0},{"$f":"(SUM(ENERO!W46))","v":0},{"$f":"(SUM(ENERO!X46))","v":0},{"$f":"(SUM(ENERO!Y46))","v":0},{"$f":"(SUM(ENERO!Z46))","v":0},{"$f":"(SUM(ENERO!AA46))","v":0},{"$f":"(SUM(ENERO!AB46))","v":0},null,null,null,null,null,null,null,{"$f":"(SUM(ENERO!AJ46))","v":0},{"$f":"(SUM(ENERO!AK46))","v":0},null,null,"PUTUMAYO"]
[null,null,null,null,null,null,null,null,null,null,null,null,null,"","",null,{"$f":"(SUM(ENERO!Q47))","v":0},{"$f":"(SUM(ENERO!R47))","v":0},{"$f":"(SUM(ENERO!S47))","v":0},{"$f":"(SUM(ENERO!T47))","v":0},{"$f":"(SUM(ENERO!U47))","v":0},{"$f":"(SUM(ENERO!V47))","v":0},{"$f":"(SUM(ENERO!W47))","v":0},{"$f":"(SUM(ENERO!X47))","v":0},{"$f":"(SUM(ENERO!Y47))","v":0},{"$f":"(SUM(ENERO!Z47))","v":0},{"$f":"(SUM(ENERO!AA47))","v":0},{"$f":"(SUM(ENERO!AB47))","v":0},null,null,{"$f":"IFERROR(AA45*100/(W45+AA45),0)","v":0},null,null,null,null,{"$f":"(SUM(ENERO!AJ47))","v":0},{"$f":"(SUM(ENERO!AK47))","v":0},null,null,"QUINDIO"]
[null,null,null,null,null,null,null,null,null,null,null,null,null,"","",null,{"$f":"(SUM(ENERO!Q48))","v":0},{"$f":"(SUM(ENERO!R48))","v":0},{"$f":"(SUM(ENERO!S48))","v":0},{"$f":"(SUM(ENERO!T48))","v":0},{"$f":"(SUM(ENERO!U48))","v":0},{"$f":"(SUM(ENERO!V48))","v":0},{"$f":"(SUM(ENERO!W48))","v":0},{"$f":"(SUM(ENERO!X48))","v":0},{"$f":"(SUM(ENERO!Y48))","v":0},{"$f":"(SUM(ENERO!Z48))","v":0},{"$f":"(SUM(ENERO!AA48))","v":0},{"$f":"(SUM(ENERO!AB48))","v":0},null,null,null,null,null,null,null,{"$f":"(SUM(ENERO!AJ48))","v":0},{"$f":"(SUM(ENERO!AK48))","v":0},null,null,"RISARALDA"]
[null,null,null,null,null,null,null,null,null,{"$f":"J44=K49","v":true},{"$f":"SUM(K44:K48)","v":0},null,null,"","",null,null,null,null,null,null,null,null,null,null,null,null,null,null,null,null,null,null,null,null,{"$f":"(SUM(ENERO!AJ49))","v":0},{"$f":"(SUM(ENERO!AK49))","v":0},null,null,"SAN ANDRES ISLA"]
["Hexavalente",null,{"$f":"(SUM(ENERO!C50:C54))","v":0},{"$f":"(SUM(ENERO!D50:D54))","v":0},{"$f":"(SUM(ENERO!E50:E54))","v":0},{"$f":"(SUM(ENERO!F50:F54))","v":0},{"$f":"(SUM(ENERO!G50:G54))","v":0},{"$f":"(SUM(ENERO!H50:H54))","v":0},{"$f":"AC50","v":0},{"$f":"+(C50+D50+F50+E50)-(G50+H50+I50)+SUM(AJ50:AJ54)","v":0},null,null,null,"","",null,{"$f":"(SUM(ENERO!Q50:Q54))","v":0},{"$f":"(SUM(ENERO!R50:R54))","v":0},{"$f":"(SUM(ENERO!S50:S54))","v":0},{"$f":"(SUM(ENERO!T50:T54))","v":0},{"$f":"(SUM(ENERO!U50:U54))","v":0},{"$f":"(SUM(ENERO!V50:V54))","v":0},{"$f":"(SUM(ENERO!W50:W54))","v":0},{"$f":"(SUM(ENERO!X50:X54))","v":0},{"$f":"(SUM(ENERO!Y50:Y54))","v":0},{"$f":"(SUM(ENERO!Z50:Z54))","v":0},{"$f":"(SUM(ENERO!AA50:AA54))","v":0},{"$f":"(SUM(ENERO!AB50:AB54))","v":0},{"$f":"SUM(Q50:AB54)","v":0},null,null,null,null,{"$f":"+IF(AC50<>I50,1,0)","v":0},null,{"$f":"(SUM(ENERO!AJ50))","v":0},{"$f":"(SUM(ENERO!AK50))","v":0},null,null,"NARIÑO"]
[null,null,null,null,null,null,null,null,null,null,null,null,null,"","",null,{"$f":"(SUM(ENERO!Q51))","v":0},{"$f":"(SUM(ENERO!R51))","v":0},{"$f":"(SUM(ENERO!S51))","v":0},{"$f":"(SUM(ENERO!T51))","v":0},{"$f":"(SUM(ENERO!U51))","v":0},{"$f":"(SUM(ENERO!V51))","v":0},{"$f":"(SUM(ENERO!W51))","v":0},{"$f":"(SUM(ENERO!X51))","v":0},{"$f":"(SUM(ENERO!Y51))","v":0},{"$f":"(SUM(ENERO!Z51))","v":0},{"$f":"(SUM(ENERO!AA51))","v":0},{"$f":"(SUM(ENERO!AB51))","v":0},null,null,null,null,null,null,null,{"$f":"(SUM(ENERO!AJ51))","v":0},{"$f":"(SUM(ENERO!AK51))","v":0},null,null,"NORTE DE SANTANDER"]
[null,null,null,null,null,null,null,null,null,null,null,null,null,"","",null,{"$f":"(SUM(ENERO!Q52))","v":0},{"$f":"(SUM(ENERO!R52))","v":0},{"$f":"(SUM(ENERO!S52))","v":0},{"$f":"(SUM(ENERO!T52))","v":0},{"$f":"(SUM(ENERO!U52))","v":0},{"$f":"(SUM(ENERO!V52))","v":0},{"$f":"(SUM(ENERO!W52))","v":0},{"$f":"(SUM(ENERO!X52))","v":0},{"$f":"(SUM(ENERO!Y52))","v":0},{"$f":"(SUM(ENERO!Z52))","v":0},{"$f":"(SUM(ENERO!AA52))","v":0},{"$f":"(SUM(ENERO!AB52))","v":0},null,null,null,null,null,null,null,{"$f":"(SUM(ENERO!AJ52))","v":0},{"$f":"(SUM(ENERO!AK52))","v":0},null,null,"PUTUMAYO"]
[null,null,null,null,null,null,null,null,null,null,null,null,null,"","",null,{"$f":"(SUM(ENERO!Q53))","v":0},{"$f":"(SUM(ENERO!R53))","v":0},{"$f":"(SUM(ENERO!S53))","v":0},{"$f":"(SUM(ENERO!T53))","v":0},{"$f":"(SUM(ENERO!U53))","v":0},{"$f":"(SUM(ENERO!V53))","v":0},{"$f":"(SUM(ENERO!W53))","v":0},{"$f":"(SUM(ENERO!X53))","v":0},{"$f":"(SUM(ENERO!Y53))","v":0},{"$f":"(SUM(ENERO!Z53))","v":0},{"$f":"(SUM(ENERO!AA53))","v":0},{"$f":"(SUM(ENERO!AB53))","v":0},null,null,{"$f":"IFERROR(AA51*100/(W51+AA51),0)","v":0},null,null,null,null,{"$f":"(SUM(ENERO!AJ53))","v":0},{"$f":"(SUM(ENERO!AK53))","v":0},null,null,"QUINDIO"]
[null,null,null,null,null,null,null,null,null,null,null,null,null,"","",null,{"$f":"(SUM(ENERO!Q54))","v":0},{"$f":"(SUM(ENERO!R54))","v":0},{"$f":"(SUM(ENERO!S54))","v":0},{"$f":"(SUM(ENERO!T54))","v":0},{"$f":"(SUM(ENERO!U54))","v":0},{"$f":"(SUM(ENERO!V54))","v":0},{"$f":"(SUM(ENERO!W54))","v":0},{"$f":"(SUM(ENERO!X54))","v":0},{"$f":"(SUM(ENERO!Y54))","v":0},{"$f":"(SUM(ENERO!Z54))","v":0},{"$f":"(SUM(ENERO!AA54))","v":0},{"$f":"(SUM(ENERO!AB54))","v":0},null,null,null,null,null,null,null,{"$f":"(SUM(ENERO!AJ54))","v":0},{"$f":"(SUM(ENERO!AK54))","v":0},null,null,"RISARALDA"]
[null,null,null,null,null,null,null,null,null,{"$f":"J50=K55","v":true},{"$f":"SUM(K50:K54)","v":0},null,null,"","",null,null,null,null,null,null,null,null,null,null,null,null,null,null,null,null,null,null,null,null,{"$f":"(SUM(ENERO!AJ55))","v":0},{"$f":"(SUM(ENERO!AK55))","v":0},null,null,"SAN ANDRES ISLA"]
["DPT",null,{"$f":"(SUM(ENERO!C56:C60))","v":0},{"$f":"(SUM(ENERO!D56:D60))","v":0},{"$f":"(SUM(ENERO!E56:E60))","v":0},{"$f":"(SUM(ENERO!F56:F60))","v":0},{"$f":"(SUM(ENERO!G56:G60))","v":0},{"$f":"(SUM(ENERO!H56:H60))","v":0},{"$f":"AC56","v":0},{"$f":"+(C56+D56+F56+E56)-(G56+H56+I56)+SUM(AJ56:AJ60)","v":0},null,null,null,"","",null,{"$f":"(SUM(ENERO!Q56:Q60))","v":0},{"$f":"(SUM(ENERO!R56:R60))","v":0},{"$f":"(SUM(ENERO!S56:S60))","v":0},{"$f":"(SUM(ENERO!T56:T60))","v":0},{"$f":"(SUM(ENERO!U56:U60))","v":0},{"$f":"(SUM(ENERO!V56:V60))","v":0},{"$f":"(SUM(ENERO!W56:W60))","v":0},{"$f":"(SUM(ENERO!X56:X60))","v":0},{"$f":"(SUM(ENERO!Y56:Y60))","v":0},{"$f":"(SUM(ENERO!Z56:Z60))","v":0},{"$f":"(SUM(ENERO!AA56:AA60))","v":0},{"$f":"(SUM(ENERO!AB56:AB60))","v":0},{"$f":"SUM(Q56:AB60)","v":0},null,null,null,null,{"$f":"+IF(AC56<>I56,1,0)","v":0},null,{"$f":"(SUM(ENERO!AJ56))","v":0},{"$f":"(SUM(ENERO!AK56))","v":0},null,null,"SANTANDER"]
[null,null,null,null,null,null,null,null,null,null,null,null,null,"","",null,{"$f":"(SUM(ENERO!Q57))","v":0},{"$f":"(SUM(ENERO!R57))","v":0},{"$f":"(SUM(ENERO!S57))","v":0},{"$f":"(SUM(ENERO!T57))","v":0},{"$f":"(SUM(ENERO!U57))","v":0},{"$f":"(SUM(ENERO!V57))","v":0},{"$f":"(SUM(ENERO!W57))","v":0},{"$f":"(SUM(ENERO!X57))","v":0},{"$f":"(SUM(ENERO!Y57))","v":0},{"$f":"(SUM(ENERO!Z57))","v":0},{"$f":"(SUM(ENERO!AA57))","v":0},{"$f":"(SUM(ENERO!AB57))","v":0},null,null,null,null,null,null,null,{"$f":"(SUM(ENERO!AJ57))","v":0},{"$f":"(SUM(ENERO!AK57))","v":0},null,null,"SUCRE"]
[null,null,null,null,null,null,null,null,null,null,null,null,null,"","",null,{"$f":"(SUM(ENERO!Q58))","v":0},{"$f":"(SUM(ENERO!R58))","v":0},{"$f":"(SUM(ENERO!S58))","v":0},{"$f":"(SUM(ENERO!T58))","v":0},{"$f":"(SUM(ENERO!U58))","v":0},{"$f":"(SUM(ENERO!V58))","v":0},{"$f":"(SUM(ENERO!W58))","v":0},{"$f":"(SUM(ENERO!X58))","v":0},{"$f":"(SUM(ENERO!Y58))","v":0},{"$f":"(SUM(ENERO!Z58))","v":0},{"$f":"(SUM(ENERO!AA58))","v":0},{"$f":"(SUM(ENERO!AB58))","v":0},null,null,null,null,null,null,null,{"$f":"(SUM(ENERO!AJ58))","v":0},{"$f":"(SUM(ENERO!AK58))","v":0},null,null,"TOLIMA"]
[null,null,null,null,null,null,null,null,null,null,null,null,null,"","",null,{"$f":"(SUM(ENERO!Q59))","v":0},{"$f":"(SUM(ENERO!R59))","v":0},{"$f":"(SUM(ENERO!S59))","v":0},{"$f":"(SUM(ENERO!T59))","v":0},{"$f":"(SUM(ENERO!U59))","v":0},{"$f":"(SUM(ENERO!V59))","v":0},{"$f":"(SUM(ENERO!W59))","v":0},{"$f":"(SUM(ENERO!X59))","v":0},{"$f":"(SUM(ENERO!Y59))","v":0},{"$f":"(SUM(ENERO!Z59))","v":0},{"$f":"(SUM(ENERO!AA59))","v":0},{"$f":"(SUM(ENERO!AB59))","v":0},null,null,{"$f":"IFERROR(AA57*100/(W57+AA57),0)","v":0},null,null,null,null,{"$f":"(SUM(ENERO!AJ59))","v":0},{"$f":"(SUM(ENERO!AK59))","v":0},null,null,"VALLE"]
[null,null,null,null,null,null,null,null,null,null,null,null,null,"","",null,{"$f":"(SUM(ENERO!Q60))","v":0},{"$f":"(SUM(ENERO!R60))","v":0},{"$f":"(SUM(ENERO!S60))","v":0},{"$f":"(SUM(ENERO!T60))","v":0},{"$f":"(SUM(ENERO!U60))","v":0},{"$f":"(SUM(ENERO!V60))","v":0},{"$f":"(SUM(ENERO!W60))","v":0},{"$f":"(SUM(ENERO!X60))","v":0},{"$f":"(SUM(ENERO!Y60))","v":0},{"$f":"(SUM(ENERO!Z60))","v":0},{"$f":"(SUM(ENERO!AA60))","v":0},{"$f":"(SUM(ENERO!AB60))","v":0},null,null,null,null,null,null,null,{"$f":"(SUM(ENERO!AJ60))","v":0},{"$f":"(SUM(ENERO!AK60))","v":0},null,null,"BUENAVENTURA"]
[null,null,null,null,null,null,null,null,null,{"$f":"J56=K61","v":true},{"$f":"SUM(K56:K60)","v":0},null,null,"","",null,null,null,null,null,null,null,null,null,null,null,null,null,null,null,null,null,null,null,null,{"$f":"(SUM(ENERO!AJ61))","v":0},{"$f":"(SUM(ENERO!AK61))","v":0},null,null,"VAUPES"]
["DTaP Pediatrica",null,{"$f":"(SUM(ENERO!C62:C66))","v":0},{"$f":"(SUM(ENERO!D62:D66))","v":0},{"$f":"(SUM(ENERO!E62:E66))","v":0},{"$f":"(SUM(ENERO!F62:F66))","v":0},{"$f":"(SUM(ENERO!G62:G66))","v":0},{"$f":"(SUM(ENERO!H62:H66))","v":0},{"$f":"AC62","v":0},{"$f":"+(C62+D62+F62+E62)-(G62+H62+I62)+SUM(AJ62:AJ66)","v":0},null,null,null,"","",null,{"$f":"(SUM(ENERO!Q62:Q66))","v":0},{"$f":"(SUM(ENERO!R62:R66))","v":0},{"$f":"(SUM(ENERO!S62:S66))","v":0},{"$f":"(SUM(ENERO!T62:T66))","v":0},{"$f":"(SUM(ENERO!U62:U66))","v":0},{"$f":"(SUM(ENERO!V62:V66))","v":0},{"$f":"(SUM(ENERO!W62:W66))","v":0},{"$f":"(SUM(ENERO!X62:X66))","v":0},{"$f":"(SUM(ENERO!Y62:Y66))","v":0},{"$f":"(SUM(ENERO!Z62:Z66))","v":0},{"$f":"(SUM(ENERO!AA62:AA66))","v":0},{"$f":"(SUM(ENERO!AB62:AB66))","v":0},{"$f":"SUM(Q62:AB66)","v":0},null,null,null,null,{"$f":"+IF(AC62<>I62,1,0)","v":0},null,{"$f":"(SUM(ENERO!AJ62))","v":0},{"$f":"(SUM(ENERO!AK62))","v":0},null,null,"VICHADA"]
[null,null,null,null,null,null,null,null,null,null,null,null,null,"","",null,{"$f":"(SUM(ENERO!Q63))","v":0},{"$f":"(SUM(ENERO!R63))","v":0},{"$f":"(SUM(ENERO!S63))","v":0},{"$f":"(SUM(ENERO!T63))","v":0},{"$f":"(SUM(ENERO!U63))","v":0},{"$f":"(SUM(ENERO!V63))","v":0},{"$f":"(SUM(ENERO!W63))","v":0},{"$f":"(SUM(ENERO!X63))","v":0},{"$f":"(SUM(ENERO!Y63))","v":0},{"$f":"(SUM(ENERO!Z63))","v":0},{"$f":"(SUM(ENERO!AA63))","v":0},{"$f":"(SUM(ENERO!AB63))","v":0},null,null,null,null,null,null,null,{"$f":"(SUM(ENERO!AJ63))","v":0},{"$f":"(SUM(ENERO!AK63))","v":0}]
[null,null,null,null,null,null,null,null,null,null,null,null,null,"","",null,{"$f":"(SUM(ENERO!Q64))","v":0},{"$f":"(SUM(ENERO!R64))","v":0},{"$f":"(SUM(ENERO!S64))","v":0},{"$f":"(SUM(ENERO!T64))","v":0},{"$f":"(SUM(ENERO!U64))","v":0},{"$f":"(SUM(ENERO!V64))","v":0},{"$f":"(SUM(ENERO!W64))","v":0},{"$f":"(SUM(ENERO!X64))","v":0},{"$f":"(SUM(ENERO!Y64))","v":0},{"$f":"(SUM(ENERO!Z64))","v":0},{"$f":"(SUM(ENERO!AA64))","v":0},{"$f":"(SUM(ENERO!AB64))","v":0},null,null,{"$f":"IFERROR(AA62*100/(W62+AA62),0)","v":0},null,null,null,null,{"$f":"(SUM(ENERO!AJ64))","v":0},{"$f":"(SUM(ENERO!AK64))","v":0}]
[null,null,null,null,null,null,null,null,null,null,null,null,null,"","",null,{"$f":"(SUM(ENERO!Q65))","v":0},{"$f":"(SUM(ENERO!R65))","v":0},{"$f":"(SUM(ENERO!S65))","v":0},{"$f":"(SUM(ENERO!T65))","v":0},{"$f":"(SUM(ENERO!U65))","v":0},{"$f":"(SUM(ENERO!V65))","v":0},{"$f":"(SUM(ENERO!W65))","v":0},{"$f":"(SUM(ENERO!X65))","v":0},{"$f":"(SUM(ENERO!Y65))","v":0},{"$f":"(SUM(ENERO!Z65))","v":0},{"$f":"(SUM(ENERO!AA65))","v":0},{"$f":"(SUM(ENERO!AB65))","v":0},null,null,null,null,null,null,null,{"$f":"(SUM(ENERO!AJ65))","v":0},{"$f":"(SUM(ENERO!AK65))","v":0}]
[null,null,null,null,null,null,null,null,null,null,null,null,null,"","",null,{"$f":"(SUM(ENERO!Q66))","v":0},{"$f":"(SUM(ENERO!R66))","v":0},{"$f":"(SUM(ENERO!S66))","v":0},{"$f":"(SUM(ENERO!T66))","v":0},{"$f":"(SUM(ENERO!U66))","v":0},{"$f":"(SUM(ENERO!V66))","v":0},{"$f":"(SUM(ENERO!W66))","v":0},{"$f":"(SUM(ENERO!X66))","v":0},{"$f":"(SUM(ENERO!Y66))","v":0},{"$f":"(SUM(ENERO!Z66))","v":0},{"$f":"(SUM(ENERO!AA66))","v":0},{"$f":"(SUM(ENERO!AB66))","v":0},null,null,null,null,null,null,null,{"$f":"(SUM(ENERO!AJ66))","v":0},{"$f":"(SUM(ENERO!AK66))","v":0}]
[null,null,null,null,null,null,null,null,null,{"$f":"J62=K67","v":true},{"$f":"SUM(K62:K66)","v":0},null,null,"","",null,null,null,null,null,null,null,null,null,null,null,null,null,null,null,null,null,null,null,null,{"$f":"(SUM(ENERO!AJ67))","v":0},{"$f":"(SUM(ENERO!AK67))","v":0}]
["Td pediatrica",null,{"$f":"(SUM(ENERO!C68:C72))","v":0},{"$f":"(SUM(ENERO!D68:D72))","v":0},{"$f":"(SUM(ENERO!E68:E72))","v":0},{"$f":"(SUM(ENERO!F68:F72))","v":0},{"$f":"(SUM(ENERO!G68:G72))","v":0},{"$f":"(SUM(ENERO!H68:H72))","v":0},{"$f":"AC68","v":0},{"$f":"+(C68+D68+F68+E68)-(G68+H68+I68)+SUM(AJ68:AJ72)","v":0},null,null,null,"","",null,{"$f":"(SUM(ENERO!Q68:Q72))","v":0},{"$f":"(SUM(ENERO!R68:R72))","v":0},{"$f":"(SUM(ENERO!S68:S72))","v":0},{"$f":"(SUM(ENERO!T68:T72))","v":0},{"$f":"(SUM(ENERO!U68:U72))","v":0},{"$f":"(SUM(ENERO!V68:V72))","v":0},{"$f":"(SUM(ENERO!W68:W72))","v":0},{"$f":"(SUM(ENERO!X68:X72))","v":0},{"$f":"(SUM(ENERO!Y68:Y72))","v":0},{"$f":"(SUM(ENERO!Z68:Z72))","v":0},{"$f":"(SUM(ENERO!AA68:AA72))","v":0},{"$f":"(SUM(ENERO!AB68:AB72))","v":0},{"$f":"SUM(Q68:AB72)","v":0},null,null,null,null,{"$f":"+IF(AC68<>I68,1,0)","v":0},null,{"$f":"(SUM(ENERO!AJ68))","v":0},{"$f":"(SUM(ENERO!AK68))","v":0}]
[null,null,null,null,null,null,null,null,null,null,null,null,null,"","",null,{"$f":"(SUM(ENERO!Q69))","v":0},{"$f":"(SUM(ENERO!R69))","v":0},{"$f":"(SUM(ENERO!S69))","v":0},{"$f":"(SUM(ENERO!T69))","v":0},{"$f":"(SUM(ENERO!U69))","v":0},{"$f":"(SUM(ENERO!V69))","v":0},{"$f":"(SUM(ENERO!W69))","v":0},{"$f":"(SUM(ENERO!X69))","v":0},{"$f":"(SUM(ENERO!Y69))","v":0},{"$f":"(SUM(ENERO!Z69))","v":0},{"$f":"(SUM(ENERO!AA69))","v":0},{"$f":"(SUM(ENERO!AB69))","v":0},null,null,null,null,null,null,null,{"$f":"(SUM(ENERO!AJ69))","v":0},{"$f":"(SUM(ENERO!AK69))","v":0}]
[null,null,null,null,null,null,null,null,null,null,null,null,null,"","",null,{"$f":"(SUM(ENERO!Q70))","v":0},{"$f":"(SUM(ENERO!R70))","v":0},{"$f":"(SUM(ENERO!S70))","v":0},{"$f":"(SUM(ENERO!T70))","v":0},{"$f":"(SUM(ENERO!U70))","v":0},{"$f":"(SUM(ENERO!V70))","v":0},{"$f":"(SUM(ENERO!W70))","v":0},{"$f":"(SUM(ENERO!X70))","v":0},{"$f":"(SUM(ENERO!Y70))","v":0},{"$f":"(SUM(ENERO!Z70))","v":0},{"$f":"(SUM(ENERO!AA70))","v":0},{"$f":"(SUM(ENERO!AB70))","v":0},null,null,{"$f":"IFERROR(AA68*100/(W68+AA68),0)","v":0},null,null,null,null,{"$f":"(SUM(ENERO!AJ70))","v":0},{"$f":"(SUM(ENERO!AK70))","v":0}]
[null,null,null,null,null,null,null,null,null,null,null,null,null,"","",null,{"$f":"(SUM(ENERO!Q71))","v":0},{"$f":"(SUM(ENERO!R71))","v":0},{"$f":"(SUM(ENERO!S71))","v":0},{"$f":"(SUM(ENERO!T71))","v":0},{"$f":"(SUM(ENERO!U71))","v":0},{"$f":"(SUM(ENERO!V71))","v":0},{"$f":"(SUM(ENERO!W71))","v":0},{"$f":"(SUM(ENERO!X71))","v":0},{"$f":"(SUM(ENERO!Y71))","v":0},{"$f":"(SUM(ENERO!Z71))","v":0},{"$f":"(SUM(ENERO!AA71))","v":0},{"$f":"(SUM(ENERO!AB71))","v":0},null,null,null,null,null,null,null,{"$f":"(SUM(ENERO!AJ71))","v":0},{"$f":"(SUM(ENERO!AK71))","v":0}]
[null,null,null,null,null,null,null,null,null,null,null,null,null,"","",null,{"$f":"(SUM(ENERO!Q72))","v":0},{"$f":"(SUM(ENERO!R72))","v":0},{"$f":"(SUM(ENERO!S72))","v":0},{"$f":"(SUM(ENERO!T72))","v":0},{"$f":"(SUM(ENERO!U72))","v":0},{"$f":"(SUM(ENERO!V72))","v":0},{"$f":"(SUM(ENERO!W72))","v":0},{"$f":"(SUM(ENERO!X72))","v":0},{"$f":"(SUM(ENERO!Y72))","v":0},{"$f":"(SUM(ENERO!Z72))","v":0},{"$f":"(SUM(ENERO!AA72))","v":0},{"$f":"(SUM(ENERO!AB72))","v":0},null,null,null,null,null,null,null,{"$f":"(SUM(ENERO!AJ72))","v":0},{"$f":"(SUM(ENERO!AK72))","v":0}]
[null,null,null,null,null,null,null,null,null,{"$f":"J68=K73","v":true},{"$f":"SUM(K68:K72)","v":0},null,null,"","",null,null,null,null,null,null,null,null,null,null,null,null,null,null,null,null,null,null,null,null,{"$f":"(SUM(ENERO!AJ73))","v":0},{"$f":"(SUM(ENERO!AK73))","v":0}]
["Rotavirus",null,{"$f":"(SUM(ENERO!C74:C78))","v":0},{"$f":"(SUM(ENERO!D74:D78))","v":0},{"$f":"(SUM(ENERO!E74:E78))","v":0},{"$f":"(SUM(ENERO!F74:F78))","v":0},{"$f":"(SUM(ENERO!G74:G78))","v":0},{"$f":"(SUM(ENERO!H74:H78))","v":0},{"$f":"AC74","v":0},{"$f":"+(C74+D74+F74+E74)-(G74+H74+I74)+SUM(AJ74:AJ78)","v":0},null,null,null,"","",null,{"$f":"(SUM(ENERO!Q74:Q78))","v":0},{"$f":"(SUM(ENERO!R74:R78))","v":0},{"$f":"(SUM(ENERO!S74:S78))","v":0},{"$f":"(SUM(ENERO!T74:T78))","v":0},{"$f":"(SUM(ENERO!U74:U78))","v":0},{"$f":"(SUM(ENERO!V74:V78))","v":0},{"$f":"(SUM(ENERO!W74:W78))","v":0},{"$f":"(SUM(ENERO!X74:X78))","v":0},{"$f":"(SUM(ENERO!Y74:Y78))","v":0},{"$f":"(SUM(ENERO!Z74:Z78))","v":0},{"$f":"(SUM(ENERO!AA74:AA78))","v":0},{"$f":"(SUM(ENERO!AB74:AB78))","v":0},{"$f":"SUM(Q74:AB78)","v":0},null,null,null,null,{"$f":"+IF(AC74<>I74,1,0)","v":0},null,{"$f":"(SUM(ENERO!AJ74))","v":0},{"$f":"(SUM(ENERO!AK74))","v":0}]
[null,null,null,null,null,null,null,null,null,null,null,null,null,"","",null,{"$f":"(SUM(ENERO!Q75))","v":0},{"$f":"(SUM(ENERO!R75))","v":0},{"$f":"(SUM(ENERO!S75))","v":0},{"$f":"(SUM(ENERO!T75))","v":0},{"$f":"(SUM(ENERO!U75))","v":0},{"$f":"(SUM(ENERO!V75))","v":0},{"$f":"(SUM(ENERO!W75))","v":0},{"$f":"(SUM(ENERO!X75))","v":0},{"$f":"(SUM(ENERO!Y75))","v":0},{"$f":"(SUM(ENERO!Z75))","v":0},{"$f":"(SUM(ENERO!AA75))","v":0},{"$f":"(SUM(ENERO!AB75))","v":0},null,null,{"$f":"IFERROR(AA73*100/(W73+AA73),0)","v":0},null,null,null,null,{"$f":"(SUM(ENERO!AJ75))","v":0},{"$f":"(SUM(ENERO!AK75))","v":0}]
[null,null,null,null,null,null,null,null,null,null,null,null,null,"","",null,{"$f":"(SUM(ENERO!Q76))","v":0},{"$f":"(SUM(ENERO!R76))","v":0},{"$f":"(SUM(ENERO!S76))","v":0},{"$f":"(SUM(ENERO!T76))","v":0},{"$f":"(SUM(ENERO!U76))","v":0},{"$f":"(SUM(ENERO!V76))","v":0},{"$f":"(SUM(ENERO!W76))","v":0},{"$f":"(SUM(ENERO!X76))","v":0},{"$f":"(SUM(ENERO!Y76))","v":0},{"$f":"(SUM(ENERO!Z76))","v":0},{"$f":"(SUM(ENERO!AA76))","v":0},{"$f":"(SUM(ENERO!AB76))","v":0},null,null,null,null,null,null,null,{"$f":"(SUM(ENERO!AJ76))","v":0},{"$f":"(SUM(ENERO!AK76))","v":0}]
[null,null,null,null,null,null,null,null,null,null,null,null,null,"","",null,{"$f":"(SUM(ENERO!Q77))","v":0},{"$f":"(SUM(ENERO!R77))","v":0},{"$f":"(SUM(ENERO!S77))","v":0},{"$f":"(SUM(ENERO!T77))","v":0},{"$f":"(SUM(ENERO!U77))","v":0},{"$f":"(SUM(ENERO!V77))","v":0},{"$f":"(SUM(ENERO!W77))","v":0},{"$f":"(SUM(ENERO!X77))","v":0},{"$f":"(SUM(ENERO!Y77))","v":0},{"$f":"(SUM(ENERO!Z77))","v":0},{"$f":"(SUM(ENERO!AA77))","v":0},{"$f":"(SUM(ENERO!AB77))","v":0},null,null,null,null,null,null,null,{"$f":"(SUM(ENERO!AJ77))","v":0},{"$f":"(SUM(ENERO!AK77))","v":0}]
[null,null,null,null,null,null,null,null,null,null,null,null,null,"","",null,{"$f":"(SUM(ENERO!Q78))","v":0},{"$f":"(SUM(ENERO!R78))","v":0},{"$f":"(SUM(ENERO!S78))","v":0},{"$f":"(SUM(ENERO!T78))","v":0},{"$f":"(SUM(ENERO!U78))","v":0},{"$f":"(SUM(ENERO!V78))","v":0},{"$f":"(SUM(ENERO!W78))","v":0},{"$f":"(SUM(ENERO!X78))","v":0},{"$f":"(SUM(ENERO!Y78))","v":0},{"$f":"(SUM(ENERO!Z78))","v":0},{"$f":"(SUM(ENERO!AA78))","v":0},{"$f":"(SUM(ENERO!AB78))","v":0},null,null,null,null,null,null,null,{"$f":"(SUM(ENERO!AJ78))","v":0},{"$f":"(SUM(ENERO!AK78))","v":0}]
[null,null,null,null,null,null,null,null,null,{"$f":"J74=K79","v":true},{"$f":"SUM(K74:K78)","v":0},null,null,{"$f":"IFERROR(IF(DATEDIF(TODAY(),M79,\"M\")<=6,\"ROJO\",IF(DATEDIF(TODAY(),M79,\"M\")>=12,\"VERDE\",IF(AND(DATEDIF(TODAY(),M79,\"M\")>6,DATEDIF(TODAY(),M79,\"M\")<=11),\"AMARILLO\",IF(M79<TODAY(),\"VENCIDO\",0)))),O79)","v":""},"",null,null,null,null,null,null,null,null,null,null,null,null,null,null,null,null,null,null,null,null,{"$f":"(SUM(ENERO!AJ79))","v":0},{"$f":"(SUM(ENERO!AK79))","v":0}]
["Neumococo_Decavalente",null,{"$f":"(SUM(ENERO!C80:C84))","v":0},{"$f":"(SUM(ENERO!D80:D84))","v":0},{"$f":"(SUM(ENERO!E80:E84))","v":0},{"$f":"(SUM(ENERO!F80:F84))","v":0},{"$f":"(SUM(ENERO!G80:G84))","v":0},{"$f":"(SUM(ENERO!H80:H84))","v":0},{"$f":"AC80","v":0},{"$f":"+(C80+D80+F80+E80)-(G80+H80+I80)+SUM(AJ80:AJ84)","v":0},null,null,null,"","",null,{"$f":"(SUM(ENERO!Q80:Q84))","v":0},{"$f":"(SUM(ENERO!R80:R84))","v":0},{"$f":"(SUM(ENERO!S80:S84))","v":0},{"$f":"(SUM(ENERO!T80:T84))","v":0},{"$f":"(SUM(ENERO!U80:U84))","v":0},{"$f":"(SUM(ENERO!V80:V84))","v":0},{"$f":"(SUM(ENERO!W80:W84))","v":0},{"$f":"(SUM(ENERO!X80:X84))","v":0},{"$f":"(SUM(ENERO!Y80:Y84))","v":0},{"$f":"(SUM(ENERO!Z80:Z84))","v":0},{"$f":"(SUM(ENERO!AA80:AA84))","v":0},{"$f":"(SUM(ENERO!AB80:AB84))","v":0},{"$f":"SUM(Q80:AB84)","v":0},null,null,null,null,{"$f":"+IF(AC80<>I80,1,0)","v":0},null,{"$f":"(SUM(ENERO!AJ80))","v":0},{"$f":"(SUM(ENERO!AK80))","v":0}]
[null,null,null,null,null,null,null,null,null,null,null,null,null,"","",null,{"$f":"(SUM(ENERO!Q81))","v":0},{"$f":"(SUM(ENERO!R81))","v":0},{"$f":"(SUM(ENERO!S81))","v":0},{"$f":"(SUM(ENERO!T81))","v":0},{"$f":"(SUM(ENERO!U81))","v":0},{"$f":"(SUM(ENERO!V81))","v":0},{"$f":"(SUM(ENERO!W81))","v":0},{"$f":"(SUM(ENERO!X81))","v":0},{"$f":"(SUM(ENERO!Y81))","v":0},{"$f":"(SUM(ENERO!Z81))","v":0},{"$f":"(SUM(ENERO!AA81))","v":0},{"$f":"(SUM(ENERO!AB81))","v":0},null,null,{"$f":"IFERROR(AA79*100/(W79+AA79),0)","v":0},null,null,null,null,{"$f":"(SUM(ENERO!AJ81))","v":0},{"$f":"(SUM(ENERO!AK81))","v":0}]
[null,null,null,null,null,null,null,null,null,null,null,null,null,"","",null,{"$f":"(SUM(ENERO!Q82))","v":0},{"$f":"(SUM(ENERO!R82))","v":0},{"$f":"(SUM(ENERO!S82))","v":0},{"$f":"(SUM(ENERO!T82))","v":0},{"$f":"(SUM(ENERO!U82))","v":0},{"$f":"(SUM(ENERO!V82))","v":0},{"$f":"(SUM(ENERO!W82))","v":0},{"$f":"(SUM(ENERO!X82))","v":0},{"$f":"(SUM(ENERO!Y82))","v":0},{"$f":"(SUM(ENERO!Z82))","v":0},{"$f":"(SUM(ENERO!AA82))","v":0},{"$f":"(SUM(ENERO!AB82))","v":0},null,null,null,null,null,null,null,{"$f":"(SUM(ENERO!AJ82))","v":0},{"$f":"(SUM(ENERO!AK82))","v":0}]
[null,null,null,null,null,null,null,null,null,null,null,null,null,"","",null,{"$f":"(SUM(ENERO!Q83))","v":0},{"$f":"(SUM(ENERO!R83))","v":0},{"$f":"(SUM(ENERO!S83))","v":0},{"$f":"(SUM(ENERO!T83))","v":0},{"$f":"(SUM(ENERO!U83))","v":0},{"$f":"(SUM(ENERO!V83))","v":0},{"$f":"(SUM(ENERO!W83))","v":0},{"$f":"(SUM(ENERO!X83))","v":0},{"$f":"(SUM(ENERO!Y83))","v":0},{"$f":"(SUM(ENERO!Z83))","v":0},{"$f":"(SUM(ENERO!AA83))","v":0},{"$f":"(SUM(ENERO!AB83))","v":0},null,null,null,null,null,null,null,{"$f":"(SUM(ENERO!AJ83))","v":0},{"$f":"(SUM(ENERO!AK83))","v":0}]
[null,null,null,null,null,null,null,null,null,null,null,null,null,"","",null,{"$f":"(SUM(ENERO!Q84))","v":0},{"$f":"(SUM(ENERO!R84))","v":0},{"$f":"(SUM(ENERO!S84))","v":0},{"$f":"(SUM(ENERO!T84))","v":0},{"$f":"(SUM(ENERO!U84))","v":0},{"$f":"(SUM(ENERO!V84))","v":0},{"$f":"(SUM(ENERO!W84))","v":0},{"$f":"(SUM(ENERO!X84))","v":0},{"$f":"(SUM(ENERO!Y84))","v":0},{"$f":"(SUM(ENERO!Z84))","v":0},{"$f":"(SUM(ENERO!AA84))","v":0},{"$f":"(SUM(ENERO!AB84))","v":0},null,null,null,null,null,null,null,{"$f":"(SUM(ENERO!AJ84))","v":0},{"$f":"(SUM(ENERO!AK84))","v":0}]
[null,null,null,null,null,null,null,null,null,{"$f":"J80=K85","v":true},{"$f":"SUM(K80:K84)","v":0},null,null,"",{"$f":"IF(M85=0,\"\",\"VENCIDO\")","v":""},null,null,null,null,null,null,null,null,null,null,null,null,null,null,null,null,null,null,null,null,{"$f":"(SUM(ENERO!AJ85))","v":0},{"$f":"(SUM(ENERO!AK85))","v":0}]
["Neumococo_Trecevalente",null,{"$f":"(SUM(ENERO!C86:C90))","v":0},{"$f":"(SUM(ENERO!D86:D90))","v":0},{"$f":"(SUM(ENERO!E86:E90))","v":0},{"$f":"(SUM(ENERO!F86:F90))","v":0},{"$f":"(SUM(ENERO!G86:G90))","v":0},{"$f":"(SUM(ENERO!H86:H90))","v":0},{"$f":"AC86","v":0},{"$f":"+(C86+D86+F86+E86)-(G86+H86+I86)+SUM(AJ86:AJ90)","v":0},null,null,null,"","",null,{"$f":"(SUM(ENERO!Q86:Q90))","v":0},{"$f":"(SUM(ENERO!R86:R90))","v":0},{"$f":"(SUM(ENERO!S86:S90))","v":0},{"$f":"(SUM(ENERO!T86:T90))","v":0},{"$f":"(SUM(ENERO!U86:U90))","v":0},{"$f":"(SUM(ENERO!V86:V90))","v":0},{"$f":"(SUM(ENERO!W86:W90))","v":0},{"$f":"(SUM(ENERO!X86:X90))","v":0},{"$f":"(SUM(ENERO!Y86:Y90))","v":0},{"$f":"(SUM(ENERO!Z86:Z90))","v":0},{"$f":"(SUM(ENERO!AA86:AA90))","v":0},{"$f":"(SUM(ENERO!AB86:AB90))","v":0},{"$f":"SUM(Q86:AB90)","v":0},null,{"$f":"IFERROR(AA84*100/(W84+AA84),0)","v":0},null,null,{"$f":"+IF(AC86<>I86,1,0)","v":0},null,{"$f":"(SUM(ENERO!AJ86))","v":0},{"$f":"(SUM(ENERO!AK86))","v":0}]
[null,null,null,null,null,null,null,null,null,null,null,null,null,"","",null,{"$f":"(SUM(ENERO!Q87))","v":0},{"$f":"(SUM(ENERO!R87))","v":0},{"$f":"(SUM(ENERO!S87))","v":0},{"$f":"(SUM(ENERO!T87))","v":0},{"$f":"(SUM(ENERO!U87))","v":0},{"$f":"(SUM(ENERO!V87))","v":0},{"$f":"(SUM(ENERO!W87))","v":0},{"$f":"(SUM(ENERO!X87))","v":0},{"$f":"(SUM(ENERO!Y87))","v":0},{"$f":"(SUM(ENERO!Z87))","v":0},{"$f":"(SUM(ENERO!AA87))","v":0},{"$f":"(SUM(ENERO!AB87))","v":0},null,null,null,null,null,null,null,{"$f":"(SUM(ENERO!AJ87))","v":0},{"$f":"(SUM(ENERO!AK87))","v":0}]
[null,null,null,null,null,null,null,null,null,null,null,null,null,"","",null,{"$f":"(SUM(ENERO!Q88))","v":0},{"$f":"(SUM(ENERO!R88))","v":0},{"$f":"(SUM(ENERO!S88))","v":0},{"$f":"(SUM(ENERO!T88))","v":0},{"$f":"(SUM(ENERO!U88))","v":0},{"$f":"(SUM(ENERO!V88))","v":0},{"$f":"(SUM(ENERO!W88))","v":0},{"$f":"(SUM(ENERO!X88))","v":0},{"$f":"(SUM(ENERO!Y88))","v":0},{"$f":"(SUM(ENERO!Z88))","v":0},{"$f":"(SUM(ENERO!AA88))","v":0},{"$f":"(SUM(ENERO!AB88))","v":0},null,null,null,null,null,null,null,{"$f":"(SUM(ENERO!AJ88))","v":0},{"$f":"(SUM(ENERO!AK88))","v":0}]
[null,null,null,null,null,null,null,null,null,null,null,null,null,"","",null,{"$f":"(SUM(ENERO!Q89))","v":0},{"$f":"(SUM(ENERO!R89))","v":0},{"$f":"(SUM(ENERO!S89))","v":0},{"$f":"(SUM(ENERO!T89))","v":0},{"$f":"(SUM(ENERO!U89))","v":0},{"$f":"(SUM(ENERO!V89))","v":0},{"$f":"(SUM(ENERO!W89))","v":0},{"$f":"(SUM(ENERO!X89))","v":0},{"$f":"(SUM(ENERO!Y89))","v":0},{"$f":"(SUM(ENERO!Z89))","v":0},{"$f":"(SUM(ENERO!AA89))","v":0},{"$f":"(SUM(ENERO!AB89))","v":0},null,null,null,null,null,null,null,{"$f":"(SUM(ENERO!AJ89))","v":0},{"$f":"(SUM(ENERO!AK89))","v":0}]
[null,null,null,null,null,null,null,null,null,null,null,null,null,"","",null,{"$f":"(SUM(ENERO!Q90))","v":0},{"$f":"(SUM(ENERO!R90))","v":0},{"$f":"(SUM(ENERO!S90))","v":0},{"$f":"(SUM(ENERO!T90))","v":0},{"$f":"(SUM(ENERO!U90))","v":0},{"$f":"(SUM(ENERO!V90))","v":0},{"$f":"(SUM(ENERO!W90))","v":0},{"$f":"(SUM(ENERO!X90))","v":0},{"$f":"(SUM(ENERO!Y90))","v":0},{"$f":"(SUM(ENERO!Z90))","v":0},{"$f":"(SUM(ENERO!AA90))","v":0},{"$f":"(SUM(ENERO!AB90))","v":0},null,null,null,null,null,null,null,{"$f":"(SUM(ENERO!AJ90))","v":0},{"$f":"(SUM(ENERO!AK90))","v":0}]
[null,null,null,null,null,null,null,null,null,{"$f":"J86=K91","v":true},{"$f":"SUM(K86:K90)","v":0},null,null,"","",null,null,null,null,null,null,null,null,null,null,null,null,null,null,null,null,null,null,null,null,{"$f":"(SUM(ENERO!AJ91))","v":0},{"$f":"(SUM(ENERO!AK91))","v":0}]
["Triple Viral (vacuna)",null,{"$f":"(SUM(ENERO!C92:C96))","v":0},{"$f":"(SUM(ENERO!D92:D96))","v":0},{"$f":"(SUM(ENERO!E92:E96))","v":0},{"$f":"(SUM(ENERO!F92:F96))","v":0},{"$f":"(SUM(ENERO!G92:G96))","v":0},{"$f":"(SUM(ENERO!H92:H96))","v":0},{"$f":"AC92","v":0},{"$f":"+(C92+D92+F92+E92)-(G92+H92+I92)+SUM(AJ92:AJ96)","v":0},null,null,null,"","",null,{"$f":"(SUM(ENERO!Q92:Q96))","v":0},{"$f":"(SUM(ENERO!R92:R96))","v":0},{"$f":"(SUM(ENERO!S92:S96))","v":0},{"$f":"(SUM(ENERO!T92:T96))","v":0},{"$f":"(SUM(ENERO!U92:U96))","v":0},{"$f":"(SUM(ENERO!V92:V96))","v":0},{"$f":"(SUM(ENERO!W92:W96))","v":0},{"$f":"(SUM(ENERO!X92:X96))","v":0},{"$f":"(SUM(ENERO!Y92:Y96))","v":0},{"$f":"(SUM(ENERO!Z92:Z96))","v":0},{"$f":"(SUM(ENERO!AA92:AA96))","v":0},{"$f":"(SUM(ENERO!AB92:AB96))","v":0},{"$f":"SUM(Q92:AB96)","v":0},null,{"$f":"IFERROR(AA90*100/(W90+AA90),0)","v":0},null,null,{"$f":"+IF(AC92<>I92,1,0)","v":0},null,{"$f":"(SUM(ENERO!AJ92))","v":0},{"$f":"(SUM(ENERO!AK92))","v":0}]
[null,null,null,null,null,null,null,null,null,null,null,null,null,"","",null,{"$f":"(SUM(ENERO!Q93))","v":0},{"$f":"(SUM(ENERO!R93))","v":0},{"$f":"(SUM(ENERO!S93))","v":0},{"$f":"(SUM(ENERO!T93))","v":0},{"$f":"(SUM(ENERO!U93))","v":0},{"$f":"(SUM(ENERO!V93))","v":0},{"$f":"(SUM(ENERO!W93))","v":0},{"$f":"(SUM(ENERO!X93))","v":0},{"$f":"(SUM(ENERO!Y93))","v":0},{"$f":"(SUM(ENERO!Z93))","v":0},{"$f":"(SUM(ENERO!AA93))","v":0},{"$f":"(SUM(ENERO!AB93))","v":0},null,null,null,null,null,null,null,{"$f":"(SUM(ENERO!AJ93))","v":0},{"$f":"(SUM(ENERO!AK93))","v":0}]
[null,null,null,null,null,null,null,null,null,null,null,null,null,"","",null,{"$f":"(SUM(ENERO!Q94))","v":0},{"$f":"(SUM(ENERO!R94))","v":0},{"$f":"(SUM(ENERO!S94))","v":0},{"$f":"(SUM(ENERO!T94))","v":0},{"$f":"(SUM(ENERO!U94))","v":0},{"$f":"(SUM(ENERO!V94))","v":0},{"$f":"(SUM(ENERO!W94))","v":0},{"$f":"(SUM(ENERO!X94))","v":0},{"$f":"(SUM(ENERO!Y94))","v":0},{"$f":"(SUM(ENERO!Z94))","v":0},{"$f":"(SUM(ENERO!AA94))","v":0},{"$f":"(SUM(ENERO!AB94))","v":0},null,null,null,null,null,null,null,{"$f":"(SUM(ENERO!AJ94))","v":0},{"$f":"(SUM(ENERO!AK94))","v":0}]
[null,null,null,null,null,null,null,null,null,null,null,null,null,"","",null,{"$f":"(SUM(ENERO!Q95))","v":0},{"$f":"(SUM(ENERO!R95))","v":0},{"$f":"(SUM(ENERO!S95))","v":0},{"$f":"(SUM(ENERO!T95))","v":0},{"$f":"(SUM(ENERO!U95))","v":0},{"$f":"(SUM(ENERO!V95))","v":0},{"$f":"(SUM(ENERO!W95))","v":0},{"$f":"(SUM(ENERO!X95))","v":0},{"$f":"(SUM(ENERO!Y95))","v":0},{"$f":"(SUM(ENERO!Z95))","v":0},{"$f":"(SUM(ENERO!AA95))","v":0},{"$f":"(SUM(ENERO!AB95))","v":0},null,null,null,null,null,null,null,{"$f":"(SUM(ENERO!AJ95))","v":0},{"$f":"(SUM(ENERO!AK95))","v":0}]
[null,null,null,null,null,null,null,null,null,null,null,null,null,"","",null,{"$f":"(SUM(ENERO!Q96))","v":0},{"$f":"(SUM(ENERO!R96))","v":0},{"$f":"(SUM(ENERO!S96))","v":0},{"$f":"(SUM(ENERO!T96))","v":0},{"$f":"(SUM(ENERO!U96))","v":0},{"$f":"(SUM(ENERO!V96))","v":0},{"$f":"(SUM(ENERO!W96))","v":0},{"$f":"(SUM(ENERO!X96))","v":0},{"$f":"(SUM(ENERO!Y96))","v":0},{"$f":"(SUM(ENERO!Z96))","v":0},{"$f":"(SUM(ENERO!AA96))","v":0},{"$f":"(SUM(ENERO!AB96))","v":0},null,null,null,null,null,null,null,{"$f":"(SUM(ENERO!AJ96))","v":0},{"$f":"(SUM(ENERO!AK96))","v":0}]
[null,null,null,null,null,null,null,null,null,{"$f":"J92=K97","v":true},{"$f":"SUM(K92:K96)","v":0},null,null,"","",null,null,null,null,null,null,null,null,null,null,null,null,null,null,null,{"$f":"IFERROR(AA95*100/(W95+AA95),0)","v":0},null,null,null,null,{"$f":"(SUM(ENERO!AJ97))","v":0},{"$f":"(SUM(ENERO!AK97))","v":0}]
["Sarampion Rubéola (vacuna)",null,{"$f":"(SUM(ENERO!C98:C102))","v":0},{"$f":"(SUM(ENERO!D98:D102))","v":0},{"$f":"(SUM(ENERO!E98:E102))","v":0},{"$f":"(SUM(ENERO!F98:F102))","v":0},{"$f":"(SUM(ENERO!G98:G102))","v":0},{"$f":"(SUM(ENERO!H98:H102))","v":0},{"$f":"AC98","v":0},{"$f":"+(C98+D98+F98+E98)-(G98+H98+I98)+SUM(AJ98:AJ102)","v":0},null,null,null,"","",null,{"$f":"(SUM(ENERO!Q98:Q102))","v":0},{"$f":"(SUM(ENERO!R98:R102))","v":0},{"$f":"(SUM(ENERO!S98:S102))","v":0},{"$f":"(SUM(ENERO!T98:T102))","v":0},{"$f":"(SUM(ENERO!U98:U102))","v":0},{"$f":"(SUM(ENERO!V98:V102))","v":0},{"$f":"(SUM(ENERO!W98:W102))","v":0},{"$f":"(SUM(ENERO!X98:X102))","v":0},{"$f":"(SUM(ENERO!Y98:Y102))","v":0},{"$f":"(SUM(ENERO!Z98:Z102))","v":0},{"$f":"(SUM(ENERO!AA98:AA102))","v":0},{"$f":"(SUM(ENERO!AB98:AB102))","v":0},{"$f":"SUM(Q98:AB102)","v":0},null,null,null,null,{"$f":"+IF(AC98<>I98,1,0)","v":0},null,{"$f":"(SUM(ENERO!AJ98))","v":0},{"$f":"(SUM(ENERO!AK98))","v":0}]
[null,null,null,null,null,null,null,null,null,null,null,null,null,"","",null,{"$f":"(SUM(ENERO!Q99))","v":0},{"$f":"(SUM(ENERO!R99))","v":0},{"$f":"(SUM(ENERO!S99))","v":0},{"$f":"(SUM(ENERO!T99))","v":0},{"$f":"(SUM(ENERO!U99))","v":0},{"$f":"(SUM(ENERO!V99))","v":0},{"$f":"(SUM(ENERO!W99))","v":0},{"$f":"(SUM(ENERO!X99))","v":0},{"$f":"(SUM(ENERO!Y99))","v":0},{"$f":"(SUM(ENERO!Z99))","v":0},{"$f":"(SUM(ENERO!AA99))","v":0},{"$f":"(SUM(ENERO!AB99))","v":0},null,null,null,null,null,null,null,{"$f":"(SUM(ENERO!AJ99))","v":0},{"$f":"(SUM(ENERO!AK99))","v":0}]
[null,null,null,null,null,null,null,null,null,null,null,null,null,"","",null,{"$f":"(SUM(ENERO!Q100))","v":0},{"$f":"(SUM(ENERO!R100))","v":0},{"$f":"(SUM(ENERO!S100))","v":0},{"$f":"(SUM(ENERO!T100))","v":0},{"$f":"(SUM(ENERO!U100))","v":0},{"$f":"(SUM(ENERO!V100))","v":0},{"$f":"(SUM(ENERO!W100))","v":0},{"$f":"(SUM(ENERO!X100))","v":0},{"$f":"(SUM(ENERO!Y100))","v":0},{"$f":"(SUM(ENERO!Z100))","v":0},{"$f":"(SUM(ENERO!AA100))","v":0},{"$f":"(SUM(ENERO!AB100))","v":0},null,null,null,null,null,null,null,{"$f":"(SUM(ENERO!AJ100))","v":0},{"$f":"(SUM(ENERO!AK100))","v":0}]
[null,null,null,null,null,null,null,null,null,null,null,null,null,"","",null,{"$f":"(SUM(ENERO!Q101))","v":0},{"$f":"(SUM(ENERO!R101))","v":0},{"$f":"(SUM(ENERO!S101))","v":0},{"$f":"(SUM(ENERO!T101))","v":0},{"$f":"(SUM(ENERO!U101))","v":0},{"$f":"(SUM(ENERO!V101))","v":0},{"$f":"(SUM(ENERO!W101))","v":0},{"$f":"(SUM(ENERO!X101))","v":0},{"$f":"(SUM(ENERO!Y101))","v":0},{"$f":"(SUM(ENERO!Z101))","v":0},{"$f":"(SUM(ENERO!AA101))","v":0},{"$f":"(SUM(ENERO!AB101))","v":0},null,null,null,null,null,null,null,{"$f":"(SUM(ENERO!AJ101))","v":0},{"$f":"(SUM(ENERO!AK101))","v":0}]
[null,null,null,null,null,null,null,null,null,null,null,null,null,"","",null,{"$f":"(SUM(ENERO!Q102))","v":0},{"$f":"(SUM(ENERO!R102))","v":0},{"$f":"(SUM(ENERO!S102))","v":0},{"$f":"(SUM(ENERO!T102))","v":0},{"$f":"(SUM(ENERO!U102))","v":0},{"$f":"(SUM(ENERO!V102))","v":0},{"$f":"(SUM(ENERO!W102))","v":0},{"$f":"(SUM(ENERO!X102))","v":0},{"$f":"(SUM(ENERO!Y102))","v":0},{"$f":"(SUM(ENERO!Z102))","v":0},{"$f":"(SUM(ENERO!AA102))","v":0},{"$f":"(SUM(ENERO!AB102))","v":0},null,null,null,null,null,null,null,{"$f":"(SUM(ENERO!AJ102))","v":0},{"$f":"(SUM(ENERO!AK102))","v":0}]
[null,null,null,null,null,null,null,null,null,{"$f":"J98=K103","v":true},{"$f":"SUM(K98:K102)","v":0},null,null,"","",null,null,null,null,null,null,null,null,null,null,null,null,null,null,null,{"$f":"IFERROR(AA101*100/(W101+AA101),0)","v":0},null,null,null,null,{"$f":"(SUM(ENERO!AJ103))","v":0},{"$f":"(SUM(ENERO!AK103))","v":0}]
["Fiebre amarilla (vacuna)",null,{"$f":"(SUM(ENERO!C104:C108))","v":0},{"$f":"(SUM(ENERO!D104:D108))","v":0},{"$f":"(SUM(ENERO!E104:E108))","v":0},{"$f":"(SUM(ENERO!F104:F108))","v":0},{"$f":"(SUM(ENERO!G104:G108))","v":0},{"$f":"(SUM(ENERO!H104:H108))","v":0},{"$f":"AC104","v":0},{"$f":"+(C104+D104+F104+E104)-(G104+H104+I104)+SUM(AJ104:AJ108)","v":0},null,null,null,"","",null,{"$f":"(SUM(ENERO!Q104:Q108))","v":0},{"$f":"(SUM(ENERO!R104:R108))","v":0},{"$f":"(SUM(ENERO!S104:S108))","v":0},{"$f":"(SUM(ENERO!T104:T108))","v":0},{"$f":"(SUM(ENERO!U104:U108))","v":0},{"$f":"(SUM(ENERO!V104:V108))","v":0},{"$f":"(SUM(ENERO!W104:W108))","v":0},{"$f":"(SUM(ENERO!X104:X108))","v":0},{"$f":"(SUM(ENERO!Y104:Y108))","v":0},{"$f":"(SUM(ENERO!Z104:Z108))","v":0},{"$f":"(SUM(ENERO!AA104:AA108))","v":0},{"$f":"(SUM(ENERO!AB104:AB108))","v":0},{"$f":"SUM(Q104:AB108)","v":0},null,null,null,null,{"$f":"+IF(AC104<>I104,1,0)","v":0},null,{"$f":"(SUM(ENERO!AJ104))","v":0},{"$f":"(SUM(ENERO!AK104))","v":0}]
[null,null,null,null,null,null,null,null,null,null,null,null,null,"","",null,{"$f":"(SUM(ENERO!Q105))","v":0},{"$f":"(SUM(ENERO!R105))","v":0},{"$f":"(SUM(ENERO!S105))","v":0},{"$f":"(SUM(ENERO!T105))","v":0},{"$f":"(SUM(ENERO!U105))","v":0},{"$f":"(SUM(ENERO!V105))","v":0},{"$f":"(SUM(ENERO!W105))","v":0},{"$f":"(SUM(ENERO!X105))","v":0},{"$f":"(SUM(ENERO!Y105))","v":0},{"$f":"(SUM(ENERO!Z105))","v":0},{"$f":"(SUM(ENERO!AA105))","v":0},{"$f":"(SUM(ENERO!AB105))","v":0},null,null,null,null,null,null,null,{"$f":"(SUM(ENERO!AJ105))","v":0},{"$f":"(SUM(ENERO!AK105))","v":0}]
[null,null,null,null,null,null,null,null,null,null,null,null,null,"","",null,{"$f":"(SUM(ENERO!Q106))","v":0},{"$f":"(SUM(ENERO!R106))","v":0},{"$f":"(SUM(ENERO!S106))","v":0},{"$f":"(SUM(ENERO!T106))","v":0},{"$f":"(SUM(ENERO!U106))","v":0},{"$f":"(SUM(ENERO!V106))","v":0},{"$f":"(SUM(ENERO!W106))","v":0},{"$f":"(SUM(ENERO!X106))","v":0},{"$f":"(SUM(ENERO!Y106))","v":0},{"$f":"(SUM(ENERO!Z106))","v":0},{"$f":"(SUM(ENERO!AA106))","v":0},{"$f":"(SUM(ENERO!AB106))","v":0},null,null,null,null,null,null,null,{"$f":"(SUM(ENERO!AJ106))","v":0},{"$f":"(SUM(ENERO!AK106))","v":0}]
[null,null,null,null,null,null,null,null,null,null,null,null,null,"","",null,{"$f":"(SUM(ENERO!Q107))","v":0},{"$f":"(SUM(ENERO!R107))","v":0},{"$f":"(SUM(ENERO!S107))","v":0},{"$f":"(SUM(ENERO!T107))","v":0},{"$f":"(SUM(ENERO!U107))","v":0},{"$f":"(SUM(ENERO!V107))","v":0},{"$f":"(SUM(ENERO!W107))","v":0},{"$f":"(SUM(ENERO!X107))","v":0},{"$f":"(SUM(ENERO!Y107))","v":0},{"$f":"(SUM(ENERO!Z107))","v":0},{"$f":"(SUM(ENERO!AA107))","v":0},{"$f":"(SUM(ENERO!AB107))","v":0},null,null,null,null,null,null,null,{"$f":"(SUM(ENERO!AJ107))","v":0},{"$f":"(SUM(ENERO!AK107))","v":0}]
[null,null,null,null,null,null,null,null,null,null,null,null,null,"","",null,{"$f":"(SUM(ENERO!Q108))","v":0},{"$f":"(SUM(ENERO!R108))","v":0},{"$f":"(SUM(ENERO!S108))","v":0},{"$f":"(SUM(ENERO!T108))","v":0},{"$f":"(SUM(ENERO!U108))","v":0},{"$f":"(SUM(ENERO!V108))","v":0},{"$f":"(SUM(ENERO!W108))","v":0},{"$f":"(SUM(ENERO!X108))","v":0},{"$f":"(SUM(ENERO!Y108))","v":0},{"$f":"(SUM(ENERO!Z108))","v":0},{"$f":"(SUM(ENERO!AA108))","v":0},{"$f":"(SUM(ENERO!AB108))","v":0},null,null,{"$f":"IFERROR(AA106*100/(W106+AA106),0)","v":0},null,null,null,null,{"$f":"(SUM(ENERO!AJ108))","v":0},{"$f":"(SUM(ENERO!AK108))","v":0}]
[null,null,null,null,null,null,null,null,null,{"$f":"J104=K109","v":true},{"$f":"SUM(K104:K108)","v":0},null,null,"","",null,null,null,null,null,null,null,null,null,null,null,null,null,null,null,null,null,null,null,null,{"$f":"(SUM(ENERO!AJ109))","v":0},{"$f":"(SUM(ENERO!AK109))","v":0}]
["Hepatitis A pediátrica ",null,{"$f":"(SUM(ENERO!C110:C114))","v":0},{"$f":"(SUM(ENERO!D110:D114))","v":0},{"$f":"(SUM(ENERO!E110:E114))","v":0},{"$f":"(SUM(ENERO!F110:F114))","v":0},{"$f":"(SUM(ENERO!G110:G114))","v":0},{"$f":"(SUM(ENERO!H110:H114))","v":0},{"$f":"AC110","v":0},{"$f":"+(C110+D110+F110+E110)-(G110+H110+I110)+SUM(AJ110:AJ114)","v":0},null,null,null,"","",null,{"$f":"(SUM(ENERO!Q110:Q114))","v":0},{"$f":"(SUM(ENERO!R110:R114))","v":0},{"$f":"(SUM(ENERO!S110:S114))","v":0},{"$f":"(SUM(ENERO!T110:T114))","v":0},{"$f":"(SUM(ENERO!U110:U114))","v":0},{"$f":"(SUM(ENERO!V110:V114))","v":0},{"$f":"(SUM(ENERO!W110:W114))","v":0},{"$f":"(SUM(ENERO!X110:X114))","v":0},{"$f":"(SUM(ENERO!Y110:Y114))","v":0},{"$f":"(SUM(ENERO!Z110:Z114))","v":0},{"$f":"(SUM(ENERO!AA110:AA114))","v":0},{"$f":"(SUM(ENERO!AB110:AB114))","v":0},{"$f":"SUM(Q110:AB114)","v":0},null,null,null,null,{"$f":"+IF(AC110<>I110,1,0)","v":0},null,{"$f":"(SUM(ENERO!AJ110))","v":0},{"$f":"(SUM(ENERO!AK110))","v":0}]
[null,null,null,null,null,null,null,null,null,null,null,null,null,"","",null,{"$f":"(SUM(ENERO!Q111))","v":0},{"$f":"(SUM(ENERO!R111))","v":0},{"$f":"(SUM(ENERO!S111))","v":0},{"$f":"(SUM(ENERO!T111))","v":0},{"$f":"(SUM(ENERO!U111))","v":0},{"$f":"(SUM(ENERO!V111))","v":0},{"$f":"(SUM(ENERO!W111))","v":0},{"$f":"(SUM(ENERO!X111))","v":0},{"$f":"(SUM(ENERO!Y111))","v":0},{"$f":"(SUM(ENERO!Z111))","v":0},{"$f":"(SUM(ENERO!AA111))","v":0},{"$f":"(SUM(ENERO!AB111))","v":0},null,null,null,null,null,null,null,{"$f":"(SUM(ENERO!AJ111))","v":0},{"$f":"(SUM(ENERO!AK111))","v":0}]
[null,null,null,null,null,null,null,null,null,null,null,null,null,"","",null,{"$f":"(SUM(ENERO!Q112))","v":0},{"$f":"(SUM(ENERO!R112))","v":0},{"$f":"(SUM(ENERO!S112))","v":0},{"$f":"(SUM(ENERO!T112))","v":0},{"$f":"(SUM(ENERO!U112))","v":0},{"$f":"(SUM(ENERO!V112))","v":0},{"$f":"(SUM(ENERO!W112))","v":0},{"$f":"(SUM(ENERO!X112))","v":0},{"$f":"(SUM(ENERO!Y112))","v":0},{"$f":"(SUM(ENERO!Z112))","v":0},{"$f":"(SUM(ENERO!AA112))","v":0},{"$f":"(SUM(ENERO!AB112))","v":0},null,null,null,null,null,null,null,{"$f":"(SUM(ENERO!AJ112))","v":0},{"$f":"(SUM(ENERO!AK112))","v":0}]
[null,null,null,null,null,null,null,null,null,null,null,null,null,"","",null,{"$f":"(SUM(ENERO!Q113))","v":0},{"$f":"(SUM(ENERO!R113))","v":0},{"$f":"(SUM(ENERO!S113))","v":0},{"$f":"(SUM(ENERO!T113))","v":0},{"$f":"(SUM(ENERO!U113))","v":0},{"$f":"(SUM(ENERO!V113))","v":0},{"$f":"(SUM(ENERO!W113))","v":0},{"$f":"(SUM(ENERO!X113))","v":0},{"$f":"(SUM(ENERO!Y113))","v":0},{"$f":"(SUM(ENERO!Z113))","v":0},{"$f":"(SUM(ENERO!AA113))","v":0},{"$f":"(SUM(ENERO!AB113))","v":0},null,null,null,null,null,null,null,{"$f":"(SUM(ENERO!AJ113))","v":0},{"$f":"(SUM(ENERO!AK113))","v":0}]
[null,null,null,null,null,null,null,null,null,null,null,null,null,"","",null,{"$f":"(SUM(ENERO!Q114))","v":0},{"$f":"(SUM(ENERO!R114))","v":0},{"$f":"(SUM(ENERO!S114))","v":0},{"$f":"(SUM(ENERO!T114))","v":0},{"$f":"(SUM(ENERO!U114))","v":0},{"$f":"(SUM(ENERO!V114))","v":0},{"$f":"(SUM(ENERO!W114))","v":0},{"$f":"(SUM(ENERO!X114))","v":0},{"$f":"(SUM(ENERO!Y114))","v":0},{"$f":"(SUM(ENERO!Z114))","v":0},{"$f":"(SUM(ENERO!AA114))","v":0},{"$f":"(SUM(ENERO!AB114))","v":0},null,null,{"$f":"IFERROR(AA112*100/(W112+AA112),0)","v":0},null,null,null,null,{"$f":"(SUM(ENERO!AJ114))","v":0},{"$f":"(SUM(ENERO!AK114))","v":0}]
[null,null,null,null,null,null,null,null,null,{"$f":"J110=K115","v":true},{"$f":"SUM(K110:K114)","v":0},null,null,"","",null,null,null,null,null,null,null,null,null,null,null,null,null,null,null,null,null,null,null,null,{"$f":"(SUM(ENERO!AJ115))","v":0},{"$f":"(SUM(ENERO!AK115))","v":0}]
["Varicela (vacuna)",null,{"$f":"(SUM(ENERO!C116:C120))","v":0},{"$f":"(SUM(ENERO!D116:D120))","v":0},{"$f":"(SUM(ENERO!E116:E120))","v":0},{"$f":"(SUM(ENERO!F116:F120))","v":0},{"$f":"(SUM(ENERO!G116:G120))","v":0},{"$f":"(SUM(ENERO!H116:H120))","v":0},{"$f":"AC116","v":0},{"$f":"+(C116+D116+F116+E116)-(G116+H116+I116)+SUM(AJ116:AJ120)","v":0},null,null,null,"","",null,{"$f":"(SUM(ENERO!Q116:Q120))","v":0},{"$f":"(SUM(ENERO!R116:R120))","v":0},{"$f":"(SUM(ENERO!S116:S120))","v":0},{"$f":"(SUM(ENERO!T116:T120))","v":0},{"$f":"(SUM(ENERO!U116:U120))","v":0},{"$f":"(SUM(ENERO!V116:V120))","v":0},{"$f":"(SUM(ENERO!W116:W120))","v":0},{"$f":"(SUM(ENERO!X116:X120))","v":0},{"$f":"(SUM(ENERO!Y116:Y120))","v":0},{"$f":"(SUM(ENERO!Z116:Z120))","v":0},{"$f":"(SUM(ENERO!AA116:AA120))","v":0},{"$f":"(SUM(ENERO!AB116:AB120))","v":0},{"$f":"SUM(Q116:AB120)","v":0},null,null,null,null,{"$f":"+IF(AC116<>I116,1,0)","v":0},null,{"$f":"(SUM(ENERO!AJ116))","v":0},{"$f":"(SUM(ENERO!AK116))","v":0}]
[null,null,null,null,null,null,null,null,null,null,null,null,null,"","",null,{"$f":"(SUM(ENERO!Q117))","v":0},{"$f":"(SUM(ENERO!R117))","v":0},{"$f":"(SUM(ENERO!S117))","v":0},{"$f":"(SUM(ENERO!T117))","v":0},{"$f":"(SUM(ENERO!U117))","v":0},{"$f":"(SUM(ENERO!V117))","v":0},{"$f":"(SUM(ENERO!W117))","v":0},{"$f":"(SUM(ENERO!X117))","v":0},{"$f":"(SUM(ENERO!Y117))","v":0},{"$f":"(SUM(ENERO!Z117))","v":0},{"$f":"(SUM(ENERO!AA117))","v":0},{"$f":"(SUM(ENERO!AB117))","v":0},null,null,null,null,null,null,null,{"$f":"(SUM(ENERO!AJ117))","v":0},{"$f":"(SUM(ENERO!AK117))","v":0}]
[null,null,null,null,null,null,null,null,null,null,null,null,null,"","",null,{"$f":"(SUM(ENERO!Q118))","v":0},{"$f":"(SUM(ENERO!R118))","v":0},{"$f":"(SUM(ENERO!S118))","v":0},{"$f":"(SUM(ENERO!T118))","v":0},{"$f":"(SUM(ENERO!U118))","v":0},{"$f":"(SUM(ENERO!V118))","v":0},{"$f":"(SUM(ENERO!W118))","v":0},{"$f":"(SUM(ENERO!X118))","v":0},{"$f":"(SUM(ENERO!Y118))","v":0},{"$f":"(SUM(ENERO!Z118))","v":0},{"$f":"(SUM(ENERO!AA118))","v":0},{"$f":"(SUM(ENERO!AB118))","v":0},null,null,null,null,null,null,null,{"$f":"(SUM(ENERO!AJ118))","v":0},{"$f":"(SUM(ENERO!AK118))","v":0}]
[null,null,null,null,null,null,null,null,null,null,null,null,null,"","",null,{"$f":"(SUM(ENERO!Q119))","v":0},{"$f":"(SUM(ENERO!R119))","v":0},{"$f":"(SUM(ENERO!S119))","v":0},{"$f":"(SUM(ENERO!T119))","v":0},{"$f":"(SUM(ENERO!U119))","v":0},{"$f":"(SUM(ENERO!V119))","v":0},{"$f":"(SUM(ENERO!W119))","v":0},{"$f":"(SUM(ENERO!X119))","v":0},{"$f":"(SUM(ENERO!Y119))","v":0},{"$f":"(SUM(ENERO!Z119))","v":0},{"$f":"(SUM(ENERO!AA119))","v":0},{"$f":"(SUM(ENERO!AB119))","v":0},null,null,{"$f":"IFERROR(AA117*100/(W117+AA117),0)","v":0},null,null,null,null,{"$f":"(SUM(ENERO!AJ119))","v":0},{"$f":"(SUM(ENERO!AK119))","v":0}]
[null,null,null,null,null,null,null,null,null,null,null,null,null,"","",null,{"$f":"(SUM(ENERO!Q120))","v":0},{"$f":"(SUM(ENERO!R120))","v":0},{"$f":"(SUM(ENERO!S120))","v":0},{"$f":"(SUM(ENERO!T120))","v":0},{"$f":"(SUM(ENERO!U120))","v":0},{"$f":"(SUM(ENERO!V120))","v":0},{"$f":"(SUM(ENERO!W120))","v":0},{"$f":"(SUM(ENERO!X120))","v":0},{"$f":"(SUM(ENERO!Y120))","v":0},{"$f":"(SUM(ENERO!Z120))","v":0},{"$f":"(SUM(ENERO!AA120))","v":0},{"$f":"(SUM(ENERO!AB120))","v":0},null,null,null,null,null,null,null,{"$f":"(SUM(ENERO!AJ120))","v":0},{"$f":"(SUM(ENERO!AK120))","v":0}]
[null,null,null,null,null,null,null,null,null,{"$f":"J116=K121","v":true},{"$f":"SUM(K116:K120)","v":0},null,null,"","",null,null,null,null,null,null,null,null,null,null,null,null,null,null,null,null,null,null,null,null,{"$f":"(SUM(ENERO!AJ121))","v":0},{"$f":"(SUM(ENERO!AK121))","v":0}]
["Td Adultos",null,{"$f":"(SUM(ENERO!C122:C126))","v":0},{"$f":"(SUM(ENERO!D122:D126))","v":0},{"$f":"(SUM(ENERO!E122:E126))","v":0},{"$f":"(SUM(ENERO!F122:F126))","v":0},{"$f":"(SUM(ENERO!G122:G126))","v":0},{"$f":"(SUM(ENERO!H122:H126))","v":0},{"$f":"AC122","v":0},{"$f":"+(C122+D122+F122+E122)-(G122+H122+I122)+SUM(AJ122:AJ126)","v":0},null,null,null,"","",null,{"$f":"(SUM(ENERO!Q122:Q126))","v":0},{"$f":"(SUM(ENERO!R122:R126))","v":0},{"$f":"(SUM(ENERO!S122:S126))","v":0},{"$f":"(SUM(ENERO!T122:T126))","v":0},{"$f":"(SUM(ENERO!U122:U126))","v":0},{"$f":"(SUM(ENERO!V122:V126))","v":0},{"$f":"(SUM(ENERO!W122:W126))","v":0},{"$f":"(SUM(ENERO!X122:X126))","v":0},{"$f":"(SUM(ENERO!Y122:Y126))","v":0},{"$f":"(SUM(ENERO!Z122:Z126))","v":0},{"$f":"(SUM(ENERO!AA122:AA126))","v":0},{"$f":"(SUM(ENERO!AB122:AB126))","v":0},{"$f":"SUM(Q122:AB126)","v":0},null,null,null,null,{"$f":"+IF(AC122<>I122,1,0)","v":0},null,{"$f":"(SUM(ENERO!AJ122))","v":0},{"$f":"(SUM(ENERO!AK122))","v":0}]
[null,null,null,null,null,null,null,null,null,null,null,null,null,"","",null,{"$f":"(SUM(ENERO!Q123))","v":0},{"$f":"(SUM(ENERO!R123))","v":0},{"$f":"(SUM(ENERO!S123))","v":0},{"$f":"(SUM(ENERO!T123))","v":0},{"$f":"(SUM(ENERO!U123))","v":0},{"$f":"(SUM(ENERO!V123))","v":0},{"$f":"(SUM(ENERO!W123))","v":0},{"$f":"(SUM(ENERO!X123))","v":0},{"$f":"(SUM(ENERO!Y123))","v":0},{"$f":"(SUM(ENERO!Z123))","v":0},{"$f":"(SUM(ENERO!AA123))","v":0},{"$f":"(SUM(ENERO!AB123))","v":0},null,null,null,null,null,null,null,{"$f":"(SUM(ENERO!AJ123))","v":0},{"$f":"(SUM(ENERO!AK123))","v":0}]
[null,null,null,null,null,null,null,null,null,null,null,null,null,"","",null,{"$f":"(SUM(ENERO!Q124))","v":0},{"$f":"(SUM(ENERO!R124))","v":0},{"$f":"(SUM(ENERO!S124))","v":0},{"$f":"(SUM(ENERO!T124))","v":0},{"$f":"(SUM(ENERO!U124))","v":0},{"$f":"(SUM(ENERO!V124))","v":0},{"$f":"(SUM(ENERO!W124))","v":0},{"$f":"(SUM(ENERO!X124))","v":0},{"$f":"(SUM(ENERO!Y124))","v":0},{"$f":"(SUM(ENERO!Z124))","v":0},{"$f":"(SUM(ENERO!AA124))","v":0},{"$f":"(SUM(ENERO!AB124))","v":0},null,null,null,null,null,null,null,{"$f":"(SUM(ENERO!AJ124))","v":0},{"$f":"(SUM(ENERO!AK124))","v":0}]
[null,null,null,null,null,null,null,null,null,null,null,null,null,"","",null,{"$f":"(SUM(ENERO!Q125))","v":0},{"$f":"(SUM(ENERO!R125))","v":0},{"$f":"(SUM(ENERO!S125))","v":0},{"$f":"(SUM(ENERO!T125))","v":0},{"$f":"(SUM(ENERO!U125))","v":0},{"$f":"(SUM(ENERO!V125))","v":0},{"$f":"(SUM(ENERO!W125))","v":0},{"$f":"(SUM(ENERO!X125))","v":0},{"$f":"(SUM(ENERO!Y125))","v":0},{"$f":"(SUM(ENERO!Z125))","v":0},{"$f":"(SUM(ENERO!AA125))","v":0},{"$f":"(SUM(ENERO!AB125))","v":0},null,null,{"$f":"IFERROR(AA123*100/(W123+AA123),0)","v":0},null,null,null,null,{"$f":"(SUM(ENERO!AJ125))","v":0},{"$f":"(SUM(ENERO!AK125))","v":0}]
[null,null,null,null,null,null,null,null,null,null,null,null,null,"","",null,{"$f":"(SUM(ENERO!Q126))","v":0},{"$f":"(SUM(ENERO!R126))","v":0},{"$f":"(SUM(ENERO!S126))","v":0},{"$f":"(SUM(ENERO!T126))","v":0},{"$f":"(SUM(ENERO!U126))","v":0},{"$f":"(SUM(ENERO!V126))","v":0},{"$f":"(SUM(ENERO!W126))","v":0},{"$f":"(SUM(ENERO!X126))","v":0},{"$f":"(SUM(ENERO!Y126))","v":0},{"$f":"(SUM(ENERO!Z126))","v":0},{"$f":"(SUM(ENERO!AA126))","v":0},{"$f":"(SUM(ENERO!AB126))","v":0},null,null,null,null,null,null,null,{"$f":"(SUM(ENERO!AJ126))","v":0},{"$f":"(SUM(ENERO!AK126))","v":0}]
[null,null,null,null,null,null,null,null,null,{"$f":"J122=K127","v":true},{"$f":"SUM(K122:K126)","v":0},null,null,"","",null,null,null,null,null,null,null,null,null,null,null,null,null,null,null,null,null,null,null,null,{"$f":"(SUM(ENERO!AJ127))","v":0},{"$f":"(SUM(ENERO!AK127))","v":0}]
["DTaP Adolescentes /Adultos",null,{"$f":"(SUM(ENERO!C128:C132))","v":0},{"$f":"(SUM(ENERO!D128:D132))","v":0},{"$f":"(SUM(ENERO!E128:E132))","v":0},{"$f":"(SUM(ENERO!F128:F132))","v":0},{"$f":"(SUM(ENERO!G128:G132))","v":0},{"$f":"(SUM(ENERO!H128:H132))","v":0},{"$f":"AC128","v":0},{"$f":"+(C128+D128+F128+E128)-(G128+H128+I128)+SUM(AJ128:AJ132)","v":0},null,null,null,"","",null,{"$f":"(SUM(ENERO!Q128:Q132))","v":0},{"$f":"(SUM(ENERO!R128:R132))","v":0},{"$f":"(SUM(ENERO!S128:S132))","v":0},{"$f":"(SUM(ENERO!T128:T132))","v":0},{"$f":"(SUM(ENERO!U128:U132))","v":0},{"$f":"(SUM(ENERO!V128:V132))","v":0},{"$f":"(SUM(ENERO!W128:W132))","v":0},{"$f":"(SUM(ENERO!X128:X132))","v":0},{"$f":"(SUM(ENERO!Y128:Y132))","v":0},{"$f":"(SUM(ENERO!Z128:Z132))","v":0},{"$f":"(SUM(ENERO!AA128:AA132))","v":0},{"$f":"(SUM(ENERO!AB128:AB132))","v":0},{"$f":"SUM(Q128:AB132)","v":0},null,null,null,null,{"$f":"+IF(AC128<>I128,1,0)","v":0},null,{"$f":"(SUM(ENERO!AJ128))","v":0},{"$f":"(SUM(ENERO!AK128))","v":0}]
[null,null,null,null,null,null,null,null,null,null,null,null,null,"","",null,{"$f":"(SUM(ENERO!Q129))","v":0},{"$f":"(SUM(ENERO!R129))","v":0},{"$f":"(SUM(ENERO!S129))","v":0},{"$f":"(SUM(ENERO!T129))","v":0},{"$f":"(SUM(ENERO!U129))","v":0},{"$f":"(SUM(ENERO!V129))","v":0},{"$f":"(SUM(ENERO!W129))","v":0},{"$f":"(SUM(ENERO!X129))","v":0},{"$f":"(SUM(ENERO!Y129))","v":0},{"$f":"(SUM(ENERO!Z129))","v":0},{"$f":"(SUM(ENERO!AA129))","v":0},{"$f":"(SUM(ENERO!AB129))","v":0},null,null,null,null,null,null,null,{"$f":"(SUM(ENERO!AJ129))","v":0},{"$f":"(SUM(ENERO!AK129))","v":0}]
[null,null,null,null,null,null,null,null,null,null,null,null,null,"","",null,{"$f":"(SUM(ENERO!Q130))","v":0},{"$f":"(SUM(ENERO!R130))","v":0},{"$f":"(SUM(ENERO!S130))","v":0},{"$f":"(SUM(ENERO!T130))","v":0},{"$f":"(SUM(ENERO!U130))","v":0},{"$f":"(SUM(ENERO!V130))","v":0},{"$f":"(SUM(ENERO!W130))","v":0},{"$f":"(SUM(ENERO!X130))","v":0},{"$f":"(SUM(ENERO!Y130))","v":0},{"$f":"(SUM(ENERO!Z130))","v":0},{"$f":"(SUM(ENERO!AA130))","v":0},{"$f":"(SUM(ENERO!AB130))","v":0},null,null,{"$f":"IFERROR(AA128*100/(W128+AA128),0)","v":0},null,null,null,null,{"$f":"(SUM(ENERO!AJ130))","v":0},{"$f":"(SUM(ENERO!AK130))","v":0}]
[null,null,null,null,null,null,null,null,null,null,null,null,null,"","",null,{"$f":"(SUM(ENERO!Q131))","v":0},{"$f":"(SUM(ENERO!R131))","v":0},{"$f":"(SUM(ENERO!S131))","v":0},{"$f":"(SUM(ENERO!T131))","v":0},{"$f":"(SUM(ENERO!U131))","v":0},{"$f":"(SUM(ENERO!V131))","v":0},{"$f":"(SUM(ENERO!W131))","v":0},{"$f":"(SUM(ENERO!X131))","v":0},{"$f":"(SUM(ENERO!Y131))","v":0},{"$f":"(SUM(ENERO!Z131))","v":0},{"$f":"(SUM(ENERO!AA131))","v":0},{"$f":"(SUM(ENERO!AB131))","v":0},null,null,null,null,null,null,null,{"$f":"(SUM(ENERO!AJ131))","v":0},{"$f":"(SUM(ENERO!AK131))","v":0}]
[null,null,null,null,null,null,null,null,null,null,null,null,null,"","",null,{"$f":"(SUM(ENERO!Q132))","v":0},{"$f":"(SUM(ENERO!R132))","v":0},{"$f":"(SUM(ENERO!S132))","v":0},{"$f":"(SUM(ENERO!T132))","v":0},{"$f":"(SUM(ENERO!U132))","v":0},{"$f":"(SUM(ENERO!V132))","v":0},{"$f":"(SUM(ENERO!W132))","v":0},{"$f":"(SUM(ENERO!X132))","v":0},{"$f":"(SUM(ENERO!Y132))","v":0},{"$f":"(SUM(ENERO!Z132))","v":0},{"$f":"(SUM(ENERO!AA132))","v":0},{"$f":"(SUM(ENERO!AB132))","v":0},null,null,null,null,null,null,null,{"$f":"(SUM(ENERO!AJ132))","v":0},{"$f":"(SUM(ENERO!AK132))","v":0}]
[null,null,null,null,null,null,null,null,null,{"$f":"J128=K133","v":true},{"$f":"SUM(K128:K132)","v":0},null,null,"","",null,null,null,null,null,null,null,null,null,null,null,null,null,null,null,null,null,null,null,null,{"$f":"(SUM(ENERO!AJ133))","v":0},{"$f":"(SUM(ENERO!AK133))","v":0}]
["Influenza pediatrica",null,{"$f":"(SUM(ENERO!C134:C138))","v":0},{"$f":"(SUM(ENERO!D134:D138))","v":0},{"$f":"(SUM(ENERO!E134:E138))","v":0},{"$f":"(SUM(ENERO!F134:F138))","v":0},{"$f":"(SUM(ENERO!G134:G138))","v":0},{"$f":"(SUM(ENERO!H134:H138))","v":0},{"$f":"AC134","v":0},{"$f":"+(C134+D134+F134+E134)-(G134+H134+I134)+SUM(AJ134:AJ138)","v":0},null,null,null,"","",null,{"$f":"(SUM(ENERO!Q134:Q138))","v":0},{"$f":"(SUM(ENERO!R134:R138))","v":0},{"$f":"(SUM(ENERO!S134:S138))","v":0},{"$f":"(SUM(ENERO!T134:T138))","v":0},{"$f":"(SUM(ENERO!U134:U138))","v":0},{"$f":"(SUM(ENERO!V134:V138))","v":0},{"$f":"(SUM(ENERO!W134:W138))","v":0},{"$f":"(SUM(ENERO!X134:X138))","v":0},{"$f":"(SUM(ENERO!Y134:Y138))","v":0},{"$f":"(SUM(ENERO!Z134:Z138))","v":0},{"$f":"(SUM(ENERO!AA134:AA138))","v":0},{"$f":"(SUM(ENERO!AB134:AB138))","v":0},{"$f":"SUM(Q134:AB138)","v":0},null,null,null,null,{"$f":"+IF(AC134<>I134,1,0)","v":0},null,{"$f":"(SUM(ENERO!AJ134))","v":0},{"$f":"(SUM(ENERO!AK134))","v":0}]
[null,null,null,null,null,null,null,null,null,null,null,null,null,"","",null,{"$f":"(SUM(ENERO!Q135))","v":0},{"$f":"(SUM(ENERO!R135))","v":0},{"$f":"(SUM(ENERO!S135))","v":0},{"$f":"(SUM(ENERO!T135))","v":0},{"$f":"(SUM(ENERO!U135))","v":0},{"$f":"(SUM(ENERO!V135))","v":0},{"$f":"(SUM(ENERO!W135))","v":0},{"$f":"(SUM(ENERO!X135))","v":0},{"$f":"(SUM(ENERO!Y135))","v":0},{"$f":"(SUM(ENERO!Z135))","v":0},{"$f":"(SUM(ENERO!AA135))","v":0},{"$f":"(SUM(ENERO!AB135))","v":0},null,null,null,null,null,null,null,{"$f":"(SUM(ENERO!AJ135))","v":0},{"$f":"(SUM(ENERO!AK135))","v":0}]
[null,null,null,null,null,null,null,null,null,null,null,null,null,"","",null,{"$f":"(SUM(ENERO!Q136))","v":0},{"$f":"(SUM(ENERO!R136))","v":0},{"$f":"(SUM(ENERO!S136))","v":0},{"$f":"(SUM(ENERO!T136))","v":0},{"$f":"(SUM(ENERO!U136))","v":0},{"$f":"(SUM(ENERO!V136))","v":0},{"$f":"(SUM(ENERO!W136))","v":0},{"$f":"(SUM(ENERO!X136))","v":0},{"$f":"(SUM(ENERO!Y136))","v":0},{"$f":"(SUM(ENERO!Z136))","v":0},{"$f":"(SUM(ENERO!AA136))","v":0},{"$f":"(SUM(ENERO!AB136))","v":0},null,null,{"$f":"IFERROR(AA134*100/(W134+AA134),0)","v":0},null,null,null,null,{"$f":"(SUM(ENERO!AJ136))","v":0},{"$f":"(SUM(ENERO!AK136))","v":0}]
[null,null,null,null,null,null,null,null,null,null,null,null,null,"","",null,{"$f":"(SUM(ENERO!Q137))","v":0},{"$f":"(SUM(ENERO!R137))","v":0},{"$f":"(SUM(ENERO!S137))","v":0},{"$f":"(SUM(ENERO!T137))","v":0},{"$f":"(SUM(ENERO!U137))","v":0},{"$f":"(SUM(ENERO!V137))","v":0},{"$f":"(SUM(ENERO!W137))","v":0},{"$f":"(SUM(ENERO!X137))","v":0},{"$f":"(SUM(ENERO!Y137))","v":0},{"$f":"(SUM(ENERO!Z137))","v":0},{"$f":"(SUM(ENERO!AA137))","v":0},{"$f":"(SUM(ENERO!AB137))","v":0},null,null,null,null,null,null,null,{"$f":"(SUM(ENERO!AJ137))","v":0},{"$f":"(SUM(ENERO!AK137))","v":0}]
[null,null,null,null,null,null,null,null,null,null,null,null,null,"","",null,{"$f":"(SUM(ENERO!Q138))","v":0},{"$f":"(SUM(ENERO!R138))","v":0},{"$f":"(SUM(ENERO!S138))","v":0},{"$f":"(SUM(ENERO!T138))","v":0},{"$f":"(SUM(ENERO!U138))","v":0},{"$f":"(SUM(ENERO!V138))","v":0},{"$f":"(SUM(ENERO!W138))","v":0},{"$f":"(SUM(ENERO!X138))","v":0},{"$f":"(SUM(ENERO!Y138))","v":0},{"$f":"(SUM(ENERO!Z138))","v":0},{"$f":"(SUM(ENERO!AA138))","v":0},{"$f":"(SUM(ENERO!AB138))","v":0},null,null,null,null,null,null,null,{"$f":"(SUM(ENERO!AJ138))","v":0},{"$f":"(SUM(ENERO!AK138))","v":0}]
[null,null,null,null,null,null,null,null,null,{"$f":"J134=K139","v":true},{"$f":"SUM(K134:K138)","v":0},null,null,"","",null,null,null,null,null,null,null,null,null,null,null,null,null,null,null,null,null,null,null,null,{"$f":"(SUM(ENERO!AJ139))","v":0},{"$f":"(SUM(ENERO!AK139))","v":0}]
["Influenza Adultos",null,{"$f":"(SUM(ENERO!C140:C144))","v":0},{"$f":"(SUM(ENERO!D140:D144))","v":0},{"$f":"(SUM(ENERO!E140:E144))","v":0},{"$f":"(SUM(ENERO!F140:F144))","v":0},{"$f":"(SUM(ENERO!G140:G144))","v":0},{"$f":"(SUM(ENERO!H140:H144))","v":0},{"$f":"AC140","v":0},{"$f":"+(C140+D140+F140+E140)-(G140+H140+I140)+SUM(AJ140:AJ144)","v":0},null,null,null,"","",null,{"$f":"(SUM(ENERO!Q140:Q144))","v":0},{"$f":"(SUM(ENERO!R140:R144))","v":0},{"$f":"(SUM(ENERO!S140:S144))","v":0},{"$f":"(SUM(ENERO!T140:T144))","v":0},{"$f":"(SUM(ENERO!U140:U144))","v":0},{"$f":"(SUM(ENERO!V140:V144))","v":0},{"$f":"(SUM(ENERO!W140:W144))","v":0},{"$f":"(SUM(ENERO!X140:X144))","v":0},{"$f":"(SUM(ENERO!Y140:Y144))","v":0},{"$f":"(SUM(ENERO!Z140:Z144))","v":0},{"$f":"(SUM(ENERO!AA140:AA144))","v":0},{"$f":"(SUM(ENERO!AB140:AB144))","v":0},{"$f":"SUM(Q140:AB144)","v":0},null,null,null,null,{"$f":"+IF(AC140<>I140,1,0)","v":0},null,{"$f":"(SUM(ENERO!AJ140))","v":0},{"$f":"(SUM(ENERO!AK140))","v":0}]
[null,null,null,null,null,null,null,null,null,null,null,null,null,"","",null,{"$f":"(SUM(ENERO!Q141))","v":0},{"$f":"(SUM(ENERO!R141))","v":0},{"$f":"(SUM(ENERO!S141))","v":0},{"$f":"(SUM(ENERO!T141))","v":0},{"$f":"(SUM(ENERO!U141))","v":0},{"$f":"(SUM(ENERO!V141))","v":0},{"$f":"(SUM(ENERO!W141))","v":0},{"$f":"(SUM(ENERO!X141))","v":0},{"$f":"(SUM(ENERO!Y141))","v":0},{"$f":"(SUM(ENERO!Z141))","v":0},{"$f":"(SUM(ENERO!AA141))","v":0},{"$f":"(SUM(ENERO!AB141))","v":0},null,null,{"$f":"IFERROR(AA139*100/(W139+AA139),0)","v":0},null,null,null,null,{"$f":"(SUM(ENERO!AJ141))","v":0},{"$f":"(SUM(ENERO!AK141))","v":0}]
[null,null,null,null,null,null,null,null,null,null,null,null,null,"","",null,{"$f":"(SUM(ENERO!Q142))","v":0},{"$f":"(SUM(ENERO!R142))","v":0},{"$f":"(SUM(ENERO!S142))","v":0},{"$f":"(SUM(ENERO!T142))","v":0},{"$f":"(SUM(ENERO!U142))","v":0},{"$f":"(SUM(ENERO!V142))","v":0},{"$f":"(SUM(ENERO!W142))","v":0},{"$f":"(SUM(ENERO!X142))","v":0},{"$f":"(SUM(ENERO!Y142))","v":0},{"$f":"(SUM(ENERO!Z142))","v":0},{"$f":"(SUM(ENERO!AA142))","v":0},{"$f":"(SUM(ENERO!AB142))","v":0},null,null,null,null,null,null,null,{"$f":"(SUM(ENERO!AJ142))","v":0},{"$f":"(SUM(ENERO!AK142))","v":0}]
[null,null,null,null,null,null,null,null,null,null,null,null,null,"","",null,{"$f":"(SUM(ENERO!Q143))","v":0},{"$f":"(SUM(ENERO!R143))","v":0},{"$f":"(SUM(ENERO!S143))","v":0},{"$f":"(SUM(ENERO!T143))","v":0},{"$f":"(SUM(ENERO!U143))","v":0},{"$f":"(SUM(ENERO!V143))","v":0},{"$f":"(SUM(ENERO!W143))","v":0},{"$f":"(SUM(ENERO!X143))","v":0},{"$f":"(SUM(ENERO!Y143))","v":0},{"$f":"(SUM(ENERO!Z143))","v":0},{"$f":"(SUM(ENERO!AA143))","v":0},{"$f":"(SUM(ENERO!AB143))","v":0},null,null,null,null,null,null,null,{"$f":"(SUM(ENERO!AJ143))","v":0},{"$f":"(SUM(ENERO!AK143))","v":0}]
[null,null,null,null,null,null,null,null,null,null,null,null,null,"","",null,{"$f":"(SUM(ENERO!Q144))","v":0},{"$f":"(SUM(ENERO!R144))","v":0},{"$f":"(SUM(ENERO!S144))","v":0},{"$f":"(SUM(ENERO!T144))","v":0},{"$f":"(SUM(ENERO!U144))","v":0},{"$f":"(SUM(ENERO!V144))","v":0},{"$f":"(SUM(ENERO!W144))","v":0},{"$f":"(SUM(ENERO!X144))","v":0},{"$f":"(SUM(ENERO!Y144))","v":0},{"$f":"(SUM(ENERO!Z144))","v":0},{"$f":"(SUM(ENERO!AA144))","v":0},{"$f":"(SUM(ENERO!AB144))","v":0},null,null,null,null,null,null,null,{"$f":"(SUM(ENERO!AJ144))","v":0},{"$f":"(SUM(ENERO!AK144))","v":0}]
[null,null,null,null,null,null,null,null,null,{"$f":"J140=K145","v":true},{"$f":"SUM(K140:K144)","v":0},null,null,{"$f":"IFERROR(IF(DATEDIF(TODAY(),M145,\"M\")<=6,\"ROJO\",IF(DATEDIF(TODAY(),M145,\"M\")>=12,\"VERDE\",IF(AND(DATEDIF(TODAY(),M145,\"M\")>6,DATEDIF(TODAY(),M145,\"M\")<=11),\"AMARILLO\",IF(M145<TODAY(),\"VENCIDO\",0)))),O145)","v":""},"",null,null,null,null,null,null,null,null,null,null,null,null,null,null,null,null,null,null,null,null,{"$f":"(SUM(ENERO!AJ145))","v":0},{"$f":"(SUM(ENERO!AK145))","v":0}]
["VPH (vacuna)",null,{"$f":"(SUM(ENERO!C146:C150))","v":0},{"$f":"(SUM(ENERO!D146:D150))","v":0},{"$f":"(SUM(ENERO!E146:E150))","v":0},{"$f":"(SUM(ENERO!F146:F150))","v":0},{"$f":"(SUM(ENERO!G146:G150))","v":0},{"$f":"(SUM(ENERO!H146:H150))","v":0},{"$f":"AC146","v":0},{"$f":"+(C146+D146+F146+E146)-(G146+H146+I146)+SUM(AJ146:AJ150)","v":0},null,null,null,"","",null,{"$f":"(SUM(ENERO!Q146:Q150))","v":0},{"$f":"(SUM(ENERO!R146:R150))","v":0},{"$f":"(SUM(ENERO!S146:S150))","v":0},{"$f":"(SUM(ENERO!T146:T150))","v":0},{"$f":"(SUM(ENERO!U146:U150))","v":0},{"$f":"(SUM(ENERO!V146:V150))","v":0},{"$f":"(SUM(ENERO!W146:W150))","v":0},{"$f":"(SUM(ENERO!X146:X150))","v":0},{"$f":"(SUM(ENERO!Y146:Y150))","v":0},{"$f":"(SUM(ENERO!Z146:Z150))","v":0},{"$f":"(SUM(ENERO!AA146:AA150))","v":0},{"$f":"(SUM(ENERO!AB146:AB150))","v":0},{"$f":"SUM(Q146:AB150)","v":0},null,null,null,null,{"$f":"+IF(AC146<>I146,1,0)","v":0},null,{"$f":"(SUM(ENERO!AJ146))","v":0},{"$f":"(SUM(ENERO!AK146))","v":0}]
[null,null,null,null,null,null,null,null,null,null,null,null,null,"","",null,{"$f":"(SUM(ENERO!Q147))","v":0},{"$f":"(SUM(ENERO!R147))","v":0},{"$f":"(SUM(ENERO!S147))","v":0},{"$f":"(SUM(ENERO!T147))","v":0},{"$f":"(SUM(ENERO!U147))","v":0},{"$f":"(SUM(ENERO!V147))","v":0},{"$f":"(SUM(ENERO!W147))","v":0},{"$f":"(SUM(ENERO!X147))","v":0},{"$f":"(SUM(ENERO!Y147))","v":0},{"$f":"(SUM(ENERO!Z147))","v":0},{"$f":"(SUM(ENERO!AA147))","v":0},{"$f":"(SUM(ENERO!AB147))","v":0},null,null,{"$f":"IFERROR(AA145*100/(W145+AA145),0)","v":0},null,null,null,null,{"$f":"(SUM(ENERO!AJ147))","v":0},{"$f":"(SUM(ENERO!AK147))","v":0}]
[null,null,null,null,null,null,null,null,null,null,null,null,null,"","",null,{"$f":"(SUM(ENERO!Q148))","v":0},{"$f":"(SUM(ENERO!R148))","v":0},{"$f":"(SUM(ENERO!S148))","v":0},{"$f":"(SUM(ENERO!T148))","v":0},{"$f":"(SUM(ENERO!U148))","v":0},{"$f":"(SUM(ENERO!V148))","v":0},{"$f":"(SUM(ENERO!W148))","v":0},{"$f":"(SUM(ENERO!X148))","v":0},{"$f":"(SUM(ENERO!Y148))","v":0},{"$f":"(SUM(ENERO!Z148))","v":0},{"$f":"(SUM(ENERO!AA148))","v":0},{"$f":"(SUM(ENERO!AB148))","v":0},null,null,null,null,null,null,null,{"$f":"(SUM(ENERO!AJ148))","v":0},{"$f":"(SUM(ENERO!AK148))","v":0}]
[null,null,null,null,null,null,null,null,null,null,null,null,null,"",{"$f":"IF(M149=0,\"\",\"VENCIDO\")","v":""},null,{"$f":"(SUM(ENERO!Q149))","v":0},{"$f":"(SUM(ENERO!R149))","v":0},{"$f":"(SUM(ENERO!S149))","v":0},{"$f":"(SUM(ENERO!T149))","v":0},{"$f":"(SUM(ENERO!U149))","v":0},{"$f":"(SUM(ENERO!V149))","v":0},{"$f":"(SUM(ENERO!W149))","v":0},{"$f":"(SUM(ENERO!X149))","v":0},{"$f":"(SUM(ENERO!Y149))","v":0},{"$f":"(SUM(ENERO!Z149))","v":0},{"$f":"(SUM(ENERO!AA149))","v":0},{"$f":"(SUM(ENERO!AB149))","v":0},null,null,null,null,null,null,null,{"$f":"(SUM(ENERO!AJ149))","v":0},{"$f":"(SUM(ENERO!AK149))","v":0}]
[null,null,null,null,null,null,null,null,null,null,null,null,null,"","",null,{"$f":"(SUM(ENERO!Q150))","v":0},{"$f":"(SUM(ENERO!R150))","v":0},{"$f":"(SUM(ENERO!S150))","v":0},{"$f":"(SUM(ENERO!T150))","v":0},{"$f":"(SUM(ENERO!U150))","v":0},{"$f":"(SUM(ENERO!V150))","v":0},{"$f":"(SUM(ENERO!W150))","v":0},{"$f":"(SUM(ENERO!X150))","v":0},{"$f":"(SUM(ENERO!Y150))","v":0},{"$f":"(SUM(ENERO!Z150))","v":0},{"$f":"(SUM(ENERO!AA150))","v":0},{"$f":"(SUM(ENERO!AB150))","v":0},null,null,null,null,null,null,null,{"$f":"(SUM(ENERO!AJ150))","v":0},{"$f":"(SUM(ENERO!AK150))","v":0}]
[null,null,null,null,null,null,null,null,null,{"$f":"J146=K151","v":true},{"$f":"SUM(K146:K150)","v":0},null,null,"","",null,null,null,null,null,null,null,null,null,null,null,null,null,null,null,null,null,null,null,null,{"$f":"(SUM(ENERO!AJ151))","v":0},{"$f":"(SUM(ENERO!AK151))","v":0}]
["Antirrabica Humana (vacuna)",null,{"$f":"(SUM(ENERO!C152:C156))","v":0},{"$f":"(SUM(ENERO!D152:D156))","v":0},{"$f":"(SUM(ENERO!E152:E156))","v":0},{"$f":"(SUM(ENERO!F152:F156))","v":0},{"$f":"(SUM(ENERO!G152:G156))","v":0},{"$f":"(SUM(ENERO!H152:H156))","v":0},{"$f":"AC152","v":0},{"$f":"+(C152+D152+F152+E152)-(G152+H152+I152)+SUM(AJ152:AJ156)","v":0},null,null,null,"","",null,{"$f":"(SUM(ENERO!Q152:Q156))","v":0},{"$f":"(SUM(ENERO!R152:R156))","v":0},{"$f":"(SUM(ENERO!S152:S156))","v":0},{"$f":"(SUM(ENERO!T152:T156))","v":0},{"$f":"(SUM(ENERO!U152:U156))","v":0},{"$f":"(SUM(ENERO!V152:V156))","v":0},{"$f":"(SUM(ENERO!W152:W156))","v":0},{"$f":"(SUM(ENERO!X152:X156))","v":0},{"$f":"(SUM(ENERO!Y152:Y156))","v":0},{"$f":"(SUM(ENERO!Z152:Z156))","v":0},{"$f":"(SUM(ENERO!AA152:AA156))","v":0},{"$f":"(SUM(ENERO!AB152:AB156))","v":0},{"$f":"SUM(Q152:AB156)","v":0},null,{"$f":"IFERROR(AA150*100/(W150+AA150),0)","v":0},null,null,{"$f":"+IF(AC152<>I152,1,0)","v":0},null,{"$f":"(SUM(ENERO!AJ152))","v":0},{"$f":"(SUM(ENERO!AK152))","v":0}]
[null,null,null,null,null,null,null,null,null,null,null,null,null,"","",null,{"$f":"(SUM(ENERO!Q153))","v":0},{"$f":"(SUM(ENERO!R153))","v":0},{"$f":"(SUM(ENERO!S153))","v":0},{"$f":"(SUM(ENERO!T153))","v":0},{"$f":"(SUM(ENERO!U153))","v":0},{"$f":"(SUM(ENERO!V153))","v":0},{"$f":"(SUM(ENERO!W153))","v":0},{"$f":"(SUM(ENERO!X153))","v":0},{"$f":"(SUM(ENERO!Y153))","v":0},{"$f":"(SUM(ENERO!Z153))","v":0},{"$f":"(SUM(ENERO!AA153))","v":0},{"$f":"(SUM(ENERO!AB153))","v":0},null,null,null,null,null,null,null,{"$f":"(SUM(ENERO!AJ153))","v":0},{"$f":"(SUM(ENERO!AK153))","v":0}]
[null,null,null,null,null,null,null,null,null,null,null,null,null,"","",null,{"$f":"(SUM(ENERO!Q154))","v":0},{"$f":"(SUM(ENERO!R154))","v":0},{"$f":"(SUM(ENERO!S154))","v":0},{"$f":"(SUM(ENERO!T154))","v":0},{"$f":"(SUM(ENERO!U154))","v":0},{"$f":"(SUM(ENERO!V154))","v":0},{"$f":"(SUM(ENERO!W154))","v":0},{"$f":"(SUM(ENERO!X154))","v":0},{"$f":"(SUM(ENERO!Y154))","v":0},{"$f":"(SUM(ENERO!Z154))","v":0},{"$f":"(SUM(ENERO!AA154))","v":0},{"$f":"(SUM(ENERO!AB154))","v":0},null,null,null,null,null,null,null,{"$f":"(SUM(ENERO!AJ154))","v":0},{"$f":"(SUM(ENERO!AK154))","v":0}]
[null,null,null,null,null,null,null,null,null,null,null,null,null,"","",null,{"$f":"(SUM(ENERO!Q155))","v":0},{"$f":"(SUM(ENERO!R155))","v":0},{"$f":"(SUM(ENERO!S155))","v":0},{"$f":"(SUM(ENERO!T155))","v":0},{"$f":"(SUM(ENERO!U155))","v":0},{"$f":"(SUM(ENERO!V155))","v":0},{"$f":"(SUM(ENERO!W155))","v":0},{"$f":"(SUM(ENERO!X155))","v":0},{"$f":"(SUM(ENERO!Y155))","v":0},{"$f":"(SUM(ENERO!Z155))","v":0},{"$f":"(SUM(ENERO!AA155))","v":0},{"$f":"(SUM(ENERO!AB155))","v":0},null,null,null,null,null,null,null,{"$f":"(SUM(ENERO!AJ155))","v":0},{"$f":"(SUM(ENERO!AK155))","v":0}]
[null,null,null,null,null,null,null,null,null,null,null,null,null,"","",null,{"$f":"(SUM(ENERO!Q156))","v":0},{"$f":"(SUM(ENERO!R156))","v":0},{"$f":"(SUM(ENERO!S156))","v":0},{"$f":"(SUM(ENERO!T156))","v":0},{"$f":"(SUM(ENERO!U156))","v":0},{"$f":"(SUM(ENERO!V156))","v":0},{"$f":"(SUM(ENERO!W156))","v":0},{"$f":"(SUM(ENERO!X156))","v":0},{"$f":"(SUM(ENERO!Y156))","v":0},{"$f":"(SUM(ENERO!Z156))","v":0},{"$f":"(SUM(ENERO!AA156))","v":0},{"$f":"(SUM(ENERO!AB156))","v":0},null,null,null,null,null,null,null,{"$f":"(SUM(ENERO!AJ156))","v":0},{"$f":"(SUM(ENERO!AK156))","v":0}]
[null,null,null,null,null,null,null,null,null,{"$f":"J152=K157","v":true},{"$f":"SUM(K152:K156)","v":0},null,null,"","",null,null,null,null,null,null,null,null,null,null,null,null,null,null,null,null,null,null,null,null,{"$f":"(SUM(ENERO!AJ157))","v":0},{"$f":"(SUM(ENERO!AK157))","v":0}]
["Inmunoglobulina antirrabica humana (suero)",null,{"$f":"(SUM(ENERO!C158:C162))","v":0},{"$f":"(SUM(ENERO!D158:D162))","v":0},{"$f":"(SUM(ENERO!E158:E162))","v":0},{"$f":"(SUM(ENERO!F158:F162))","v":0},{"$f":"(SUM(ENERO!G158:G162))","v":0},{"$f":"(SUM(ENERO!H158:H162))","v":0},{"$f":"AC158","v":0},{"$f":"+(C158+D158+F158+E158)-(G158+H158+I158)+SUM(AJ158:AJ162)","v":0},null,null,null,"","",null,{"$f":"(SUM(ENERO!Q158:Q162))","v":0},{"$f":"(SUM(ENERO!R158:R162))","v":0},{"$f":"(SUM(ENERO!S158:S162))","v":0},{"$f":"(SUM(ENERO!T158:T162))","v":0},{"$f":"(SUM(ENERO!U158:U162))","v":0},{"$f":"(SUM(ENERO!V158:V162))","v":0},{"$f":"(SUM(ENERO!W158:W162))","v":0},{"$f":"(SUM(ENERO!X158:X162))","v":0},{"$f":"(SUM(ENERO!Y158:Y162))","v":0},{"$f":"(SUM(ENERO!Z158:Z162))","v":0},{"$f":"(SUM(ENERO!AA158:AA162))","v":0},{"$f":"(SUM(ENERO!AB158:AB162))","v":0},{"$f":"SUM(Q158:AB162)","v":0},null,{"$f":"IFERROR(AA156*100/(W156+AA156),0)","v":0},null,null,{"$f":"+IF(AC158<>I158,1,0)","v":0},null,{"$f":"(SUM(ENERO!AJ158))","v":0},{"$f":"(SUM(ENERO!AK158))","v":0}]
[null,null,null,null,null,null,null,null,null,null,null,null,null,"","",null,{"$f":"(SUM(ENERO!Q159))","v":0},{"$f":"(SUM(ENERO!R159))","v":0},{"$f":"(SUM(ENERO!S159))","v":0},{"$f":"(SUM(ENERO!T159))","v":0},{"$f":"(SUM(ENERO!U159))","v":0},{"$f":"(SUM(ENERO!V159))","v":0},{"$f":"(SUM(ENERO!W159))","v":0},{"$f":"(SUM(ENERO!X159))","v":0},{"$f":"(SUM(ENERO!Y159))","v":0},{"$f":"(SUM(ENERO!Z159))","v":0},{"$f":"(SUM(ENERO!AA159))","v":0},{"$f":"(SUM(ENERO!AB159))","v":0},null,null,null,null,null,null,null,{"$f":"(SUM(ENERO!AJ159))","v":0},{"$f":"(SUM(ENERO!AK159))","v":0}]
[null,null,null,null,null,null,null,null,null,null,null,null,null,"","",null,{"$f":"(SUM(ENERO!Q160))","v":0},{"$f":"(SUM(ENERO!R160))","v":0},{"$f":"(SUM(ENERO!S160))","v":0},{"$f":"(SUM(ENERO!T160))","v":0},{"$f":"(SUM(ENERO!U160))","v":0},{"$f":"(SUM(ENERO!V160))","v":0},{"$f":"(SUM(ENERO!W160))","v":0},{"$f":"(SUM(ENERO!X160))","v":0},{"$f":"(SUM(ENERO!Y160))","v":0},{"$f":"(SUM(ENERO!Z160))","v":0},{"$f":"(SUM(ENERO!AA160))","v":0},{"$f":"(SUM(ENERO!AB160))","v":0},null,null,null,null,null,null,null,{"$f":"(SUM(ENERO!AJ160))","v":0},{"$f":"(SUM(ENERO!AK160))","v":0}]
[null,null,null,null,null,null,null,null,null,null,null,null,null,"","",null,{"$f":"(SUM(ENERO!Q161))","v":0},{"$f":"(SUM(ENERO!R161))","v":0},{"$f":"(SUM(ENERO!S161))","v":0},{"$f":"(SUM(ENERO!T161))","v":0},{"$f":"(SUM(ENERO!U161))","v":0},{"$f":"(SUM(ENERO!V161))","v":0},{"$f":"(SUM(ENERO!W161))","v":0},{"$f":"(SUM(ENERO!X161))","v":0},{"$f":"(SUM(ENERO!Y161))","v":0},{"$f":"(SUM(ENERO!Z161))","v":0},{"$f":"(SUM(ENERO!AA161))","v":0},{"$f":"(SUM(ENERO!AB161))","v":0},null,null,null,null,null,null,null,{"$f":"(SUM(ENERO!AJ161))","v":0},{"$f":"(SUM(ENERO!AK161))","v":0}]
[null,null,null,null,null,null,null,null,null,null,null,null,null,"","",null,{"$f":"(SUM(ENERO!Q162))","v":0},{"$f":"(SUM(ENERO!R162))","v":0},{"$f":"(SUM(ENERO!S162))","v":0},{"$f":"(SUM(ENERO!T162))","v":0},{"$f":"(SUM(ENERO!U162))","v":0},{"$f":"(SUM(ENERO!V162))","v":0},{"$f":"(SUM(ENERO!W162))","v":0},{"$f":"(SUM(ENERO!X162))","v":0},{"$f":"(SUM(ENERO!Y162))","v":0},{"$f":"(SUM(ENERO!Z162))","v":0},{"$f":"(SUM(ENERO!AA162))","v":0},{"$f":"(SUM(ENERO!AB162))","v":0},null,null,null,null,null,null,null,{"$f":"(SUM(ENERO!AJ162))","v":0},{"$f":"(SUM(ENERO!AK162))","v":0}]
[null,null,null,null,null,null,null,null,null,{"$f":"J158=K163","v":true},{"$f":"SUM(K158:K162)","v":0},null,null,"","",null,null,null,null,null,null,null,null,null,null,null,null,null,null,null,{"$f":"IFERROR(AA161*100/(W161+AA161),0)","v":0},null,null,null,null,{"$f":"(SUM(ENERO!AJ163))","v":0},{"$f":"(SUM(ENERO!AK163))","v":0}]
["Inmunoglobulina antihepatitis B",null,{"$f":"(SUM(ENERO!C164:C168))","v":0},{"$f":"(SUM(ENERO!D164:D168))","v":0},{"$f":"(SUM(ENERO!E164:E168))","v":0},{"$f":"(SUM(ENERO!F164:F168))","v":0},{"$f":"(SUM(ENERO!G164:G168))","v":0},{"$f":"(SUM(ENERO!H164:H168))","v":0},{"$f":"AC164","v":0},{"$f":"+(C164+D164+F164+E164)-(G164+H164+I164)+SUM(AJ164:AJ168)","v":0},null,null,null,"","",null,{"$f":"(SUM(ENERO!Q164:Q168))","v":0},{"$f":"(SUM(ENERO!R164:R168))","v":0},{"$f":"(SUM(ENERO!S164:S168))","v":0},{"$f":"(SUM(ENERO!T164:T168))","v":0},{"$f":"(SUM(ENERO!U164:U168))","v":0},{"$f":"(SUM(ENERO!V164:V168))","v":0},{"$f":"(SUM(ENERO!W164:W168))","v":0},{"$f":"(SUM(ENERO!X164:X168))","v":0},{"$f":"(SUM(ENERO!Y164:Y168))","v":0},{"$f":"(SUM(ENERO!Z164:Z168))","v":0},{"$f":"(SUM(ENERO!AA164:AA168))","v":0},{"$f":"(SUM(ENERO!AB164:AB168))","v":0},{"$f":"SUM(Q164:AB168)","v":0},null,null,null,null,{"$f":"+IF(AC164<>I164,1,0)","v":0},null,{"$f":"(SUM(ENERO!AJ164))","v":0},{"$f":"(SUM(ENERO!AK164))","v":0}]
[null,null,null,null,null,null,null,null,null,null,null,null,null,"","",null,{"$f":"(SUM(ENERO!Q165))","v":0},{"$f":"(SUM(ENERO!R165))","v":0},{"$f":"(SUM(ENERO!S165))","v":0},{"$f":"(SUM(ENERO!T165))","v":0},{"$f":"(SUM(ENERO!U165))","v":0},{"$f":"(SUM(ENERO!V165))","v":0},{"$f":"(SUM(ENERO!W165))","v":0},{"$f":"(SUM(ENERO!X165))","v":0},{"$f":"(SUM(ENERO!Y165))","v":0},{"$f":"(SUM(ENERO!Z165))","v":0},{"$f":"(SUM(ENERO!AA165))","v":0},{"$f":"(SUM(ENERO!AB165))","v":0},null,null,null,null,null,null,null,{"$f":"(SUM(ENERO!AJ165))","v":0},{"$f":"(SUM(ENERO!AK165))","v":0}]
[null,null,null,null,null,null,null,null,null,null,null,null,null,"","",null,{"$f":"(SUM(ENERO!Q166))","v":0},{"$f":"(SUM(ENERO!R166))","v":0},{"$f":"(SUM(ENERO!S166))","v":0},{"$f":"(SUM(ENERO!T166))","v":0},{"$f":"(SUM(ENERO!U166))","v":0},{"$f":"(SUM(ENERO!V166))","v":0},{"$f":"(SUM(ENERO!W166))","v":0},{"$f":"(SUM(ENERO!X166))","v":0},{"$f":"(SUM(ENERO!Y166))","v":0},{"$f":"(SUM(ENERO!Z166))","v":0},{"$f":"(SUM(ENERO!AA166))","v":0},{"$f":"(SUM(ENERO!AB166))","v":0},null,null,null,null,null,null,null,{"$f":"(SUM(ENERO!AJ166))","v":0},{"$f":"(SUM(ENERO!AK166))","v":0}]
[null,null,null,null,null,null,null,null,null,null,null,null,null,"","",null,{"$f":"(SUM(ENERO!Q167))","v":0},{"$f":"(SUM(ENERO!R167))","v":0},{"$f":"(SUM(ENERO!S167))","v":0},{"$f":"(SUM(ENERO!T167))","v":0},{"$f":"(SUM(ENERO!U167))","v":0},{"$f":"(SUM(ENERO!V167))","v":0},{"$f":"(SUM(ENERO!W167))","v":0},{"$f":"(SUM(ENERO!X167))","v":0},{"$f":"(SUM(ENERO!Y167))","v":0},{"$f":"(SUM(ENERO!Z167))","v":0},{"$f":"(SUM(ENERO!AA167))","v":0},{"$f":"(SUM(ENERO!AB167))","v":0},null,null,null,null,null,null,null,{"$f":"(SUM(ENERO!AJ167))","v":0},{"$f":"(SUM(ENERO!AK167))","v":0}]
[null,null,null,null,null,null,null,null,null,null,null,null,null,"","",null,{"$f":"(SUM(ENERO!Q168))","v":0},{"$f":"(SUM(ENERO!R168))","v":0},{"$f":"(SUM(ENERO!S168))","v":0},{"$f":"(SUM(ENERO!T168))","v":0},{"$f":"(SUM(ENERO!U168))","v":0},{"$f":"(SUM(ENERO!V168))","v":0},{"$f":"(SUM(ENERO!W168))","v":0},{"$f":"(SUM(ENERO!X168))","v":0},{"$f":"(SUM(ENERO!Y168))","v":0},{"$f":"(SUM(ENERO!Z168))","v":0},{"$f":"(SUM(ENERO!AA168))","v":0},{"$f":"(SUM(ENERO!AB168))","v":0},null,null,null,null,null,null,null,{"$f":"(SUM(ENERO!AJ168))","v":0},{"$f":"(SUM(ENERO!AK168))","v":0}]
[null,null,null,null,null,null,null,null,null,{"$f":"J164=K169","v":true},{"$f":"SUM(K164:K168)","v":0},null,null,"","",null,null,null,null,null,null,null,null,null,null,null,null,null,null,null,{"$f":"IFERROR(AA167*100/(W167+AA167),0)","v":0},null,null,null,null,{"$f":"(SUM(ENERO!AJ169))","v":0},{"$f":"(SUM(ENERO!AK169))","v":0}]
["Inmunoglobulina antitetanica ",null,{"$f":"(SUM(ENERO!C170:C174))","v":0},{"$f":"(SUM(ENERO!D170:D174))","v":0},{"$f":"(SUM(ENERO!E170:E174))","v":0},{"$f":"(SUM(ENERO!F170:F174))","v":0},{"$f":"(SUM(ENERO!G170:G174))","v":0},{"$f":"(SUM(ENERO!H170:H174))","v":0},{"$f":"AC170","v":0},{"$f":"+(C170+D170+F170+E170)-(G170+H170+I170)+SUM(AJ170:AJ174)","v":0},null,null,null,"","",null,{"$f":"(SUM(ENERO!Q170:Q174))","v":0},{"$f":"(SUM(ENERO!R170:R174))","v":0},{"$f":"(SUM(ENERO!S170:S174))","v":0},{"$f":"(SUM(ENERO!T170:T174))","v":0},{"$f":"(SUM(ENERO!U170:U174))","v":0},{"$f":"(SUM(ENERO!V170:V174))","v":0},{"$f":"(SUM(ENERO!W170:W174))","v":0},{"$f":"(SUM(ENERO!X170:X174))","v":0},{"$f":"(SUM(ENERO!Y170:Y174))","v":0},{"$f":"(SUM(ENERO!Z170:Z174))","v":0},{"$f":"(SUM(ENERO!AA170:AA174))","v":0},{"$f":"(SUM(ENERO!AB170:AB174))","v":0},{"$f":"SUM(Q170:AB174)","v":0},null,null,null,null,{"$f":"+IF(AC170<>I170,1,0)","v":0},null,{"$f":"(SUM(ENERO!AJ170))","v":0},{"$f":"(SUM(ENERO!AK170))","v":0}]
[null,null,null,null,null,null,null,null,null,null,null,null,null,"","",null,{"$f":"(SUM(ENERO!Q171))","v":0},{"$f":"(SUM(ENERO!R171))","v":0},{"$f":"(SUM(ENERO!S171))","v":0},{"$f":"(SUM(ENERO!T171))","v":0},{"$f":"(SUM(ENERO!U171))","v":0},{"$f":"(SUM(ENERO!V171))","v":0},{"$f":"(SUM(ENERO!W171))","v":0},{"$f":"(SUM(ENERO!X171))","v":0},{"$f":"(SUM(ENERO!Y171))","v":0},{"$f":"(SUM(ENERO!Z171))","v":0},{"$f":"(SUM(ENERO!AA171))","v":0},{"$f":"(SUM(ENERO!AB171))","v":0},null,null,null,null,null,null,null,{"$f":"(SUM(ENERO!AJ171))","v":0},{"$f":"(SUM(ENERO!AK171))","v":0}]
[null,null,null,null,null,null,null,null,null,null,null,null,null,"","",null,{"$f":"(SUM(ENERO!Q172))","v":0},{"$f":"(SUM(ENERO!R172))","v":0},{"$f":"(SUM(ENERO!S172))","v":0},{"$f":"(SUM(ENERO!T172))","v":0},{"$f":"(SUM(ENERO!U172))","v":0},{"$f":"(SUM(ENERO!V172))","v":0},{"$f":"(SUM(ENERO!W172))","v":0},{"$f":"(SUM(ENERO!X172))","v":0},{"$f":"(SUM(ENERO!Y172))","v":0},{"$f":"(SUM(ENERO!Z172))","v":0},{"$f":"(SUM(ENERO!AA172))","v":0},{"$f":"(SUM(ENERO!AB172))","v":0},null,null,null,null,null,null,null,{"$f":"(SUM(ENERO!AJ172))","v":0},{"$f":"(SUM(ENERO!AK172))","v":0}]
[null,null,null,null,null,null,null,null,null,null,null,null,null,"","",null,{"$f":"(SUM(ENERO!Q173))","v":0},{"$f":"(SUM(ENERO!R173))","v":0},{"$f":"(SUM(ENERO!S173))","v":0},{"$f":"(SUM(ENERO!T173))","v":0},{"$f":"(SUM(ENERO!U173))","v":0},{"$f":"(SUM(ENERO!V173))","v":0},{"$f":"(SUM(ENERO!W173))","v":0},{"$f":"(SUM(ENERO!X173))","v":0},{"$f":"(SUM(ENERO!Y173))","v":0},{"$f":"(SUM(ENERO!Z173))","v":0},{"$f":"(SUM(ENERO!AA173))","v":0},{"$f":"(SUM(ENERO!AB173))","v":0},null,null,null,null,null,null,null,{"$f":"(SUM(ENERO!AJ173))","v":0},{"$f":"(SUM(ENERO!AK173))","v":0}]
[null,null,null,null,null,null,null,null,null,null,null,null,null,"","",null,{"$f":"(SUM(ENERO!Q174))","v":0},{"$f":"(SUM(ENERO!R174))","v":0},{"$f":"(SUM(ENERO!S174))","v":0},{"$f":"(SUM(ENERO!T174))","v":0},{"$f":"(SUM(ENERO!U174))","v":0},{"$f":"(SUM(ENERO!V174))","v":0},{"$f":"(SUM(ENERO!W174))","v":0},{"$f":"(SUM(ENERO!X174))","v":0},{"$f":"(SUM(ENERO!Y174))","v":0},{"$f":"(SUM(ENERO!Z174))","v":0},{"$f":"(SUM(ENERO!AA174))","v":0},{"$f":"(SUM(ENERO!AB174))","v":0},null,null,{"$f":"IFERROR(AA172*100/(W172+AA172),0)","v":0},null,null,null,null,{"$f":"(SUM(ENERO!AJ174))","v":0},{"$f":"(SUM(ENERO!AK174))","v":0}]
[null,null,null,null,null,null,null,null,null,{"$f":"J170=K175","v":true},{"$f":"SUM(K170:K174)","v":0},null,null,"","",null,null,null,null,null,null,null,null,null,null,null,null,null,null,null,null,null,null,null,null,{"$f":"(SUM(ENERO!AJ175))","v":0},{"$f":"(SUM(ENERO!AK175))","v":0}]
["Antitoxina difterica",null,{"$f":"(SUM(ENERO!C176:C180))","v":0},{"$f":"(SUM(ENERO!D176:D180))","v":0},{"$f":"(SUM(ENERO!E176:E180))","v":0},{"$f":"(SUM(ENERO!F176:F180))","v":0},{"$f":"(SUM(ENERO!G176:G180))","v":0},{"$f":"(SUM(ENERO!H176:H180))","v":0},{"$f":"AC176","v":0},{"$f":"+(C176+D176+F176+E176)-(G176+H176+I176)+SUM(AJ176:AJ180)","v":0},null,null,null,"","",null,{"$f":"(SUM(ENERO!Q176:Q180))","v":0},{"$f":"(SUM(ENERO!R176:R180))","v":0},{"$f":"(SUM(ENERO!S176:S180))","v":0},{"$f":"(SUM(ENERO!T176:T180))","v":0},{"$f":"(SUM(ENERO!U176:U180))","v":0},{"$f":"(SUM(ENERO!V176:V180))","v":0},{"$f":"(SUM(ENERO!W176:W180))","v":0},{"$f":"(SUM(ENERO!X176:X180))","v":0},{"$f":"(SUM(ENERO!Y176:Y180))","v":0},{"$f":"(SUM(ENERO!Z176:Z180))","v":0},{"$f":"(SUM(ENERO!AA176:AA180))","v":0},{"$f":"(SUM(ENERO!AB176:AB180))","v":0},{"$f":"SUM(Q176:AB180)","v":0},null,null,null,null,{"$f":"+IF(AC176<>I176,1,0)","v":0},null,{"$f":"(SUM(ENERO!AJ176))","v":0},{"$f":"(SUM(ENERO!AK176))","v":0}]
[null,null,null,null,null,null,null,null,null,null,null,null,null,"","",null,{"$f":"(SUM(ENERO!Q177))","v":0},{"$f":"(SUM(ENERO!R177))","v":0},{"$f":"(SUM(ENERO!S177))","v":0},{"$f":"(SUM(ENERO!T177))","v":0},{"$f":"(SUM(ENERO!U177))","v":0},{"$f":"(SUM(ENERO!V177))","v":0},{"$f":"(SUM(ENERO!W177))","v":0},{"$f":"(SUM(ENERO!X177))","v":0},{"$f":"(SUM(ENERO!Y177))","v":0},{"$f":"(SUM(ENERO!Z177))","v":0},{"$f":"(SUM(ENERO!AA177))","v":0},{"$f":"(SUM(ENERO!AB177))","v":0},null,null,null,null,null,null,null,{"$f":"(SUM(ENERO!AJ177))","v":0},{"$f":"(SUM(ENERO!AK177))","v":0}]
[null,null,null,null,null,null,null,null,null,null,null,null,null,"","",null,{"$f":"(SUM(ENERO!Q178))","v":0},{"$f":"(SUM(ENERO!R178))","v":0},{"$f":"(SUM(ENERO!S178))","v":0},{"$f":"(SUM(ENERO!T178))","v":0},{"$f":"(SUM(ENERO!U178))","v":0},{"$f":"(SUM(ENERO!V178))","v":0},{"$f":"(SUM(ENERO!W178))","v":0},{"$f":"(SUM(ENERO!X178))","v":0},{"$f":"(SUM(ENERO!Y178))","v":0},{"$f":"(SUM(ENERO!Z178))","v":0},{"$f":"(SUM(ENERO!AA178))","v":0},{"$f":"(SUM(ENERO!AB178))","v":0},null,null,null,null,null,null,null,{"$f":"(SUM(ENERO!AJ178))","v":0},{"$f":"(SUM(ENERO!AK178))","v":0}]
[null,null,null,null,null,null,null,null,null,null,null,null,null,"","",null,{"$f":"(SUM(ENERO!Q179))","v":0},{"$f":"(SUM(ENERO!R179))","v":0},{"$f":"(SUM(ENERO!S179))","v":0},{"$f":"(SUM(ENERO!T179))","v":0},{"$f":"(SUM(ENERO!U179))","v":0},{"$f":"(SUM(ENERO!V179))","v":0},{"$f":"(SUM(ENERO!W179))","v":0},{"$f":"(SUM(ENERO!X179))","v":0},{"$f":"(SUM(ENERO!Y179))","v":0},{"$f":"(SUM(ENERO!Z179))","v":0},{"$f":"(SUM(ENERO!AA179))","v":0},{"$f":"(SUM(ENERO!AB179))","v":0},null,null,null,null,null,null,null,{"$f":"(SUM(ENERO!AJ179))","v":0},{"$f":"(SUM(ENERO!AK179))","v":0}]
[null,null,null,null,null,null,null,null,null,null,null,null,null,"","",null,{"$f":"(SUM(ENERO!Q180))","v":0},{"$f":"(SUM(ENERO!R180))","v":0},{"$f":"(SUM(ENERO!S180))","v":0},{"$f":"(SUM(ENERO!T180))","v":0},{"$f":"(SUM(ENERO!U180))","v":0},{"$f":"(SUM(ENERO!V180))","v":0},{"$f":"(SUM(ENERO!W180))","v":0},{"$f":"(SUM(ENERO!X180))","v":0},{"$f":"(SUM(ENERO!Y180))","v":0},{"$f":"(SUM(ENERO!Z180))","v":0},{"$f":"(SUM(ENERO!AA180))","v":0},{"$f":"(SUM(ENERO!AB180))","v":0},null,null,{"$f":"IFERROR(AA178*100/(W178+AA178),0)","v":0},null,null,null,null,{"$f":"(SUM(ENERO!AJ180))","v":0},{"$f":"(SUM(ENERO!AK180))","v":0}]
[null,null,null,null,null,null,null,null,null,{"$f":"J176=K181","v":true},{"$f":"SUM(K176:K180)","v":0},null,null,"","",null,null,null,null,null,null,null,null,null,null,null,null,null,null,null,null,null,null,null,null,{"$f":"(SUM(ENERO!AJ181))","v":0},{"$f":"(SUM(ENERO!AK181))","v":0}]
["Meningococo",null,{"$f":"(SUM(ENERO!C182:C186))","v":0},{"$f":"(SUM(ENERO!D182:D186))","v":0},{"$f":"(SUM(ENERO!E182:E186))","v":0},{"$f":"(SUM(ENERO!F182:F186))","v":0},{"$f":"(SUM(ENERO!G182:G186))","v":0},{"$f":"(SUM(ENERO!H182:H186))","v":0},{"$f":"AC182","v":0},{"$f":"+(C182+D182+F182+E182)-(G182+H182+I182)+SUM(AJ182:AJ186)","v":0},null,null,null,"","",null,{"$f":"(SUM(ENERO!Q182:Q186))","v":0},{"$f":"(SUM(ENERO!R182:R186))","v":0},{"$f":"(SUM(ENERO!S182:S186))","v":0},{"$f":"(SUM(ENERO!T182:T186))","v":0},{"$f":"(SUM(ENERO!U182:U186))","v":0},{"$f":"(SUM(ENERO!V182:V186))","v":0},{"$f":"(SUM(ENERO!W182:W186))","v":0},{"$f":"(SUM(ENERO!X182:X186))","v":0},{"$f":"(SUM(ENERO!Y182:Y186))","v":0},{"$f":"(SUM(ENERO!Z182:Z186))","v":0},{"$f":"(SUM(ENERO!AA182:AA186))","v":0},{"$f":"(SUM(ENERO!AB182:AB186))","v":0},{"$f":"SUM(Q182:AB186)","v":0},null,null,null,null,{"$f":"+IF(AC182<>I182,1,0)","v":0},null,{"$f":"(SUM(ENERO!AJ182))","v":0},{"$f":"(SUM(ENERO!AK182))","v":0}]
[null,null,null,null,null,null,null,null,null,null,null,null,null,"","",null,{"$f":"(SUM(ENERO!Q183))","v":0},{"$f":"(SUM(ENERO!R183))","v":0},{"$f":"(SUM(ENERO!S183))","v":0},{"$f":"(SUM(ENERO!T183))","v":0},{"$f":"(SUM(ENERO!U183))","v":0},{"$f":"(SUM(ENERO!V183))","v":0},{"$f":"(SUM(ENERO!W183))","v":0},{"$f":"(SUM(ENERO!X183))","v":0},{"$f":"(SUM(ENERO!Y183))","v":0},{"$f":"(SUM(ENERO!Z183))","v":0},{"$f":"(SUM(ENERO!AA183))","v":0},{"$f":"(SUM(ENERO!AB183))","v":0},null,null,null,null,null,null,null,{"$f":"(SUM(ENERO!AJ183))","v":0},{"$f":"(SUM(ENERO!AK183))","v":0}]
[null,null,null,null,null,null,null,null,null,null,null,null,null,"","",null,{"$f":"(SUM(ENERO!Q184))","v":0},{"$f":"(SUM(ENERO!R184))","v":0},{"$f":"(SUM(ENERO!S184))","v":0},{"$f":"(SUM(ENERO!T184))","v":0},{"$f":"(SUM(ENERO!U184))","v":0},{"$f":"(SUM(ENERO!V184))","v":0},{"$f":"(SUM(ENERO!W184))","v":0},{"$f":"(SUM(ENERO!X184))","v":0},{"$f":"(SUM(ENERO!Y184))","v":0},{"$f":"(SUM(ENERO!Z184))","v":0},{"$f":"(SUM(ENERO!AA184))","v":0},{"$f":"(SUM(ENERO!AB184))","v":0},null,null,null,null,null,null,null,{"$f":"(SUM(ENERO!AJ184))","v":0},{"$f":"(SUM(ENERO!AK184))","v":0}]
[null,null,null,null,null,null,null,null,null,null,null,null,null,"","",null,{"$f":"(SUM(ENERO!Q185))","v":0},{"$f":"(SUM(ENERO!R185))","v":0},{"$f":"(SUM(ENERO!S185))","v":0},{"$f":"(SUM(ENERO!T185))","v":0},{"$f":"(SUM(ENERO!U185))","v":0},{"$f":"(SUM(ENERO!V185))","v":0},{"$f":"(SUM(ENERO!W185))","v":0},{"$f":"(SUM(ENERO!X185))","v":0},{"$f":"(SUM(ENERO!Y185))","v":0},{"$f":"(SUM(ENERO!Z185))","v":0},{"$f":"(SUM(ENERO!AA185))","v":0},{"$f":"(SUM(ENERO!AB185))","v":0},null,null,{"$f":"IFERROR(AA183*100/(W183+AA183),0)","v":0},null,null,null,null,{"$f":"(SUM(ENERO!AJ185))","v":0},{"$f":"(SUM(ENERO!AK185))","v":0}]
[null,null,null,null,null,null,null,null,null,null,null,null,null,"","",null,{"$f":"(SUM(ENERO!Q186))","v":0},{"$f":"(SUM(ENERO!R186))","v":0},{"$f":"(SUM(ENERO!S186))","v":0},{"$f":"(SUM(ENERO!T186))","v":0},{"$f":"(SUM(ENERO!U186))","v":0},{"$f":"(SUM(ENERO!V186))","v":0},{"$f":"(SUM(ENERO!W186))","v":0},{"$f":"(SUM(ENERO!X186))","v":0},{"$f":"(SUM(ENERO!Y186))","v":0},{"$f":"(SUM(ENERO!Z186))","v":0},{"$f":"(SUM(ENERO!AA186))","v":0},{"$f":"(SUM(ENERO!AB186))","v":0},null,null,null,null,null,null,null,{"$f":"(SUM(ENERO!AJ186))","v":0},{"$f":"(SUM(ENERO!AK186))","v":0}]
[null,null,null,null,null,null,null,null,null,{"$f":"J182=K187","v":true},{"$f":"SUM(K182:K186)","v":0},null,null,"","",null,null,null,null,null,null,null,null,null,null,null,null,null,null,null,null,null,null,null,null,{"$f":"(SUM(ENERO!AJ187))","v":0},{"$f":"(SUM(ENERO!AK187))","v":0}]
["DILUYENTES",null,null,null,null,null,null,null,null,null,null,null,null,"","",null,null,null,null,null,null,null,null,null,null,null,null,null,null,null,null,null,null,null,null,{"$f":"(SUM(ENERO!AJ188))","v":0},{"$f":"(SUM(ENERO!AK188))","v":0}]
["BCG (diluyente)",null,{"$f":"(SUM(ENERO!C189:C193))","v":0},{"$f":"(SUM(ENERO!D189:D193))","v":0},{"$f":"(SUM(ENERO!E189:E193))","v":0},{"$f":"(SUM(ENERO!F189:F193))","v":0},{"$f":"(SUM(ENERO!G189:G193))","v":0},{"$f":"(SUM(ENERO!H189:H193))","v":0},{"$f":"AC189","v":0},{"$f":"+(C189+D189+F189+E189)-(G189+H189+I189)+SUM(AJ189:AJ193)","v":0},null,null,null,"","",null,{"$f":"(SUM(ENERO!Q189:Q193))","v":0},{"$f":"(SUM(ENERO!R189:R193))","v":0},{"$f":"(SUM(ENERO!S189:S193))","v":0},{"$f":"(SUM(ENERO!T189:T193))","v":0},{"$f":"(SUM(ENERO!U189:U193))","v":0},{"$f":"(SUM(ENERO!V189:V193))","v":0},{"$f":"(SUM(ENERO!W189:W193))","v":0},{"$f":"(SUM(ENERO!X189:X193))","v":0},{"$f":"(SUM(ENERO!Y189:Y193))","v":0},{"$f":"(SUM(ENERO!Z189:Z193))","v":0},{"$f":"(SUM(ENERO!AA189:AA193))","v":0},{"$f":"(SUM(ENERO!AB189:AB193))","v":0},{"$f":"SUM(Q189:AB193)","v":0},null,null,null,null,{"$f":"+IF(AC189<>I189,1,0)","v":0},null,{"$f":"(SUM(ENERO!AJ189))","v":0},{"$f":"(SUM(ENERO!AK189))","v":0}]
[null,null,null,null,null,null,null,null,null,null,null,null,null,"","",null,{"$f":"(SUM(ENERO!Q190))","v":0},{"$f":"(SUM(ENERO!R190))","v":0},{"$f":"(SUM(ENERO!S190))","v":0},{"$f":"(SUM(ENERO!T190))","v":0},{"$f":"(SUM(ENERO!U190))","v":0},{"$f":"(SUM(ENERO!V190))","v":0},{"$f":"(SUM(ENERO!W190))","v":0},{"$f":"(SUM(ENERO!X190))","v":0},{"$f":"(SUM(ENERO!Y190))","v":0},{"$f":"(SUM(ENERO!Z190))","v":0},{"$f":"(SUM(ENERO!AA190))","v":0},{"$f":"(SUM(ENERO!AB190))","v":0},null,null,null,null,null,null,null,{"$f":"(SUM(ENERO!AJ190))","v":0},{"$f":"(SUM(ENERO!AK190))","v":0}]
[null,null,null,null,null,null,null,null,null,null,null,null,null,"","",null,{"$f":"(SUM(ENERO!Q191))","v":0},{"$f":"(SUM(ENERO!R191))","v":0},{"$f":"(SUM(ENERO!S191))","v":0},{"$f":"(SUM(ENERO!T191))","v":0},{"$f":"(SUM(ENERO!U191))","v":0},{"$f":"(SUM(ENERO!V191))","v":0},{"$f":"(SUM(ENERO!W191))","v":0},{"$f":"(SUM(ENERO!X191))","v":0},{"$f":"(SUM(ENERO!Y191))","v":0},{"$f":"(SUM(ENERO!Z191))","v":0},{"$f":"(SUM(ENERO!AA191))","v":0},{"$f":"(SUM(ENERO!AB191))","v":0},null,null,{"$f":"IFERROR(AA189*100/(W189+AA189),0)","v":0},null,null,null,null,{"$f":"(SUM(ENERO!AJ191))","v":0},{"$f":"(SUM(ENERO!AK191))","v":0}]
[null,null,null,null,null,null,null,null,null,null,null,null,null,"","",null,{"$f":"(SUM(ENERO!Q192))","v":0},{"$f":"(SUM(ENERO!R192))","v":0},{"$f":"(SUM(ENERO!S192))","v":0},{"$f":"(SUM(ENERO!T192))","v":0},{"$f":"(SUM(ENERO!U192))","v":0},{"$f":"(SUM(ENERO!V192))","v":0},{"$f":"(SUM(ENERO!W192))","v":0},{"$f":"(SUM(ENERO!X192))","v":0},{"$f":"(SUM(ENERO!Y192))","v":0},{"$f":"(SUM(ENERO!Z192))","v":0},{"$f":"(SUM(ENERO!AA192))","v":0},{"$f":"(SUM(ENERO!AB192))","v":0},null,null,null,null,null,null,null,{"$f":"(SUM(ENERO!AJ192))","v":0},{"$f":"(SUM(ENERO!AK192))","v":0}]
[null,null,null,null,null,null,null,null,null,null,null,null,null,"","",null,{"$f":"(SUM(ENERO!Q193))","v":0},{"$f":"(SUM(ENERO!R193))","v":0},{"$f":"(SUM(ENERO!S193))","v":0},{"$f":"(SUM(ENERO!T193))","v":0},{"$f":"(SUM(ENERO!U193))","v":0},{"$f":"(SUM(ENERO!V193))","v":0},{"$f":"(SUM(ENERO!W193))","v":0},{"$f":"(SUM(ENERO!X193))","v":0},{"$f":"(SUM(ENERO!Y193))","v":0},{"$f":"(SUM(ENERO!Z193))","v":0},{"$f":"(SUM(ENERO!AA193))","v":0},{"$f":"(SUM(ENERO!AB193))","v":0},null,null,null,null,null,null,null,{"$f":"(SUM(ENERO!AJ193))","v":0},{"$f":"(SUM(ENERO!AK193))","v":0}]
[null,null,null,null,null,null,null,null,null,{"$f":"J189=K194","v":true},{"$f":"SUM(K189:K193)","v":0},null,null,"","",null,null,null,null,null,null,null,null,null,null,null,null,null,null,null,null,null,null,null,null,{"$f":"(SUM(ENERO!AJ194))","v":0},{"$f":"(SUM(ENERO!AK194))","v":0}]
["Triple viral - SRP (diluyente)",null,{"$f":"(SUM(ENERO!C195:C199))","v":0},{"$f":"(SUM(ENERO!D195:D199))","v":0},{"$f":"(SUM(ENERO!E195:E199))","v":0},{"$f":"(SUM(ENERO!F195:F199))","v":0},{"$f":"(SUM(ENERO!G195:G199))","v":0},{"$f":"(SUM(ENERO!H195:H199))","v":0},{"$f":"AC195","v":0},{"$f":"+(C195+D195+F195+E195)-(G195+H195+I195)+SUM(AJ195:AJ199)","v":0},null,null,null,"","",null,{"$f":"(SUM(ENERO!Q195:Q199))","v":0},{"$f":"(SUM(ENERO!R195:R199))","v":0},{"$f":"(SUM(ENERO!S195:S199))","v":0},{"$f":"(SUM(ENERO!T195:T199))","v":0},{"$f":"(SUM(ENERO!U195:U199))","v":0},{"$f":"(SUM(ENERO!V195:V199))","v":0},{"$f":"(SUM(ENERO!W195:W199))","v":0},{"$f":"(SUM(ENERO!X195:X199))","v":0},{"$f":"(SUM(ENERO!Y195:Y199))","v":0},{"$f":"(SUM(ENERO!Z195:Z199))","v":0},{"$f":"(SUM(ENERO!AA195:AA199))","v":0},{"$f":"(SUM(ENERO!AB195:AB199))","v":0},{"$f":"SUM(Q195:AB199)","v":0},null,null,null,null,{"$f":"+IF(AC195<>I195,1,0)","v":0},null,{"$f":"(SUM(ENERO!AJ195))","v":0},{"$f":"(SUM(ENERO!AK195))","v":0}]
[null,null,null,null,null,null,null,null,null,null,null,null,null,"","",null,{"$f":"(SUM(ENERO!Q196))","v":0},{"$f":"(SUM(ENERO!R196))","v":0},{"$f":"(SUM(ENERO!S196))","v":0},{"$f":"(SUM(ENERO!T196))","v":0},{"$f":"(SUM(ENERO!U196))","v":0},{"$f":"(SUM(ENERO!V196))","v":0},{"$f":"(SUM(ENERO!W196))","v":0},{"$f":"(SUM(ENERO!X196))","v":0},{"$f":"(SUM(ENERO!Y196))","v":0},{"$f":"(SUM(ENERO!Z196))","v":0},{"$f":"(SUM(ENERO!AA196))","v":0},{"$f":"(SUM(ENERO!AB196))","v":0},null,null,{"$f":"IFERROR(AA194*100/(W194+AA194),0)","v":0},null,null,null,null,{"$f":"(SUM(ENERO!AJ196))","v":0},{"$f":"(SUM(ENERO!AK196))","v":0}]
[null,null,null,null,null,null,null,null,null,null,null,null,null,"","",null,{"$f":"(SUM(ENERO!Q197))","v":0},{"$f":"(SUM(ENERO!R197))","v":0},{"$f":"(SUM(ENERO!S197))","v":0},{"$f":"(SUM(ENERO!T197))","v":0},{"$f":"(SUM(ENERO!U197))","v":0},{"$f":"(SUM(ENERO!V197))","v":0},{"$f":"(SUM(ENERO!W197))","v":0},{"$f":"(SUM(ENERO!X197))","v":0},{"$f":"(SUM(ENERO!Y197))","v":0},{"$f":"(SUM(ENERO!Z197))","v":0},{"$f":"(SUM(ENERO!AA197))","v":0},{"$f":"(SUM(ENERO!AB197))","v":0},null,null,null,null,null,null,null,{"$f":"(SUM(ENERO!AJ197))","v":0},{"$f":"(SUM(ENERO!AK197))","v":0}]
[null,null,null,null,null,null,null,null,null,null,null,null,null,"","",null,{"$f":"(SUM(ENERO!Q198))","v":0},{"$f":"(SUM(ENERO!R198))","v":0},{"$f":"(SUM(ENERO!S198))","v":0},{"$f":"(SUM(ENERO!T198))","v":0},{"$f":"(SUM(ENERO!U198))","v":0},{"$f":"(SUM(ENERO!V198))","v":0},{"$f":"(SUM(ENERO!W198))","v":0},{"$f":"(SUM(ENERO!X198))","v":0},{"$f":"(SUM(ENERO!Y198))","v":0},{"$f":"(SUM(ENERO!Z198))","v":0},{"$f":"(SUM(ENERO!AA198))","v":0},{"$f":"(SUM(ENERO!AB198))","v":0},null,null,null,null,null,null,null,{"$f":"(SUM(ENERO!AJ198))","v":0},{"$f":"(SUM(ENERO!AK198))","v":0}]
[null,null,null,null,null,null,null,null,null,null,null,null,null,"","",null,{"$f":"(SUM(ENERO!Q199))","v":0},{"$f":"(SUM(ENERO!R199))","v":0},{"$f":"(SUM(ENERO!S199))","v":0},{"$f":"(SUM(ENERO!T199))","v":0},{"$f":"(SUM(ENERO!U199))","v":0},{"$f":"(SUM(ENERO!V199))","v":0},{"$f":"(SUM(ENERO!W199))","v":0},{"$f":"(SUM(ENERO!X199))","v":0},{"$f":"(SUM(ENERO!Y199))","v":0},{"$f":"(SUM(ENERO!Z199))","v":0},{"$f":"(SUM(ENERO!AA199))","v":0},{"$f":"(SUM(ENERO!AB199))","v":0},null,null,null,null,null,null,null,{"$f":"(SUM(ENERO!AJ199))","v":0},{"$f":"(SUM(ENERO!AK199))","v":0}]
[null,null,null,null,null,null,null,null,null,{"$f":"J195=K200","v":true},{"$f":"SUM(K195:K199)","v":0},null,null,"","",null,null,null,null,null,null,null,null,null,null,null,null,null,null,null,null,null,null,null,null,{"$f":"(SUM(ENERO!AJ200))","v":0},{"$f":"(SUM(ENERO!AK200))","v":0}]
["Sarampión - Rubeola - SR (diluyente)",null,{"$f":"(SUM(ENERO!C201:C205))","v":0},{"$f":"(SUM(ENERO!D201:D205))","v":0},{"$f":"(SUM(ENERO!E201:E205))","v":0},{"$f":"(SUM(ENERO!F201:F205))","v":0},{"$f":"(SUM(ENERO!G201:G205))","v":0},{"$f":"(SUM(ENERO!H201:H205))","v":0},{"$f":"AC201","v":0},0,null,null,null,"","",null,{"$f":"(SUM(ENERO!Q201:Q205))","v":0},{"$f":"(SUM(ENERO!R201:R205))","v":0},{"$f":"(SUM(ENERO!S201:S205))","v":0},{"$f":"(SUM(ENERO!T201:T205))","v":0},{"$f":"(SUM(ENERO!U201:U205))","v":0},{"$f":"(SUM(ENERO!V201:V205))","v":0},{"$f":"(SUM(ENERO!W201:W205))","v":0},{"$f":"(SUM(ENERO!X201:X205))","v":0},{"$f":"(SUM(ENERO!Y201:Y205))","v":0},{"$f":"(SUM(ENERO!Z201:Z205))","v":0},{"$f":"(SUM(ENERO!AA201:AA205))","v":0},{"$f":"(SUM(ENERO!AB201:AB205))","v":0},{"$f":"SUM(Q201:AB205)","v":0},null,null,null,null,{"$f":"+IF(AC201<>I201,1,0)","v":0},null,{"$f":"(SUM(ENERO!AJ201))","v":0},{"$f":"(SUM(ENERO!AK201))","v":0}]
[null,null,null,null,null,null,null,null,null,null,null,null,null,"","",null,{"$f":"(SUM(ENERO!Q202))","v":0},{"$f":"(SUM(ENERO!R202))","v":0},{"$f":"(SUM(ENERO!S202))","v":0},{"$f":"(SUM(ENERO!T202))","v":0},{"$f":"(SUM(ENERO!U202))","v":0},{"$f":"(SUM(ENERO!V202))","v":0},{"$f":"(SUM(ENERO!W202))","v":0},{"$f":"(SUM(ENERO!X202))","v":0},{"$f":"(SUM(ENERO!Y202))","v":0},{"$f":"(SUM(ENERO!Z202))","v":0},{"$f":"(SUM(ENERO!AA202))","v":0},{"$f":"(SUM(ENERO!AB202))","v":0},null,null,{"$f":"IFERROR(AA200*100/(W200+AA200),0)","v":0},null,null,null,null,{"$f":"(SUM(ENERO!AJ202))","v":0},{"$f":"(SUM(ENERO!AK202))","v":0}]
[null,null,null,null,null,null,null,null,null,null,null,null,null,"","",null,{"$f":"(SUM(ENERO!Q203))","v":0},{"$f":"(SUM(ENERO!R203))","v":0},{"$f":"(SUM(ENERO!S203))","v":0},{"$f":"(SUM(ENERO!T203))","v":0},{"$f":"(SUM(ENERO!U203))","v":0},{"$f":"(SUM(ENERO!V203))","v":0},{"$f":"(SUM(ENERO!W203))","v":0},{"$f":"(SUM(ENERO!X203))","v":0},{"$f":"(SUM(ENERO!Y203))","v":0},{"$f":"(SUM(ENERO!Z203))","v":0},{"$f":"(SUM(ENERO!AA203))","v":0},{"$f":"(SUM(ENERO!AB203))","v":0},null,null,null,null,null,null,null,{"$f":"(SUM(ENERO!AJ203))","v":0},{"$f":"(SUM(ENERO!AK203))","v":0}]
[null,null,null,null,null,null,null,null,null,null,null,null,null,"","",null,{"$f":"(SUM(ENERO!Q204))","v":0},{"$f":"(SUM(ENERO!R204))","v":0},{"$f":"(SUM(ENERO!S204))","v":0},{"$f":"(SUM(ENERO!T204))","v":0},{"$f":"(SUM(ENERO!U204))","v":0},{"$f":"(SUM(ENERO!V204))","v":0},{"$f":"(SUM(ENERO!W204))","v":0},{"$f":"(SUM(ENERO!X204))","v":0},{"$f":"(SUM(ENERO!Y204))","v":0},{"$f":"(SUM(ENERO!Z204))","v":0},{"$f":"(SUM(ENERO!AA204))","v":0},{"$f":"(SUM(ENERO!AB204))","v":0},null,null,null,null,null,null,null,{"$f":"(SUM(ENERO!AJ204))","v":0},{"$f":"(SUM(ENERO!AK204))","v":0}]
[null,null,null,null,null,null,null,null,null,null,null,null,null,"","",null,{"$f":"(SUM(ENERO!Q205))","v":0},{"$f":"(SUM(ENERO!R205))","v":0},{"$f":"(SUM(ENERO!S205))","v":0},{"$f":"(SUM(ENERO!T205))","v":0},{"$f":"(SUM(ENERO!U205))","v":0},{"$f":"(SUM(ENERO!V205))","v":0},{"$f":"(SUM(ENERO!W205))","v":0},{"$f":"(SUM(ENERO!X205))","v":0},{"$f":"(SUM(ENERO!Y205))","v":0},{"$f":"(SUM(ENERO!Z205))","v":0},{"$f":"(SUM(ENERO!AA205))","v":0},{"$f":"(SUM(ENERO!AB205))","v":0},null,null,null,null,null,null,null,{"$f":"(SUM(ENERO!AJ205))","v":0},{"$f":"(SUM(ENERO!AK205))","v":0}]
[null,null,null,null,null,null,null,null,null,{"$f":"J201=K206","v":true},{"$f":"SUM(K201:K205)","v":0},null,null,"","",null,null,null,null,null,null,null,null,null,null,null,null,null,null,null,null,null,null,null,null,{"$f":"(SUM(ENERO!AJ206))","v":0},{"$f":"(SUM(ENERO!AK206))","v":0}]
["Fiebre amarilla (diluyente)",null,{"$f":"(SUM(ENERO!C207:C211))","v":0},{"$f":"(SUM(ENERO!D207:D211))","v":0},{"$f":"(SUM(ENERO!E207:E211))","v":0},{"$f":"(SUM(ENERO!F207:F211))","v":0},{"$f":"(SUM(ENERO!G207:G211))","v":0},{"$f":"(SUM(ENERO!H207:H211))","v":0},{"$f":"AC207","v":0},0,null,null,null,"","",null,{"$f":"(SUM(ENERO!Q207:Q211))","v":0},{"$f":"(SUM(ENERO!R207:R211))","v":0},{"$f":"(SUM(ENERO!S207:S211))","v":0},{"$f":"(SUM(ENERO!T207:T211))","v":0},{"$f":"(SUM(ENERO!U207:U211))","v":0},{"$f":"(SUM(ENERO!V207:V211))","v":0},{"$f":"(SUM(ENERO!W207:W211))","v":0},{"$f":"(SUM(ENERO!X207:X211))","v":0},{"$f":"(SUM(ENERO!Y207:Y211))","v":0},{"$f":"(SUM(ENERO!Z207:Z211))","v":0},{"$f":"(SUM(ENERO!AA207:AA211))","v":0},{"$f":"(SUM(ENERO!AB207:AB211))","v":0},{"$f":"SUM(Q207:AB211)","v":0},null,{"$f":"IFERROR(AA205*100/(W205+AA205),0)","v":0},null,null,{"$f":"+IF(AC207<>I207,1,0)","v":0},null,{"$f":"(SUM(ENERO!AJ207))","v":0},{"$f":"(SUM(ENERO!AK207))","v":0}]
[null,null,null,null,null,null,null,null,null,null,null,null,null,"","",null,{"$f":"(SUM(ENERO!Q208))","v":0},{"$f":"(SUM(ENERO!R208))","v":0},{"$f":"(SUM(ENERO!S208))","v":0},{"$f":"(SUM(ENERO!T208))","v":0},{"$f":"(SUM(ENERO!U208))","v":0},{"$f":"(SUM(ENERO!V208))","v":0},{"$f":"(SUM(ENERO!W208))","v":0},{"$f":"(SUM(ENERO!X208))","v":0},{"$f":"(SUM(ENERO!Y208))","v":0},{"$f":"(SUM(ENERO!Z208))","v":0},{"$f":"(SUM(ENERO!AA208))","v":0},{"$f":"(SUM(ENERO!AB208))","v":0},null,null,null,null,null,null,null,{"$f":"(SUM(ENERO!AJ208))","v":0},{"$f":"(SUM(ENERO!AK208))","v":0}]
[null,null,null,null,null,null,null,null,null,null,null,null,null,{"$f":"IFERROR(IF(DATEDIF(TODAY(),M209,\"M\")<=6,\"ROJO\",IF(DATEDIF(TODAY(),M209,\"M\")>=12,\"VERDE\",IF(AND(DATEDIF(TODAY(),M209,\"M\")>6,DATEDIF(TODAY(),M209,\"M\")<=11),\"AMARILLO\",IF(M209<TODAY(),\"VENCIDO\",0)))),O209)","v":""},"",null,{"$f":"(SUM(ENERO!Q209))","v":0},{"$f":"(SUM(ENERO!R209))","v":0},{"$f":"(SUM(ENERO!S209))","v":0},{"$f":"(SUM(ENERO!T209))","v":0},{"$f":"(SUM(ENERO!U209))","v":0},{"$f":"(SUM(ENERO!V209))","v":0},{"$f":"(SUM(ENERO!W209))","v":0},{"$f":"(SUM(ENERO!X209))","v":0},{"$f":"(SUM(ENERO!Y209))","v":0},{"$f":"(SUM(ENERO!Z209))","v":0},{"$f":"(SUM(ENERO!AA209))","v":0},{"$f":"(SUM(ENERO!AB209))","v":0},null,null,null,null,null,null,null,{"$f":"(SUM(ENERO!AJ209))","v":0},{"$f":"(SUM(ENERO!AK209))","v":0}]
[null,null,null,null,null,null,null,null,null,null,null,null,null,"","",null,{"$f":"(SUM(ENERO!Q210))","v":0},{"$f":"(SUM(ENERO!R210))","v":0},{"$f":"(SUM(ENERO!S210))","v":0},{"$f":"(SUM(ENERO!T210))","v":0},{"$f":"(SUM(ENERO!U210))","v":0},{"$f":"(SUM(ENERO!V210))","v":0},{"$f":"(SUM(ENERO!W210))","v":0},{"$f":"(SUM(ENERO!X210))","v":0},{"$f":"(SUM(ENERO!Y210))","v":0},{"$f":"(SUM(ENERO!Z210))","v":0},{"$f":"(SUM(ENERO!AA210))","v":0},{"$f":"(SUM(ENERO!AB210))","v":0},null,null,null,null,null,null,null,{"$f":"(SUM(ENERO!AJ210))","v":0},{"$f":"(SUM(ENERO!AK210))","v":0}]
[null,null,null,null,null,null,null,null,null,null,null,null,null,"","",null,{"$f":"(SUM(ENERO!Q211))","v":0},{"$f":"(SUM(ENERO!R211))","v":0},{"$f":"(SUM(ENERO!S211))","v":0},{"$f":"(SUM(ENERO!T211))","v":0},{"$f":"(SUM(ENERO!U211))","v":0},{"$f":"(SUM(ENERO!V211))","v":0},{"$f":"(SUM(ENERO!W211))","v":0},{"$f":"(SUM(ENERO!X211))","v":0},{"$f":"(SUM(ENERO!Y211))","v":0},{"$f":"(SUM(ENERO!Z211))","v":0},{"$f":"(SUM(ENERO!AA211))","v":0},{"$f":"(SUM(ENERO!AB211))","v":0},null,null,null,null,null,null,null,{"$f":"(SUM(ENERO!AJ211))","v":0},{"$f":"(SUM(ENERO!AK211))","v":0}]
[null,null,null,null,null,null,null,null,null,{"$f":"J207=K212","v":true},{"$f":"SUM(K207:K211)","v":0},null,null,"","",null,null,null,null,null,null,null,null,null,null,null,null,null,null,null,null,null,null,null,null,{"$f":"(SUM(ENERO!AJ212))","v":0},{"$f":"(SUM(ENERO!AK212))","v":0}]
["Varicela (diluyente)",null,{"$f":"(SUM(ENERO!C213:C217))","v":0},{"$f":"(SUM(ENERO!D213:D217))","v":0},{"$f":"(SUM(ENERO!E213:E217))","v":0},{"$f":"(SUM(ENERO!F213:F217))","v":0},{"$f":"(SUM(ENERO!G213:G217))","v":0},{"$f":"(SUM(ENERO!H213:H217))","v":0},{"$f":"AC213","v":0},0,null,null,null,"",{"$f":"IF(M213=0,\"\",\"VENCIDO\")","v":""},null,{"$f":"(SUM(ENERO!Q213:Q217))","v":0},{"$f":"(SUM(ENERO!R213:R217))","v":0},{"$f":"(SUM(ENERO!S213:S217))","v":0},{"$f":"(SUM(ENERO!T213:T217))","v":0},{"$f":"(SUM(ENERO!U213:U217))","v":0},{"$f":"(SUM(ENERO!V213:V217))","v":0},{"$f":"(SUM(ENERO!W213:W217))","v":0},{"$f":"(SUM(ENERO!X213:X217))","v":0},{"$f":"(SUM(ENERO!Y213:Y217))","v":0},{"$f":"(SUM(ENERO!Z213:Z217))","v":0},{"$f":"(SUM(ENERO!AA213:AA217))","v":0},{"$f":"(SUM(ENERO!AB213:AB217))","v":0},{"$f":"SUM(Q213:AB217)","v":0},null,{"$f":"IFERROR(AA211*100/(W211+AA211),0)","v":0},null,null,{"$f":"+IF(AC213<>I213,1,0)","v":0},null,{"$f":"(SUM(ENERO!AJ213))","v":0},{"$f":"(SUM(ENERO!AK213))","v":0}]
[null,null,null,null,null,null,null,null,null,null,null,null,null,"","",null,{"$f":"(SUM(ENERO!Q214))","v":0},{"$f":"(SUM(ENERO!R214))","v":0},{"$f":"(SUM(ENERO!S214))","v":0},{"$f":"(SUM(ENERO!T214))","v":0},{"$f":"(SUM(ENERO!U214))","v":0},{"$f":"(SUM(ENERO!V214))","v":0},{"$f":"(SUM(ENERO!W214))","v":0},{"$f":"(SUM(ENERO!X214))","v":0},{"$f":"(SUM(ENERO!Y214))","v":0},{"$f":"(SUM(ENERO!Z214))","v":0},{"$f":"(SUM(ENERO!AA214))","v":0},{"$f":"(SUM(ENERO!AB214))","v":0},null,null,null,null,null,null,null,{"$f":"(SUM(ENERO!AJ214))","v":0},{"$f":"(SUM(ENERO!AK214))","v":0}]
[null,null,null,null,null,null,null,null,null,null,null,null,null,"","",null,{"$f":"(SUM(ENERO!Q215))","v":0},{"$f":"(SUM(ENERO!R215))","v":0},{"$f":"(SUM(ENERO!S215))","v":0},{"$f":"(SUM(ENERO!T215))","v":0},{"$f":"(SUM(ENERO!U215))","v":0},{"$f":"(SUM(ENERO!V215))","v":0},{"$f":"(SUM(ENERO!W215))","v":0},{"$f":"(SUM(ENERO!X215))","v":0},{"$f":"(SUM(ENERO!Y215))","v":0},{"$f":"(SUM(ENERO!Z215))","v":0},{"$f":"(SUM(ENERO!AA215))","v":0},{"$f":"(SUM(ENERO!AB215))","v":0},null,null,null,null,null,null,null,{"$f":"(SUM(ENERO!AJ215))","v":0},{"$f":"(SUM(ENERO!AK215))","v":0}]
[null,null,null,null,null,null,null,null,null,null,null,null,null,"","",null,{"$f":"(SUM(ENERO!Q216))","v":0},{"$f":"(SUM(ENERO!R216))","v":0},{"$f":"(SUM(ENERO!S216))","v":0},{"$f":"(SUM(ENERO!T216))","v":0},{"$f":"(SUM(ENERO!U216))","v":0},{"$f":"(SUM(ENERO!V216))","v":0},{"$f":"(SUM(ENERO!W216))","v":0},{"$f":"(SUM(ENERO!X216))","v":0},{"$f":"(SUM(ENERO!Y216))","v":0},{"$f":"(SUM(ENERO!Z216))","v":0},{"$f":"(SUM(ENERO!AA216))","v":0},{"$f":"(SUM(ENERO!AB216))","v":0},null,null,null,null,null,null,null,{"$f":"(SUM(ENERO!AJ216))","v":0},{"$f":"(SUM(ENERO!AK216))","v":0}]
[null,null,null,null,null,null,null,null,null,null,null,null,null,"","",null,{"$f":"(SUM(ENERO!Q217))","v":0},{"$f":"(SUM(ENERO!R217))","v":0},{"$f":"(SUM(ENERO!S217))","v":0},{"$f":"(SUM(ENERO!T217))","v":0},{"$f":"(SUM(ENERO!U217))","v":0},{"$f":"(SUM(ENERO!V217))","v":0},{"$f":"(SUM(ENERO!W217))","v":0},{"$f":"(SUM(ENERO!X217))","v":0},{"$f":"(SUM(ENERO!Y217))","v":0},{"$f":"(SUM(ENERO!Z217))","v":0},{"$f":"(SUM(ENERO!AA217))","v":0},{"$f":"(SUM(ENERO!AB217))","v":0},null,null,null,null,null,null,null,{"$f":"(SUM(ENERO!AJ217))","v":0},{"$f":"(SUM(ENERO!AK217))","v":0}]
[null,null,null,null,null,null,null,null,null,{"$f":"J213=K218","v":true},{"$f":"SUM(K213:K217)","v":0},null,null,"","",null,null,null,null,null,null,null,null,null,null,null,null,null,null,null,null,null,null,null,null,{"$f":"(SUM(ENERO!AJ218))","v":0},{"$f":"(SUM(ENERO!AK218))","v":0}]
["Antirrabica humana (diluyente)",null,{"$f":"(SUM(ENERO!C219:C223))","v":0},{"$f":"(SUM(ENERO!D219:D223))","v":0},{"$f":"(SUM(ENERO!E219:E223))","v":0},{"$f":"(SUM(ENERO!F219:F223))","v":0},{"$f":"(SUM(ENERO!G219:G223))","v":0},{"$f":"(SUM(ENERO!H219:H223))","v":0},{"$f":"AC219","v":0},0,null,null,null,"","",null,{"$f":"(SUM(ENERO!Q219:Q223))","v":0},{"$f":"(SUM(ENERO!R219:R223))","v":0},{"$f":"(SUM(ENERO!S219:S223))","v":0},{"$f":"(SUM(ENERO!T219:T223))","v":0},{"$f":"(SUM(ENERO!U219:U223))","v":0},{"$f":"(SUM(ENERO!V219:V223))","v":0},{"$f":"(SUM(ENERO!W219:W223))","v":0},{"$f":"(SUM(ENERO!X219:X223))","v":0},{"$f":"(SUM(ENERO!Y219:Y223))","v":0},{"$f":"(SUM(ENERO!Z219:Z223))","v":0},{"$f":"(SUM(ENERO!AA219:AA223))","v":0},{"$f":"(SUM(ENERO!AB219:AB223))","v":0},{"$f":"SUM(Q219:AB223)","v":0},null,null,null,null,{"$f":"+IF(AC219<>I219,1,0)","v":0},null,{"$f":"(SUM(ENERO!AJ219))","v":0},{"$f":"(SUM(ENERO!AK219))","v":0}]
[null,null,null,null,null,null,null,null,null,null,null,null,null,"","",null,{"$f":"(SUM(ENERO!Q220))","v":0},{"$f":"(SUM(ENERO!R220))","v":0},{"$f":"(SUM(ENERO!S220))","v":0},{"$f":"(SUM(ENERO!T220))","v":0},{"$f":"(SUM(ENERO!U220))","v":0},{"$f":"(SUM(ENERO!V220))","v":0},{"$f":"(SUM(ENERO!W220))","v":0},{"$f":"(SUM(ENERO!X220))","v":0},{"$f":"(SUM(ENERO!Y220))","v":0},{"$f":"(SUM(ENERO!Z220))","v":0},{"$f":"(SUM(ENERO!AA220))","v":0},{"$f":"(SUM(ENERO!AB220))","v":0},null,null,null,null,null,null,null,{"$f":"(SUM(ENERO!AJ220))","v":0},{"$f":"(SUM(ENERO!AK220))","v":0}]
[null,null,null,null,null,null,null,null,null,null,null,null,null,"","",null,{"$f":"(SUM(ENERO!Q221))","v":0},{"$f":"(SUM(ENERO!R221))","v":0},{"$f":"(SUM(ENERO!S221))","v":0},{"$f":"(SUM(ENERO!T221))","v":0},{"$f":"(SUM(ENERO!U221))","v":0},{"$f":"(SUM(ENERO!V221))","v":0},{"$f":"(SUM(ENERO!W221))","v":0},{"$f":"(SUM(ENERO!X221))","v":0},{"$f":"(SUM(ENERO!Y221))","v":0},{"$f":"(SUM(ENERO!Z221))","v":0},{"$f":"(SUM(ENERO!AA221))","v":0},{"$f":"(SUM(ENERO!AB221))","v":0},null,null,null,null,null,null,null,{"$f":"(SUM(ENERO!AJ221))","v":0},{"$f":"(SUM(ENERO!AK221))","v":0}]
[null,null,null,null,null,null,null,null,null,null,null,null,null,"","",null,{"$f":"(SUM(ENERO!Q222))","v":0},{"$f":"(SUM(ENERO!R222))","v":0},{"$f":"(SUM(ENERO!S222))","v":0},{"$f":"(SUM(ENERO!T222))","v":0},{"$f":"(SUM(ENERO!U222))","v":0},{"$f":"(SUM(ENERO!V222))","v":0},{"$f":"(SUM(ENERO!W222))","v":0},{"$f":"(SUM(ENERO!X222))","v":0},{"$f":"(SUM(ENERO!Y222))","v":0},{"$f":"(SUM(ENERO!Z222))","v":0},{"$f":"(SUM(ENERO!AA222))","v":0},{"$f":"(SUM(ENERO!AB222))","v":0},null,null,null,null,null,null,null,{"$f":"(SUM(ENERO!AJ222))","v":0},{"$f":"(SUM(ENERO!AK222))","v":0}]
[null,null,null,null,null,null,null,null,null,null,null,null,null,"","",null,{"$f":"(SUM(ENERO!Q223))","v":0},{"$f":"(SUM(ENERO!R223))","v":0},{"$f":"(SUM(ENERO!S223))","v":0},{"$f":"(SUM(ENERO!T223))","v":0},{"$f":"(SUM(ENERO!U223))","v":0},{"$f":"(SUM(ENERO!V223))","v":0},{"$f":"(SUM(ENERO!W223))","v":0},{"$f":"(SUM(ENERO!X223))","v":0},{"$f":"(SUM(ENERO!Y223))","v":0},{"$f":"(SUM(ENERO!Z223))","v":0},{"$f":"(SUM(ENERO!AA223))","v":0},{"$f":"(SUM(ENERO!AB223))","v":0},null,null,null,null,null,null,null,{"$f":"(SUM(ENERO!AJ223))","v":0},{"$f":"(SUM(ENERO!AK223))","v":0}]
[null,null,null,null,null,null,null,null,null,{"$f":"J219=K224","v":true},{"$f":"SUM(K219:K223)","v":0},null,null,"","",null,null,null,null,null,null,null,null,null,null,null,null,null,null,null,null,null,null,null,null,{"$f":"(SUM(ENERO!AJ224))","v":0},{"$f":"(SUM(ENERO!AK224))","v":0}]
["Meningococo (solvente)",null,{"$f":"(SUM(ENERO!C225:C229))","v":0},{"$f":"(SUM(ENERO!D225:D229))","v":0},{"$f":"(SUM(ENERO!E225:E229))","v":0},{"$f":"(SUM(ENERO!F225:F229))","v":0},{"$f":"(SUM(ENERO!G225:G229))","v":0},{"$f":"(SUM(ENERO!H225:H229))","v":0},{"$f":"AC225","v":0},0,null,null,null,"","",null,{"$f":"(SUM(ENERO!Q225:Q229))","v":0},{"$f":"(SUM(ENERO!R225:R229))","v":0},{"$f":"(SUM(ENERO!S225:S229))","v":0},{"$f":"(SUM(ENERO!T225:T229))","v":0},{"$f":"(SUM(ENERO!U225:U229))","v":0},{"$f":"(SUM(ENERO!V225:V229))","v":0},{"$f":"(SUM(ENERO!W225:W229))","v":0},{"$f":"(SUM(ENERO!X225:X229))","v":0},{"$f":"(SUM(ENERO!Y225:Y229))","v":0},{"$f":"(SUM(ENERO!Z225:Z229))","v":0},{"$f":"(SUM(ENERO!AA225:AA229))","v":0},{"$f":"(SUM(ENERO!AB225:AB229))","v":0},{"$f":"SUM(Q225:AB229)","v":0},null,null,null,null,{"$f":"+IF(AC225<>I225,1,0)","v":0},null,{"$f":"(SUM(ENERO!AJ225))","v":0},{"$f":"(SUM(ENERO!AK225))","v":0}]
[null,null,null,null,null,null,null,null,null,null,null,null,null,"","",null,{"$f":"(SUM(ENERO!Q226))","v":0},{"$f":"(SUM(ENERO!R226))","v":0},{"$f":"(SUM(ENERO!S226))","v":0},{"$f":"(SUM(ENERO!T226))","v":0},{"$f":"(SUM(ENERO!U226))","v":0},{"$f":"(SUM(ENERO!V226))","v":0},{"$f":"(SUM(ENERO!W226))","v":0},{"$f":"(SUM(ENERO!X226))","v":0},{"$f":"(SUM(ENERO!Y226))","v":0},{"$f":"(SUM(ENERO!Z226))","v":0},{"$f":"(SUM(ENERO!AA226))","v":0},{"$f":"(SUM(ENERO!AB226))","v":0},null,null,null,null,null,null,null,{"$f":"(SUM(ENERO!AJ226))","v":0},{"$f":"(SUM(ENERO!AK226))","v":0}]
[null,null,null,null,null,null,null,null,null,null,null,null,null,"","",null,{"$f":"(SUM(ENERO!Q227))","v":0},{"$f":"(SUM(ENERO!R227))","v":0},{"$f":"(SUM(ENERO!S227))","v":0},{"$f":"(SUM(ENERO!T227))","v":0},{"$f":"(SUM(ENERO!U227))","v":0},{"$f":"(SUM(ENERO!V227))","v":0},{"$f":"(SUM(ENERO!W227))","v":0},{"$f":"(SUM(ENERO!X227))","v":0},{"$f":"(SUM(ENERO!Y227))","v":0},{"$f":"(SUM(ENERO!Z227))","v":0},{"$f":"(SUM(ENERO!AA227))","v":0},{"$f":"(SUM(ENERO!AB227))","v":0},null,null,null,null,null,null,null,{"$f":"(SUM(ENERO!AJ227))","v":0},{"$f":"(SUM(ENERO!AK227))","v":0}]
[null,null,null,null,null,null,null,null,null,null,null,null,null,"","",null,{"$f":"(SUM(ENERO!Q228))","v":0},{"$f":"(SUM(ENERO!R228))","v":0},{"$f":"(SUM(ENERO!S228))","v":0},{"$f":"(SUM(ENERO!T228))","v":0},{"$f":"(SUM(ENERO!U228))","v":0},{"$f":"(SUM(ENERO!V228))","v":0},{"$f":"(SUM(ENERO!W228))","v":0},{"$f":"(SUM(ENERO!X228))","v":0},{"$f":"(SUM(ENERO!Y228))","v":0},{"$f":"(SUM(ENERO!Z228))","v":0},{"$f":"(SUM(ENERO!AA228))","v":0},{"$f":"(SUM(ENERO!AB228))","v":0},null,null,null,null,null,null,null,{"$f":"(SUM(ENERO!AJ228))","v":0},{"$f":"(SUM(ENERO!AK228))","v":0}]
[null,null,null,null,null,null,null,null,null,null,null,null,null,"","",null,{"$f":"(SUM(ENERO!Q229))","v":0},{"$f":"(SUM(ENERO!R229))","v":0},{"$f":"(SUM(ENERO!S229))","v":0},{"$f":"(SUM(ENERO!T229))","v":0},{"$f":"(SUM(ENERO!U229))","v":0},{"$f":"(SUM(ENERO!V229))","v":0},{"$f":"(SUM(ENERO!W229))","v":0},{"$f":"(SUM(ENERO!X229))","v":0},{"$f":"(SUM(ENERO!Y229))","v":0},{"$f":"(SUM(ENERO!Z229))","v":0},{"$f":"(SUM(ENERO!AA229))","v":0},{"$f":"(SUM(ENERO!AB229))","v":0},null,null,null,null,null,null,null,{"$f":"(SUM(ENERO!AJ229))","v":0},{"$f":"(SUM(ENERO!AK229))","v":0}]
[null,null,null,null,null,null,null,null,null,{"$f":"J225=K230","v":true},{"$f":"SUM(K225:K229)","v":0},null,null,{"$f":"IFERROR(IF(DATEDIF(TODAY(),M230,\"M\")<=6,\"ROJO\",IF(DATEDIF(TODAY(),M230,\"M\")>=12,\"VERDE\",IF(AND(DATEDIF(TODAY(),M230,\"M\")>6,DATEDIF(TODAY(),M230,\"M\")<=11),\"AMARILLO\",IF(M230<TODAY(),\"VENCIDO\",0)))),O230)","v":""},"",null,null,null,null,null,null,null,null,null,null,null,null,null,null,null,null,null,null,null,null,{"$f":"(SUM(ENERO!AJ230))","v":0},{"$f":"(SUM(ENERO!AK230))","v":0}]
["JERINGAS",null,null,null,null,null,null,null,null,null,null,null,null,null,"",null,null,null,null,null,null,null,null,null,null,null,null,null,null,null,null,null,null,null,null,{"$f":"(SUM(ENERO!AJ231))","v":0},{"$f":"(SUM(ENERO!AK231))","v":0}]
["Jeringa Desechable 22G1 1/2\" AD",null,{"$f":"(SUM(ENERO!C232:C238))","v":0},{"$f":"(SUM(ENERO!D232:D238))","v":0},{"$f":"(SUM(ENERO!E232:E238))","v":0},{"$f":"(SUM(ENERO!F232:F238))","v":0},{"$f":"(SUM(ENERO!G232:G238))","v":0},{"$f":"(SUM(ENERO!H232:H238))","v":0},{"$f":"+AC232","v":0},{"$f":"+(C232+D232+F232+E232)-(G232+H232+I232)+SUM(AJ232:AJ236)","v":0},null,null,null,{"$f":"IFERROR(IF(DATEDIF(TODAY(),M232,\"M\")<=6,\"ROJO\",IF(DATEDIF(TODAY(),M232,\"M\")>=12,\"VERDE\",IF(AND(DATEDIF(TODAY(),M232,\"M\")>6,DATEDIF(TODAY(),M232,\"M\")<=11),\"AMARILLO\",IF(M232<TODAY(),\"VENCIDO\",0)))),O232)","v":""},"",null,{"$f":"(SUM(ENERO!Q232:Q238))","v":0},{"$f":"(SUM(ENERO!R232:R238))","v":0},{"$f":"(SUM(ENERO!S232:S238))","v":0},{"$f":"(SUM(ENERO!T232:T238))","v":0},{"$f":"(SUM(ENERO!U232:U238))","v":0},{"$f":"(SUM(ENERO!V232:V238))","v":0},{"$f":"(SUM(ENERO!W232:W238))","v":0},{"$f":"(SUM(ENERO!X232:X238))","v":0},{"$f":"(SUM(ENERO!Y232:Y238))","v":0},{"$f":"(SUM(ENERO!Z232:Z238))","v":0},{"$f":"(SUM(ENERO!AA232:AA238))","v":0},{"$f":"(SUM(ENERO!AB232:AB238))","v":0},{"$f":"SUM(Q232:AB238)","v":0},null,null,null,null,{"$f":"+IF(AC232<>I232,1,0)","v":0},null,{"$f":"(SUM(ENERO!AJ232))","v":0},{"$f":"(SUM(ENERO!AK232))","v":0}]
[null,null,null,null,null,null,null,null,null,null,null,null,null,"","",null,null,null,null,null,null,null,null,null,null,null,null,null,null,null,null,null,null,null,null,{"$f":"(SUM(ENERO!AJ233))","v":0},{"$f":"(SUM(ENERO!AK233))","v":0}]
[null,null,null,null,null,null,null,null,null,null,null,null,null,"","",null,null,null,null,null,null,null,null,null,null,null,null,null,null,null,null,null,null,null,null,{"$f":"(SUM(ENERO!AJ234))","v":0},{"$f":"(SUM(ENERO!AK234))","v":0}]
[null,null,null,null,null,null,null,null,null,null,null,null,null,"","",null,null,null,null,null,null,null,null,null,null,null,null,null,null,null,null,null,null,null,null,{"$f":"(SUM(ENERO!AJ235))","v":0},{"$f":"(SUM(ENERO!AK235))","v":0}]
[null,null,null,null,null,null,null,null,null,null,null,null,null,"","",null,null,null,null,null,null,null,null,null,null,null,null,null,null,null,null,null,null,null,null,{"$f":"(SUM(ENERO!AJ236))","v":0},{"$f":"(SUM(ENERO!AK236))","v":0}]
[null,null,null,null,null,null,null,null,null,null,null,null,null,"","",null,null,null,null,null,null,null,null,null,null,null,null,null,null,null,null,null,null,null,null,{"$f":"(SUM(ENERO!AJ237))","v":0},{"$f":"(SUM(ENERO!AK237))","v":0}]
[null,null,null,null,null,null,null,null,null,null,null,null,null,"","",null,null,null,null,null,null,null,null,null,null,null,null,null,null,null,null,null,null,null,null,{"$f":"(SUM(ENERO!AJ238))","v":0},{"$f":"(SUM(ENERO!AK238))","v":0}]
[null,null,null,null,null,null,null,null,null,{"$f":"J232=K239","v":true},{"$f":"SUM(K232:K238)","v":0},null,null,"","",null,null,null,null,null,null,null,null,null,null,null,null,null,null,null,null,null,null,null,null,{"$f":"(SUM(ENERO!AJ239))","v":0},{"$f":"(SUM(ENERO!AK239))","v":0}]
["Jeringa Desechable 22G1 1/2\" Convencional",null,{"$f":"(SUM(ENERO!C240:C244))","v":0},{"$f":"(SUM(ENERO!D240:D244))","v":0},{"$f":"(SUM(ENERO!E240:E244))","v":0},{"$f":"(SUM(ENERO!F240:F244))","v":0},{"$f":"(SUM(ENERO!G240:G244))","v":0},{"$f":"(SUM(ENERO!H240:H244))","v":0},{"$f":"AC240","v":0},{"$f":"+(C240+D240+F240+E240)-(G240+H240+I240)+SUM(AJ240:AJ244)","v":0},null,null,null,"","",null,{"$f":"(SUM(ENERO!Q240:Q244))","v":0},{"$f":"(SUM(ENERO!R240:R244))","v":0},{"$f":"(SUM(ENERO!S240:S244))","v":0},{"$f":"(SUM(ENERO!T240:T244))","v":0},{"$f":"(SUM(ENERO!U240:U244))","v":0},{"$f":"(SUM(ENERO!V240:V244))","v":0},{"$f":"(SUM(ENERO!W240:W244))","v":0},{"$f":"(SUM(ENERO!X240:X244))","v":0},{"$f":"(SUM(ENERO!Y240:Y244))","v":0},{"$f":"(SUM(ENERO!Z240:Z244))","v":0},{"$f":"(SUM(ENERO!AA240:AA244))","v":0},{"$f":"(SUM(ENERO!AB240:AB244))","v":0},{"$f":"SUM(Q240:AB244)","v":0},null,null,null,null,{"$f":"+IF(AC240<>I240,1,0)","v":0},null,{"$f":"(SUM(ENERO!AJ240))","v":0},{"$f":"(SUM(ENERO!AK240))","v":0}]
[null,null,null,null,null,null,null,null,null,null,null,null,null,"","",null,{"$f":"(SUM(ENERO!Q241))","v":0},{"$f":"(SUM(ENERO!R241))","v":0},{"$f":"(SUM(ENERO!S241))","v":0},{"$f":"(SUM(ENERO!T241))","v":0},{"$f":"(SUM(ENERO!U241))","v":0},{"$f":"(SUM(ENERO!V241))","v":0},{"$f":"(SUM(ENERO!W241))","v":0},{"$f":"(SUM(ENERO!X241))","v":0},{"$f":"(SUM(ENERO!Y241))","v":0},{"$f":"(SUM(ENERO!Z241))","v":0},{"$f":"(SUM(ENERO!AA241))","v":0},{"$f":"(SUM(ENERO!AB241))","v":0},null,null,null,null,null,null,null,{"$f":"(SUM(ENERO!AJ241))","v":0},{"$f":"(SUM(ENERO!AK241))","v":0}]
[null,null,null,null,null,null,null,null,null,null,null,null,null,"","",null,{"$f":"(SUM(ENERO!Q242))","v":0},{"$f":"(SUM(ENERO!R242))","v":0},{"$f":"(SUM(ENERO!S242))","v":0},{"$f":"(SUM(ENERO!T242))","v":0},{"$f":"(SUM(ENERO!U242))","v":0},{"$f":"(SUM(ENERO!V242))","v":0},{"$f":"(SUM(ENERO!W242))","v":0},{"$f":"(SUM(ENERO!X242))","v":0},{"$f":"(SUM(ENERO!Y242))","v":0},{"$f":"(SUM(ENERO!Z242))","v":0},{"$f":"(SUM(ENERO!AA242))","v":0},{"$f":"(SUM(ENERO!AB242))","v":0},null,null,null,null,null,null,null,{"$f":"(SUM(ENERO!AJ242))","v":0},{"$f":"(SUM(ENERO!AK242))","v":0}]
[null,null,null,null,null,null,null,null,null,null,null,null,null,"","",null,{"$f":"(SUM(ENERO!Q243))","v":0},{"$f":"(SUM(ENERO!R243))","v":0},{"$f":"(SUM(ENERO!S243))","v":0},{"$f":"(SUM(ENERO!T243))","v":0},{"$f":"(SUM(ENERO!U243))","v":0},{"$f":"(SUM(ENERO!V243))","v":0},{"$f":"(SUM(ENERO!W243))","v":0},{"$f":"(SUM(ENERO!X243))","v":0},{"$f":"(SUM(ENERO!Y243))","v":0},{"$f":"(SUM(ENERO!Z243))","v":0},{"$f":"(SUM(ENERO!AA243))","v":0},{"$f":"(SUM(ENERO!AB243))","v":0},null,null,null,null,null,null,null,{"$f":"(SUM(ENERO!AJ243))","v":0},{"$f":"(SUM(ENERO!AK243))","v":0}]
[null,null,null,null,null,null,null,null,null,null,null,null,null,"","",null,{"$f":"(SUM(ENERO!Q244))","v":0},{"$f":"(SUM(ENERO!R244))","v":0},{"$f":"(SUM(ENERO!S244))","v":0},{"$f":"(SUM(ENERO!T244))","v":0},{"$f":"(SUM(ENERO!U244))","v":0},{"$f":"(SUM(ENERO!V244))","v":0},{"$f":"(SUM(ENERO!W244))","v":0},{"$f":"(SUM(ENERO!X244))","v":0},{"$f":"(SUM(ENERO!Y244))","v":0},{"$f":"(SUM(ENERO!Z244))","v":0},{"$f":"(SUM(ENERO!AA244))","v":0},{"$f":"(SUM(ENERO!AB244))","v":0},null,null,null,null,null,null,null,{"$f":"(SUM(ENERO!AJ244))","v":0},{"$f":"(SUM(ENERO!AK244))","v":0}]
[null,null,null,null,null,null,null,null,null,{"$f":"J240=K245","v":true},null,null,null,"","",null,null,null,null,null,null,null,null,null,null,null,null,null,null,null,null,null,null,null,null,{"$f":"(SUM(ENERO!AJ245))","v":0},{"$f":"(SUM(ENERO!AK245))","v":0}]
["Jeringa Desechable 23G1\" AD",null,{"$f":"(SUM(ENERO!C246:C250))","v":0},{"$f":"(SUM(ENERO!D246:D250))","v":0},{"$f":"(SUM(ENERO!E246:E250))","v":0},{"$f":"(SUM(ENERO!F246:F250))","v":0},{"$f":"(SUM(ENERO!G246:G250))","v":0},{"$f":"(SUM(ENERO!H246:H250))","v":0},{"$f":"AC246","v":0},{"$f":"+(C246+D246+F246+E246)-(G246+H246+I246)+SUM(AJ246:AJ250)","v":0},null,null,null,"","",null,{"$f":"(SUM(ENERO!Q246:Q250))","v":0},{"$f":"(SUM(ENERO!R246:R250))","v":0},{"$f":"(SUM(ENERO!S246:S250))","v":0},{"$f":"(SUM(ENERO!T246:T250))","v":0},{"$f":"(SUM(ENERO!U246:U250))","v":0},{"$f":"(SUM(ENERO!V246:V250))","v":0},{"$f":"(SUM(ENERO!W246:W250))","v":0},{"$f":"(SUM(ENERO!X246:X250))","v":0},{"$f":"(SUM(ENERO!Y246:Y250))","v":0},{"$f":"(SUM(ENERO!Z246:Z250))","v":0},{"$f":"(SUM(ENERO!AA246:AA250))","v":0},{"$f":"(SUM(ENERO!AB246:AB250))","v":0},{"$f":"SUM(Q246:AB250)","v":0},null,null,null,null,{"$f":"+IF(AC246<>I246,1,0)","v":0},null,{"$f":"(SUM(ENERO!AJ246))","v":0},{"$f":"(SUM(ENERO!AK246))","v":0}]
[null,null,null,null,null,null,null,null,null,null,null,null,null,"","",null,{"$f":"(SUM(ENERO!Q247))","v":0},{"$f":"(SUM(ENERO!R247))","v":0},{"$f":"(SUM(ENERO!S247))","v":0},{"$f":"(SUM(ENERO!T247))","v":0},{"$f":"(SUM(ENERO!U247))","v":0},{"$f":"(SUM(ENERO!V247))","v":0},{"$f":"(SUM(ENERO!W247))","v":0},{"$f":"(SUM(ENERO!X247))","v":0},{"$f":"(SUM(ENERO!Y247))","v":0},{"$f":"(SUM(ENERO!Z247))","v":0},{"$f":"(SUM(ENERO!AA247))","v":0},{"$f":"(SUM(ENERO!AB247))","v":0},null,null,null,null,null,null,null,{"$f":"(SUM(ENERO!AJ247))","v":0},{"$f":"(SUM(ENERO!AK247))","v":0}]
[null,null,null,null,null,null,null,null,null,null,null,null,null,"","",null,{"$f":"(SUM(ENERO!Q248))","v":0},{"$f":"(SUM(ENERO!R248))","v":0},{"$f":"(SUM(ENERO!S248))","v":0},{"$f":"(SUM(ENERO!T248))","v":0},{"$f":"(SUM(ENERO!U248))","v":0},{"$f":"(SUM(ENERO!V248))","v":0},{"$f":"(SUM(ENERO!W248))","v":0},{"$f":"(SUM(ENERO!X248))","v":0},{"$f":"(SUM(ENERO!Y248))","v":0},{"$f":"(SUM(ENERO!Z248))","v":0},{"$f":"(SUM(ENERO!AA248))","v":0},{"$f":"(SUM(ENERO!AB248))","v":0},null,null,null,null,null,null,null,{"$f":"(SUM(ENERO!AJ248))","v":0},{"$f":"(SUM(ENERO!AK248))","v":0}]
[null,null,null,null,null,null,null,null,null,null,null,null,null,"","",null,{"$f":"(SUM(ENERO!Q249))","v":0},{"$f":"(SUM(ENERO!R249))","v":0},{"$f":"(SUM(ENERO!S249))","v":0},{"$f":"(SUM(ENERO!T249))","v":0},{"$f":"(SUM(ENERO!U249))","v":0},{"$f":"(SUM(ENERO!V249))","v":0},{"$f":"(SUM(ENERO!W249))","v":0},{"$f":"(SUM(ENERO!X249))","v":0},{"$f":"(SUM(ENERO!Y249))","v":0},{"$f":"(SUM(ENERO!Z249))","v":0},{"$f":"(SUM(ENERO!AA249))","v":0},{"$f":"(SUM(ENERO!AB249))","v":0},null,null,null,null,null,null,null,{"$f":"(SUM(ENERO!AJ249))","v":0},{"$f":"(SUM(ENERO!AK249))","v":0}]
[null,null,null,null,null,null,null,null,null,null,null,null,null,"","",null,{"$f":"(SUM(ENERO!Q250))","v":0},{"$f":"(SUM(ENERO!R250))","v":0},{"$f":"(SUM(ENERO!S250))","v":0},{"$f":"(SUM(ENERO!T250))","v":0},{"$f":"(SUM(ENERO!U250))","v":0},{"$f":"(SUM(ENERO!V250))","v":0},{"$f":"(SUM(ENERO!W250))","v":0},{"$f":"(SUM(ENERO!X250))","v":0},{"$f":"(SUM(ENERO!Y250))","v":0},{"$f":"(SUM(ENERO!Z250))","v":0},{"$f":"(SUM(ENERO!AA250))","v":0},{"$f":"(SUM(ENERO!AB250))","v":0},null,null,null,null,null,null,null,{"$f":"(SUM(ENERO!AJ250))","v":0},{"$f":"(SUM(ENERO!AK250))","v":0}]
[null,null,null,null,null,null,null,null,null,{"$f":"J246=K251","v":true},{"$f":"SUM(K246:K250)","v":0},null,null,"","",null,null,null,null,null,null,null,null,null,null,null,null,null,null,null,null,null,null,null,null,{"$f":"(SUM(ENERO!AJ251))","v":0},{"$f":"(SUM(ENERO!AK251))","v":0}]
["Jeringa Desechable 23G1\" Convencional",null,{"$f":"(SUM(ENERO!C252:C256))","v":0},{"$f":"(SUM(ENERO!D252:D256))","v":0},{"$f":"(SUM(ENERO!E252:E256))","v":0},{"$f":"(SUM(ENERO!F252:F256))","v":0},{"$f":"(SUM(ENERO!G252:G256))","v":0},{"$f":"(SUM(ENERO!H252:H256))","v":0},{"$f":"AC252","v":0},{"$f":"+(C252+D252+F252+E252)-(G252+H252+I252)+SUM(AJ252:AJ256)","v":0},null,null,null,"","",null,{"$f":"(SUM(ENERO!Q252:Q256))","v":0},{"$f":"(SUM(ENERO!R252:R256))","v":0},{"$f":"(SUM(ENERO!S252:S256))","v":0},{"$f":"(SUM(ENERO!T252:T256))","v":0},{"$f":"(SUM(ENERO!U252:U256))","v":0},{"$f":"(SUM(ENERO!V252:V256))","v":0},{"$f":"(SUM(ENERO!W252:W256))","v":0},{"$f":"(SUM(ENERO!X252:X256))","v":0},{"$f":"(SUM(ENERO!Y252:Y256))","v":0},{"$f":"(SUM(ENERO!Z252:Z256))","v":0},{"$f":"(SUM(ENERO!AA252:AA256))","v":0},{"$f":"(SUM(ENERO!AB252:AB256))","v":0},{"$f":"SUM(Q252:AB256)","v":0},null,null,null,null,{"$f":"+IF(AC252<>I252,1,0)","v":0},null,{"$f":"(SUM(ENERO!AJ252))","v":0},{"$f":"(SUM(ENERO!AK252))","v":0}]
[null,null,null,null,null,null,null,null,null,null,null,null,null,"","",null,{"$f":"(SUM(ENERO!Q253))","v":0},{"$f":"(SUM(ENERO!R253))","v":0},{"$f":"(SUM(ENERO!S253))","v":0},{"$f":"(SUM(ENERO!T253))","v":0},{"$f":"(SUM(ENERO!U253))","v":0},{"$f":"(SUM(ENERO!V253))","v":0},{"$f":"(SUM(ENERO!W253))","v":0},{"$f":"(SUM(ENERO!X253))","v":0},{"$f":"(SUM(ENERO!Y253))","v":0},{"$f":"(SUM(ENERO!Z253))","v":0},{"$f":"(SUM(ENERO!AA253))","v":0},{"$f":"(SUM(ENERO!AB253))","v":0},null,null,null,null,null,null,null,{"$f":"(SUM(ENERO!AJ253))","v":0},{"$f":"(SUM(ENERO!AK253))","v":0}]
[null,null,null,null,null,null,null,null,null,null,null,null,null,"","",null,{"$f":"(SUM(ENERO!Q254))","v":0},{"$f":"(SUM(ENERO!R254))","v":0},{"$f":"(SUM(ENERO!S254))","v":0},{"$f":"(SUM(ENERO!T254))","v":0},{"$f":"(SUM(ENERO!U254))","v":0},{"$f":"(SUM(ENERO!V254))","v":0},{"$f":"(SUM(ENERO!W254))","v":0},{"$f":"(SUM(ENERO!X254))","v":0},{"$f":"(SUM(ENERO!Y254))","v":0},{"$f":"(SUM(ENERO!Z254))","v":0},{"$f":"(SUM(ENERO!AA254))","v":0},{"$f":"(SUM(ENERO!AB254))","v":0},null,null,null,null,null,null,null,{"$f":"(SUM(ENERO!AJ254))","v":0},{"$f":"(SUM(ENERO!AK254))","v":0}]
[null,null,null,null,null,null,null,null,null,null,null,null,null,"","",null,{"$f":"(SUM(ENERO!Q255))","v":0},{"$f":"(SUM(ENERO!R255))","v":0},{"$f":"(SUM(ENERO!S255))","v":0},{"$f":"(SUM(ENERO!T255))","v":0},{"$f":"(SUM(ENERO!U255))","v":0},{"$f":"(SUM(ENERO!V255))","v":0},{"$f":"(SUM(ENERO!W255))","v":0},{"$f":"(SUM(ENERO!X255))","v":0},{"$f":"(SUM(ENERO!Y255))","v":0},{"$f":"(SUM(ENERO!Z255))","v":0},{"$f":"(SUM(ENERO!AA255))","v":0},{"$f":"(SUM(ENERO!AB255))","v":0},null,null,null,null,null,null,null,{"$f":"(SUM(ENERO!AJ255))","v":0},{"$f":"(SUM(ENERO!AK255))","v":0}]
[null,null,null,null,null,null,null,null,null,null,null,null,null,"","",null,{"$f":"(SUM(ENERO!Q256))","v":0},{"$f":"(SUM(ENERO!R256))","v":0},{"$f":"(SUM(ENERO!S256))","v":0},{"$f":"(SUM(ENERO!T256))","v":0},{"$f":"(SUM(ENERO!U256))","v":0},{"$f":"(SUM(ENERO!V256))","v":0},{"$f":"(SUM(ENERO!W256))","v":0},{"$f":"(SUM(ENERO!X256))","v":0},{"$f":"(SUM(ENERO!Y256))","v":0},{"$f":"(SUM(ENERO!Z256))","v":0},{"$f":"(SUM(ENERO!AA256))","v":0},{"$f":"(SUM(ENERO!AB256))","v":0},null,null,null,null,null,null,null,{"$f":"(SUM(ENERO!AJ256))","v":0},{"$f":"(SUM(ENERO!AK256))","v":0}]
[null,null,null,null,null,null,null,null,null,{"$f":"J252=K257","v":true},{"$f":"SUM(K252:K256)","v":0},null,null,"","",null,null,null,null,null,null,null,null,null,null,null,null,null,null,null,null,null,null,null,null,{"$f":"(SUM(ENERO!AJ257))","v":0},{"$f":"(SUM(ENERO!AK257))","v":0}]
["Jeringa Desechable 25G5/8\" AD",null,{"$f":"(SUM(ENERO!C258:C263))","v":0},{"$f":"(SUM(ENERO!D258:D263))","v":0},{"$f":"(SUM(ENERO!E258:E263))","v":0},{"$f":"(SUM(ENERO!F258:F263))","v":0},{"$f":"(SUM(ENERO!G258:G263))","v":0},{"$f":"(SUM(ENERO!H258:H263))","v":0},{"$f":"AC258","v":0},{"$f":"+(C258+D258+F258+E258)-(G258+H258+I258)+SUM(AJ258:AJ262)","v":0},null,null,null,"","",null,{"$f":"(SUM(ENERO!Q258:Q263))","v":0},{"$f":"(SUM(ENERO!R258:R263))","v":0},{"$f":"(SUM(ENERO!S258:S263))","v":0},{"$f":"(SUM(ENERO!T258:T263))","v":0},{"$f":"(SUM(ENERO!U258:U263))","v":0},{"$f":"(SUM(ENERO!V258:V263))","v":0},{"$f":"(SUM(ENERO!W258:W263))","v":0},{"$f":"(SUM(ENERO!X258:X263))","v":0},{"$f":"(SUM(ENERO!Y258:Y263))","v":0},{"$f":"(SUM(ENERO!Z258:Z263))","v":0},{"$f":"(SUM(ENERO!AA258:AA263))","v":0},{"$f":"(SUM(ENERO!AB258:AB263))","v":0},{"$f":"SUM(Q258:AB264)","v":0},null,null,null,null,{"$f":"+IF(AC258<>I258,1,0)","v":0},null,{"$f":"(SUM(ENERO!AJ258))","v":0},{"$f":"(SUM(ENERO!AK258))","v":0}]
[null,null,null,null,null,null,null,null,null,null,null,null,null,"","",null,null,null,null,null,null,null,null,null,null,null,null,null,null,null,null,null,null,null,null,{"$f":"(SUM(ENERO!AJ259))","v":0},{"$f":"(SUM(ENERO!AK259))","v":0}]
[null,null,null,null,null,null,null,null,null,null,null,null,null,"","",null,null,null,null,null,null,null,null,null,null,null,null,null,null,null,null,null,null,null,null,{"$f":"(SUM(ENERO!AJ260))","v":0},{"$f":"(SUM(ENERO!AK260))","v":0}]
[null,null,null,null,null,null,null,null,null,null,null,null,null,"","",null,null,null,null,null,null,null,null,null,null,null,null,null,null,null,null,null,null,null,null,{"$f":"(SUM(ENERO!AJ261))","v":0},{"$f":"(SUM(ENERO!AK261))","v":0}]
[null,null,null,null,null,null,null,null,null,null,null,null,null,"","",null,null,null,null,null,null,null,null,null,null,null,null,null,null,null,null,null,null,null,null,{"$f":"(SUM(ENERO!AJ262))","v":0},{"$f":"(SUM(ENERO!AK262))","v":0}]
[null,null,null,null,null,null,null,null,null,null,null,null,null,"","",null,null,null,null,null,null,null,null,null,null,null,null,null,null,null,null,null,null,null,null,{"$f":"(SUM(ENERO!AJ263))","v":0},{"$f":"(SUM(ENERO!AK263))","v":0}]
[null,null,null,null,null,null,null,null,null,{"$f":"J258=K264","v":true},{"$f":"SUM(K258:K263)","v":0},null,null,"","",null,null,null,null,null,null,null,null,null,null,null,null,null,null,null,null,null,null,null,null,{"$f":"(SUM(ENERO!AJ264))","v":0},{"$f":"(SUM(ENERO!AK264))","v":0}]
["Jeringa Desechable 25G5/8\" Convencional",null,{"$f":"(SUM(ENERO!C265:C269))","v":0},{"$f":"(SUM(ENERO!D265:D269))","v":0},{"$f":"(SUM(ENERO!E265:E269))","v":0},{"$f":"(SUM(ENERO!F265:F269))","v":0},{"$f":"(SUM(ENERO!G265:G269))","v":0},{"$f":"(SUM(ENERO!H265:H269))","v":0},{"$f":"AC265","v":0},{"$f":"+(C265+D265+F265+E265)-(G265+H265+I265)+SUM(AJ265:AJ269)","v":0},null,null,null,"","",null,{"$f":"(SUM(ENERO!Q265:Q269))","v":0},{"$f":"(SUM(ENERO!R265:R269))","v":0},{"$f":"(SUM(ENERO!S265:S269))","v":0},{"$f":"(SUM(ENERO!T265:T269))","v":0},{"$f":"(SUM(ENERO!U265:U269))","v":0},{"$f":"(SUM(ENERO!V265:V269))","v":0},{"$f":"(SUM(ENERO!W265:W269))","v":0},{"$f":"(SUM(ENERO!X265:X269))","v":0},{"$f":"(SUM(ENERO!Y265:Y269))","v":0},{"$f":"(SUM(ENERO!Z265:Z269))","v":0},{"$f":"(SUM(ENERO!AA265:AA269))","v":0},{"$f":"(SUM(ENERO!AB265:AB269))","v":0},{"$f":"SUM(Q265:AB269)","v":0},null,null,null,null,{"$f":"+IF(AC265<>I265,1,0)","v":0},null,{"$f":"(SUM(ENERO!AJ265))","v":0},{"$f":"(SUM(ENERO!AK265))","v":0}]
[null,null,null,null,null,null,null,null,null,null,null,null,null,"","",null,{"$f":"(SUM(ENERO!Q266))","v":0},{"$f":"(SUM(ENERO!R266))","v":0},{"$f":"(SUM(ENERO!S266))","v":0},{"$f":"(SUM(ENERO!T266))","v":0},{"$f":"(SUM(ENERO!U266))","v":0},{"$f":"(SUM(ENERO!V266))","v":0},{"$f":"(SUM(ENERO!W266))","v":0},{"$f":"(SUM(ENERO!X266))","v":0},{"$f":"(SUM(ENERO!Y266))","v":0},{"$f":"(SUM(ENERO!Z266))","v":0},{"$f":"(SUM(ENERO!AA266))","v":0},{"$f":"(SUM(ENERO!AB266))","v":0},null,null,null,null,null,null,null,{"$f":"(SUM(ENERO!AJ266))","v":0},{"$f":"(SUM(ENERO!AK266))","v":0}]
[null,null,null,null,null,null,null,null,null,null,null,null,null,"","",null,{"$f":"(SUM(ENERO!Q267))","v":0},{"$f":"(SUM(ENERO!R267))","v":0},{"$f":"(SUM(ENERO!S267))","v":0},{"$f":"(SUM(ENERO!T267))","v":0},{"$f":"(SUM(ENERO!U267))","v":0},{"$f":"(SUM(ENERO!V267))","v":0},{"$f":"(SUM(ENERO!W267))","v":0},{"$f":"(SUM(ENERO!X267))","v":0},{"$f":"(SUM(ENERO!Y267))","v":0},{"$f":"(SUM(ENERO!Z267))","v":0},{"$f":"(SUM(ENERO!AA267))","v":0},{"$f":"(SUM(ENERO!AB267))","v":0},null,null,null,null,null,null,null,{"$f":"(SUM(ENERO!AJ267))","v":0},{"$f":"(SUM(ENERO!AK267))","v":0}]
[null,null,null,null,null,null,null,null,null,null,null,null,null,"","",null,{"$f":"(SUM(ENERO!Q268))","v":0},{"$f":"(SUM(ENERO!R268))","v":0},{"$f":"(SUM(ENERO!S268))","v":0},{"$f":"(SUM(ENERO!T268))","v":0},{"$f":"(SUM(ENERO!U268))","v":0},{"$f":"(SUM(ENERO!V268))","v":0},{"$f":"(SUM(ENERO!W268))","v":0},{"$f":"(SUM(ENERO!X268))","v":0},{"$f":"(SUM(ENERO!Y268))","v":0},{"$f":"(SUM(ENERO!Z268))","v":0},{"$f":"(SUM(ENERO!AA268))","v":0},{"$f":"(SUM(ENERO!AB268))","v":0},null,null,null,null,null,null,null,{"$f":"(SUM(ENERO!AJ268))","v":0},{"$f":"(SUM(ENERO!AK268))","v":0}]
[null,null,null,null,null,null,null,null,null,null,null,null,null,"","",null,{"$f":"(SUM(ENERO!Q269))","v":0},{"$f":"(SUM(ENERO!R269))","v":0},{"$f":"(SUM(ENERO!S269))","v":0},{"$f":"(SUM(ENERO!T269))","v":0},{"$f":"(SUM(ENERO!U269))","v":0},{"$f":"(SUM(ENERO!V269))","v":0},{"$f":"(SUM(ENERO!W269))","v":0},{"$f":"(SUM(ENERO!X269))","v":0},{"$f":"(SUM(ENERO!Y269))","v":0},{"$f":"(SUM(ENERO!Z269))","v":0},{"$f":"(SUM(ENERO!AA269))","v":0},{"$f":"(SUM(ENERO!AB269))","v":0},null,null,null,null,null,null,null,{"$f":"(SUM(ENERO!AJ269))","v":0},{"$f":"(SUM(ENERO!AK269))","v":0}]
[null,null,null,null,null,null,null,null,null,{"$f":"J265=K270","v":true},{"$f":"SUM(K265:K269)","v":0},null,null,"","",null,null,null,null,null,null,null,null,null,null,null,null,null,null,null,null,null,null,null,null,{"$f":"(SUM(ENERO!AJ270))","v":0},{"$f":"(SUM(ENERO!AK270))","v":0}]
["Jeringa Desechable 26G 3/8\" AD",null,{"$f":"(SUM(ENERO!C271:C275))","v":0},{"$f":"(SUM(ENERO!D271:D275))","v":0},{"$f":"(SUM(ENERO!E271:E275))","v":0},{"$f":"(SUM(ENERO!F271:F275))","v":0},{"$f":"(SUM(ENERO!G271:G275))","v":0},{"$f":"(SUM(ENERO!H271:H275))","v":0},{"$f":"AC271","v":0},{"$f":"+(C271+D271+F271+E271)-(G271+H271+I271)+SUM(AJ271:AJ275)","v":0},null,null,null,"","",null,{"$f":"(SUM(ENERO!Q271:Q275))","v":0},{"$f":"(SUM(ENERO!R271:R275))","v":0},{"$f":"(SUM(ENERO!S271:S275))","v":0},{"$f":"(SUM(ENERO!T271:T275))","v":0},{"$f":"(SUM(ENERO!U271:U275))","v":0},{"$f":"(SUM(ENERO!V271:V275))","v":0},{"$f":"(SUM(ENERO!W271:W275))","v":0},{"$f":"(SUM(ENERO!X271:X275))","v":0},{"$f":"(SUM(ENERO!Y271:Y275))","v":0},{"$f":"(SUM(ENERO!Z271:Z275))","v":0},{"$f":"(SUM(ENERO!AA271:AA275))","v":0},{"$f":"(SUM(ENERO!AB271:AB275))","v":0},{"$f":"SUM(Q271:AB275)","v":0},null,null,null,null,{"$f":"+IF(AC271<>I271,1,0)","v":0},null,{"$f":"(SUM(ENERO!AJ271))","v":0},{"$f":"(SUM(ENERO!AK271))","v":0}]
[null,null,null,null,null,null,null,null,null,null,null,null,null,"","",null,{"$f":"(SUM(ENERO!Q272))","v":0},{"$f":"(SUM(ENERO!R272))","v":0},{"$f":"(SUM(ENERO!S272))","v":0},{"$f":"(SUM(ENERO!T272))","v":0},{"$f":"(SUM(ENERO!U272))","v":0},{"$f":"(SUM(ENERO!V272))","v":0},{"$f":"(SUM(ENERO!W272))","v":0},{"$f":"(SUM(ENERO!X272))","v":0},{"$f":"(SUM(ENERO!Y272))","v":0},{"$f":"(SUM(ENERO!Z272))","v":0},{"$f":"(SUM(ENERO!AA272))","v":0},{"$f":"(SUM(ENERO!AB272))","v":0},null,null,null,null,null,null,null,{"$f":"(SUM(ENERO!AJ272))","v":0},{"$f":"(SUM(ENERO!AK272))","v":0}]
[null,null,null,null,null,null,null,null,null,null,null,null,null,"","",null,{"$f":"(SUM(ENERO!Q273))","v":0},{"$f":"(SUM(ENERO!R273))","v":0},{"$f":"(SUM(ENERO!S273))","v":0},{"$f":"(SUM(ENERO!T273))","v":0},{"$f":"(SUM(ENERO!U273))","v":0},{"$f":"(SUM(ENERO!V273))","v":0},{"$f":"(SUM(ENERO!W273))","v":0},{"$f":"(SUM(ENERO!X273))","v":0},{"$f":"(SUM(ENERO!Y273))","v":0},{"$f":"(SUM(ENERO!Z273))","v":0},{"$f":"(SUM(ENERO!AA273))","v":0},{"$f":"(SUM(ENERO!AB273))","v":0},null,null,null,null,null,null,null,{"$f":"(SUM(ENERO!AJ273))","v":0},{"$f":"(SUM(ENERO!AK273))","v":0}]
[null,null,null,null,null,null,null,null,null,null,null,null,null,"","",null,{"$f":"(SUM(ENERO!Q274))","v":0},{"$f":"(SUM(ENERO!R274))","v":0},{"$f":"(SUM(ENERO!S274))","v":0},{"$f":"(SUM(ENERO!T274))","v":0},{"$f":"(SUM(ENERO!U274))","v":0},{"$f":"(SUM(ENERO!V274))","v":0},{"$f":"(SUM(ENERO!W274))","v":0},{"$f":"(SUM(ENERO!X274))","v":0},{"$f":"(SUM(ENERO!Y274))","v":0},{"$f":"(SUM(ENERO!Z274))","v":0},{"$f":"(SUM(ENERO!AA274))","v":0},{"$f":"(SUM(ENERO!AB274))","v":0},null,null,null,null,null,null,null,{"$f":"(SUM(ENERO!AJ274))","v":0},{"$f":"(SUM(ENERO!AK274))","v":0}]
[null,null,null,null,null,null,null,null,null,null,null,null,null,"","",null,{"$f":"(SUM(ENERO!Q275))","v":0},{"$f":"(SUM(ENERO!R275))","v":0},{"$f":"(SUM(ENERO!S275))","v":0},{"$f":"(SUM(ENERO!T275))","v":0},{"$f":"(SUM(ENERO!U275))","v":0},{"$f":"(SUM(ENERO!V275))","v":0},{"$f":"(SUM(ENERO!W275))","v":0},{"$f":"(SUM(ENERO!X275))","v":0},{"$f":"(SUM(ENERO!Y275))","v":0},{"$f":"(SUM(ENERO!Z275))","v":0},{"$f":"(SUM(ENERO!AA275))","v":0},{"$f":"(SUM(ENERO!AB275))","v":0},null,null,null,null,null,null,null,{"$f":"(SUM(ENERO!AJ275))","v":0},{"$f":"(SUM(ENERO!AK275))","v":0}]
[null,null,null,null,null,null,null,null,null,{"$f":"J271=K276","v":true},{"$f":"SUM(K271:K275)","v":0},null,null,"","",null,null,null,null,null,null,null,null,null,null,null,null,null,null,null,null,null,null,null,null,{"$f":"(SUM(ENERO!AJ276))","v":0},{"$f":"(SUM(ENERO!AK276))","v":0}]
["Jeringa Desechable 26G 3/8\" Convencional",null,{"$f":"(SUM(ENERO!C277:C281))","v":0},{"$f":"(SUM(ENERO!D277:D281))","v":0},{"$f":"(SUM(ENERO!E277:E281))","v":0},{"$f":"(SUM(ENERO!F277:F281))","v":0},{"$f":"(SUM(ENERO!G277:G281))","v":0},{"$f":"(SUM(ENERO!H277:H281))","v":0},{"$f":"AC277","v":0},{"$f":"+(C277+D277+F277+E277)-(G277+H277+I277)+SUM(AJ277:AJ281)","v":0},null,null,null,"",{"$f":"IF(M277=0,\"\",\"VENCIDO\")","v":""},null,{"$f":"(SUM(ENERO!Q277:Q281))","v":0},{"$f":"(SUM(ENERO!R277:R281))","v":0},{"$f":"(SUM(ENERO!S277:S281))","v":0},{"$f":"(SUM(ENERO!T277:T281))","v":0},{"$f":"(SUM(ENERO!U277:U281))","v":0},{"$f":"(SUM(ENERO!V277:V281))","v":0},{"$f":"(SUM(ENERO!W277:W281))","v":0},{"$f":"(SUM(ENERO!X277:X281))","v":0},{"$f":"(SUM(ENERO!Y277:Y281))","v":0},{"$f":"(SUM(ENERO!Z277:Z281))","v":0},{"$f":"(SUM(ENERO!AA277:AA281))","v":0},{"$f":"(SUM(ENERO!AB277:AB281))","v":0},{"$f":"SUM(Q277:AB281)","v":0},null,null,null,null,{"$f":"+IF(AC277<>I277,1,0)","v":0},null,{"$f":"(SUM(ENERO!AJ277))","v":0},{"$f":"(SUM(ENERO!AK277))","v":0}]
[null,null,null,null,null,null,null,null,null,null,null,null,null,"","",null,{"$f":"(SUM(ENERO!Q278))","v":0},{"$f":"(SUM(ENERO!R278))","v":0},{"$f":"(SUM(ENERO!S278))","v":0},{"$f":"(SUM(ENERO!T278))","v":0},{"$f":"(SUM(ENERO!U278))","v":0},{"$f":"(SUM(ENERO!V278))","v":0},{"$f":"(SUM(ENERO!W278))","v":0},{"$f":"(SUM(ENERO!X278))","v":0},{"$f":"(SUM(ENERO!Y278))","v":0},{"$f":"(SUM(ENERO!Z278))","v":0},{"$f":"(SUM(ENERO!AA278))","v":0},{"$f":"(SUM(ENERO!AB278))","v":0},null,null,null,null,null,null,null,{"$f":"(SUM(ENERO!AJ278))","v":0},{"$f":"(SUM(ENERO!AK278))","v":0}]
[null,null,null,null,null,null,null,null,null,null,null,null,null,"","",null,{"$f":"(SUM(ENERO!Q279))","v":0},{"$f":"(SUM(ENERO!R279))","v":0},{"$f":"(SUM(ENERO!S279))","v":0},{"$f":"(SUM(ENERO!T279))","v":0},{"$f":"(SUM(ENERO!U279))","v":0},{"$f":"(SUM(ENERO!V279))","v":0},{"$f":"(SUM(ENERO!W279))","v":0},{"$f":"(SUM(ENERO!X279))","v":0},{"$f":"(SUM(ENERO!Y279))","v":0},{"$f":"(SUM(ENERO!Z279))","v":0},{"$f":"(SUM(ENERO!AA279))","v":0},{"$f":"(SUM(ENERO!AB279))","v":0},null,null,null,null,null,null,null,{"$f":"(SUM(ENERO!AJ279))","v":0},{"$f":"(SUM(ENERO!AK279))","v":0}]
[null,null,null,null,null,null,null,null,null,null,null,null,null,"","",null,{"$f":"(SUM(ENERO!Q280))","v":0},{"$f":"(SUM(ENERO!R280))","v":0},{"$f":"(SUM(ENERO!S280))","v":0},{"$f":"(SUM(ENERO!T280))","v":0},{"$f":"(SUM(ENERO!U280))","v":0},{"$f":"(SUM(ENERO!V280))","v":0},{"$f":"(SUM(ENERO!W280))","v":0},{"$f":"(SUM(ENERO!X280))","v":0},{"$f":"(SUM(ENERO!Y280))","v":0},{"$f":"(SUM(ENERO!Z280))","v":0},{"$f":"(SUM(ENERO!AA280))","v":0},{"$f":"(SUM(ENERO!AB280))","v":0},null,null,null,null,null,null,null,{"$f":"(SUM(ENERO!AJ280))","v":0},{"$f":"(SUM(ENERO!AK280))","v":0}]
[null,null,null,null,null,null,null,null,null,null,null,null,null,"","",null,{"$f":"(SUM(ENERO!Q281))","v":0},{"$f":"(SUM(ENERO!R281))","v":0},{"$f":"(SUM(ENERO!S281))","v":0},{"$f":"(SUM(ENERO!T281))","v":0},{"$f":"(SUM(ENERO!U281))","v":0},{"$f":"(SUM(ENERO!V281))","v":0},{"$f":"(SUM(ENERO!W281))","v":0},{"$f":"(SUM(ENERO!X281))","v":0},{"$f":"(SUM(ENERO!Y281))","v":0},{"$f":"(SUM(ENERO!Z281))","v":0},{"$f":"(SUM(ENERO!AA281))","v":0},{"$f":"(SUM(ENERO!AB281))","v":0},null,null,null,null,null,null,null,{"$f":"(SUM(ENERO!AJ281))","v":0},{"$f":"(SUM(ENERO!AK281))","v":0}]
[null,null,null,null,null,null,null,null,null,{"$f":"J277=K282","v":true},{"$f":"SUM(K277:K281)","v":0},null,null,"","",null,null,null,null,null,null,null,null,null,null,null,null,null,null,null,null,null,null,null,null,{"$f":"(SUM(ENERO!AJ282))","v":0},{"$f":"(SUM(ENERO!AK282))","v":0}]
["Jeringa Desechable 27G 3/8\" ",null,{"$f":"(SUM(ENERO!C283:C287))","v":0},{"$f":"(SUM(ENERO!D283:D287))","v":0},{"$f":"(SUM(ENERO!E283:E287))","v":0},{"$f":"(SUM(ENERO!F283:F287))","v":0},{"$f":"(SUM(ENERO!G283:G287))","v":0},{"$f":"(SUM(ENERO!H283:H287))","v":0},{"$f":"AC283","v":0},{"$f":"+(C283+D283+F283+E283)-(G283+H283+I283)+SUM(AJ283:AJ287)","v":0},0,null,null,"","",null,{"$f":"(SUM(ENERO!Q283:Q287))","v":0},{"$f":"(SUM(ENERO!R283:R287))","v":0},{"$f":"(SUM(ENERO!S283:S287))","v":0},{"$f":"(SUM(ENERO!T283:T287))","v":0},{"$f":"(SUM(ENERO!U283:U287))","v":0},{"$f":"(SUM(ENERO!V283:V287))","v":0},{"$f":"(SUM(ENERO!W283:W287))","v":0},{"$f":"(SUM(ENERO!X283:X287))","v":0},{"$f":"(SUM(ENERO!Y283:Y287))","v":0},{"$f":"(SUM(ENERO!Z283:Z287))","v":0},{"$f":"(SUM(ENERO!AA283:AA287))","v":0},{"$f":"(SUM(ENERO!AB283:AB287))","v":0},{"$f":"SUM(Q283:AB287)","v":0},null,null,null,null,{"$f":"+IF(AC283<>I283,1,0)","v":0},null,{"$f":"(SUM(ENERO!AJ283))","v":0},{"$f":"(SUM(ENERO!AK283))","v":0}]
[null,null,null,null,null,null,null,null,null,null,0,null,null,"","",null,{"$f":"(SUM(ENERO!Q284))","v":0},{"$f":"(SUM(ENERO!R284))","v":0},{"$f":"(SUM(ENERO!S284))","v":0},{"$f":"(SUM(ENERO!T284))","v":0},{"$f":"(SUM(ENERO!U284))","v":0},{"$f":"(SUM(ENERO!V284))","v":0},{"$f":"(SUM(ENERO!W284))","v":0},{"$f":"(SUM(ENERO!X284))","v":0},{"$f":"(SUM(ENERO!Y284))","v":0},{"$f":"(SUM(ENERO!Z284))","v":0},{"$f":"(SUM(ENERO!AA284))","v":0},{"$f":"(SUM(ENERO!AB284))","v":0},null,null,null,null,null,null,null,{"$f":"(SUM(ENERO!AJ284))","v":0},{"$f":"(SUM(ENERO!AK284))","v":0}]
[null,null,null,null,null,null,null,null,null,null,0,null,null,"","",null,{"$f":"(SUM(ENERO!Q285))","v":0},{"$f":"(SUM(ENERO!R285))","v":0},{"$f":"(SUM(ENERO!S285))","v":0},{"$f":"(SUM(ENERO!T285))","v":0},{"$f":"(SUM(ENERO!U285))","v":0},{"$f":"(SUM(ENERO!V285))","v":0},{"$f":"(SUM(ENERO!W285))","v":0},{"$f":"(SUM(ENERO!X285))","v":0},{"$f":"(SUM(ENERO!Y285))","v":0},{"$f":"(SUM(ENERO!Z285))","v":0},{"$f":"(SUM(ENERO!AA285))","v":0},{"$f":"(SUM(ENERO!AB285))","v":0},null,null,null,null,null,null,null,{"$f":"(SUM(ENERO!AJ285))","v":0},{"$f":"(SUM(ENERO!AK285))","v":0}]
[null,null,null,null,null,null,null,null,null,null,0,null,null,"","",null,{"$f":"(SUM(ENERO!Q286))","v":0},{"$f":"(SUM(ENERO!R286))","v":0},{"$f":"(SUM(ENERO!S286))","v":0},{"$f":"(SUM(ENERO!T286))","v":0},{"$f":"(SUM(ENERO!U286))","v":0},{"$f":"(SUM(ENERO!V286))","v":0},{"$f":"(SUM(ENERO!W286))","v":0},{"$f":"(SUM(ENERO!X286))","v":0},{"$f":"(SUM(ENERO!Y286))","v":0},{"$f":"(SUM(ENERO!Z286))","v":0},{"$f":"(SUM(ENERO!AA286))","v":0},{"$f":"(SUM(ENERO!AB286))","v":0},null,null,null,null,null,null,null,{"$f":"(SUM(ENERO!AJ286))","v":0},{"$f":"(SUM(ENERO!AK286))","v":0}]
[null,null,null,null,null,null,null,null,null,null,0,null,null,"","",null,{"$f":"(SUM(ENERO!Q287))","v":0},{"$f":"(SUM(ENERO!R287))","v":0},{"$f":"(SUM(ENERO!S287))","v":0},{"$f":"(SUM(ENERO!T287))","v":0},{"$f":"(SUM(ENERO!U287))","v":0},{"$f":"(SUM(ENERO!V287))","v":0},{"$f":"(SUM(ENERO!W287))","v":0},{"$f":"(SUM(ENERO!X287))","v":0},{"$f":"(SUM(ENERO!Y287))","v":0},{"$f":"(SUM(ENERO!Z287))","v":0},{"$f":"(SUM(ENERO!AA287))","v":0},{"$f":"(SUM(ENERO!AB287))","v":0},null,null,null,null,null,null,null,{"$f":"(SUM(ENERO!AJ287))","v":0},{"$f":"(SUM(ENERO!AK287))","v":0}]
[null,null,null,null,null,null,null,null,null,{"$f":"J283=K288","v":true},{"$f":"SUM(K283:K287)","v":0},null,null,null,null,null,null,null,null,null,null,null,null,null,null,null,null,null,null,null,null,null,null,null,null,{"$f":"(SUM(ENERO!AJ288))","v":0},{"$f":"(SUM(ENERO!AK288))","v":0}]
["Goteros ",null,{"$f":"(SUM(ENERO!C289:C293))","v":0},{"$f":"(SUM(ENERO!D289:D293))","v":0},{"$f":"(SUM(ENERO!E289:E293))","v":0},{"$f":"(SUM(ENERO!F289:F293))","v":0},{"$f":"(SUM(ENERO!G289:G293))","v":0},{"$f":"(SUM(ENERO!H289:H293))","v":0},{"$f":"AC289","v":0},{"$f":"+(C289+D289+F289+E289)-(G289+H289+I289)+SUM(AJ289:AJ293)","v":0},null,null,null,null,null,null,{"$f":"(SUM(ENERO!Q289:Q293))","v":0},{"$f":"(SUM(ENERO!R289:R293))","v":0},{"$f":"(SUM(ENERO!S289:S293))","v":0},{"$f":"(SUM(ENERO!T289:T293))","v":0},{"$f":"(SUM(ENERO!U289:U293))","v":0},{"$f":"(SUM(ENERO!V289:V293))","v":0},{"$f":"(SUM(ENERO!W289:W293))","v":0},{"$f":"(SUM(ENERO!X289:X293))","v":0},{"$f":"(SUM(ENERO!Y289:Y293))","v":0},{"$f":"(SUM(ENERO!Z289:Z293))","v":0},{"$f":"(SUM(ENERO!AA289:AA293))","v":0},{"$f":"(SUM(ENERO!AB289:AB293))","v":0},{"$f":"SUM(Q289:AB293)","v":0},null,null,null,null,{"$f":"+IF(AC289<>I289,1,0)","v":0},null,{"$f":"(SUM(ENERO!AJ289))","v":0},{"$f":"(SUM(ENERO!AK289))","v":0}]
[null,null,null,null,null,null,null,null,null,null,null,null,null,null,null,null,{"$f":"(SUM(ENERO!Q290))","v":0},{"$f":"(SUM(ENERO!R290))","v":0},{"$f":"(SUM(ENERO!S290))","v":0},{"$f":"(SUM(ENERO!T290))","v":0},{"$f":"(SUM(ENERO!U290))","v":0},{"$f":"(SUM(ENERO!V290))","v":0},{"$f":"(SUM(ENERO!W290))","v":0},{"$f":"(SUM(ENERO!X290))","v":0},{"$f":"(SUM(ENERO!Y290))","v":0},{"$f":"(SUM(ENERO!Z290))","v":0},{"$f":"(SUM(ENERO!AA290))","v":0},{"$f":"(SUM(ENERO!AB290))","v":0},null,null,null,null,null,null,null,{"$f":"(SUM(ENERO!AJ290))","v":0},{"$f":"(SUM(ENERO!AK290))","v":0}]
[null,null,null,null,null,null,null,null,null,null,null,null,null,null,null,null,{"$f":"(SUM(ENERO!Q291))","v":0},{"$f":"(SUM(ENERO!R291))","v":0},{"$f":"(SUM(ENERO!S291))","v":0},{"$f":"(SUM(ENERO!T291))","v":0},{"$f":"(SUM(ENERO!U291))","v":0},{"$f":"(SUM(ENERO!V291))","v":0},{"$f":"(SUM(ENERO!W291))","v":0},{"$f":"(SUM(ENERO!X291))","v":0},{"$f":"(SUM(ENERO!Y291))","v":0},{"$f":"(SUM(ENERO!Z291))","v":0},{"$f":"(SUM(ENERO!AA291))","v":0},{"$f":"(SUM(ENERO!AB291))","v":0},null,null,null,null,null,null,null,{"$f":"(SUM(ENERO!AJ291))","v":0},{"$f":"(SUM(ENERO!AK291))","v":0}]
[null,null,null,null,null,null,null,null,null,null,null,null,null,null,null,null,{"$f":"(SUM(ENERO!Q292))","v":0},{"$f":"(SUM(ENERO!R292))","v":0},{"$f":"(SUM(ENERO!S292))","v":0},{"$f":"(SUM(ENERO!T292))","v":0},{"$f":"(SUM(ENERO!U292))","v":0},{"$f":"(SUM(ENERO!V292))","v":0},{"$f":"(SUM(ENERO!W292))","v":0},{"$f":"(SUM(ENERO!X292))","v":0},{"$f":"(SUM(ENERO!Y292))","v":0},{"$f":"(SUM(ENERO!Z292))","v":0},{"$f":"(SUM(ENERO!AA292))","v":0},{"$f":"(SUM(ENERO!AB292))","v":0},null,null,null,null,null,null,null,{"$f":"(SUM(ENERO!AJ292))","v":0},{"$f":"(SUM(ENERO!AK292))","v":0}]
[null,null,null,null,null,null,null,null,null,null,null,null,null,null,null,null,{"$f":"(SUM(ENERO!Q293))","v":0},{"$f":"(SUM(ENERO!R293))","v":0},{"$f":"(SUM(ENERO!S293))","v":0},{"$f":"(SUM(ENERO!T293))","v":0},{"$f":"(SUM(ENERO!U293))","v":0},{"$f":"(SUM(ENERO!V293))","v":0},{"$f":"(SUM(ENERO!W293))","v":0},{"$f":"(SUM(ENERO!X293))","v":0},{"$f":"(SUM(ENERO!Y293))","v":0},{"$f":"(SUM(ENERO!Z293))","v":0},{"$f":"(SUM(ENERO!AA293))","v":0},{"$f":"(SUM(ENERO!AB293))","v":0},null,null,null,null,null,null,null,{"$f":"(SUM(ENERO!AJ293))","v":0},{"$f":"(SUM(ENERO!AK293))","v":0}]
[null,null,null,null,null,null,null,null,null,{"$f":"J289=K294","v":true},{"$f":"SUM(K289:K293)","v":0},null,null,null,null,null,null,null,null,null,null,null,null,null,null,null,null,null,null,null,null,null,null,null,null,{"$f":"(SUM(ENERO!AJ294))","v":0},{"$f":"(SUM(ENERO!AK294))","v":0}]
["CARNE DE VACUNACIÓN INFANTIL",null,{"$f":"(SUM(ENERO!C295))","v":0},{"$f":"(SUM(ENERO!D295))","v":0},{"$f":"(SUM(ENERO!E295))","v":0},{"$f":"(SUM(ENERO!F295))","v":0},{"$f":"(SUM(ENERO!G295))","v":0},{"$f":"(SUM(ENERO!H295))","v":0},{"$f":"AC295","v":0},{"$f":"+(C295+D295+F295+E295)-(G295+H295+I295)+SUM(AJ295:AJ299)","v":0},null,null,null,null,null,null,{"$f":"(SUM(ENERO!Q295))","v":0},{"$f":"(SUM(ENERO!R295))","v":0},{"$f":"(SUM(ENERO!S295))","v":0},{"$f":"(SUM(ENERO!T295))","v":0},{"$f":"(SUM(ENERO!U295))","v":0},{"$f":"(SUM(ENERO!V295))","v":0},{"$f":"(SUM(ENERO!W295))","v":0},{"$f":"(SUM(ENERO!X295))","v":0},{"$f":"(SUM(ENERO!Y295))","v":0},{"$f":"(SUM(ENERO!Z295))","v":0},{"$f":"(SUM(ENERO!AA295))","v":0},{"$f":"(SUM(ENERO!AB295))","v":0},{"$f":"SUM(Q295:AB295)","v":0},null,null,null,null,{"$f":"+IF(AC295<>I295,1,0)","v":0},null,{"$f":"(SUM(ENERO!AJ295))","v":0},{"$f":"(SUM(ENERO!AK295))","v":0}]
["CARNE/CERTIFICADO DE VACUNACIÓN DE ADULTOS",null,{"$f":"(SUM(ENERO!C296))","v":0},{"$f":"(SUM(ENERO!D296))","v":0},{"$f":"(SUM(ENERO!E296))","v":0},{"$f":"(SUM(ENERO!F296))","v":0},{"$f":"(SUM(ENERO!G296))","v":0},{"$f":"(SUM(ENERO!H296))","v":0},{"$f":"AC296","v":0},0,null,null,null,null,null,null,{"$f":"(SUM(ENERO!Q296))","v":0},{"$f":"(SUM(ENERO!R296))","v":0},{"$f":"(SUM(ENERO!S296))","v":0},{"$f":"(SUM(ENERO!T296))","v":0},{"$f":"(SUM(ENERO!U296))","v":0},{"$f":"(SUM(ENERO!V296))","v":0},{"$f":"(SUM(ENERO!W296))","v":0},{"$f":"(SUM(ENERO!X296))","v":0},{"$f":"(SUM(ENERO!Y296))","v":0},{"$f":"(SUM(ENERO!Z296))","v":0},{"$f":"(SUM(ENERO!AA296))","v":0},{"$f":"(SUM(ENERO!AB296))","v":0},{"$f":"SUM(Q296:AB296)","v":0},null,null,null,null,0,null,{"$f":"(SUM(ENERO!AJ296))","v":0},{"$f":"(SUM(ENERO!AK296))","v":0}]
["CARNE/CERTIFICADO INTERNACIONAL DE VACUNACIÓN",null,{"$f":"(SUM(ENERO!C297))","v":0},{"$f":"(SUM(ENERO!D297))","v":0},{"$f":"(SUM(ENERO!E297))","v":0},{"$f":"(SUM(ENERO!F297))","v":0},{"$f":"(SUM(ENERO!G297))","v":0},{"$f":"(SUM(ENERO!H297))","v":0},{"$f":"AC297","v":0},0,null,null,null,null,null,null,{"$f":"(SUM(ENERO!Q297))","v":0},{"$f":"(SUM(ENERO!R297))","v":0},{"$f":"(SUM(ENERO!S297))","v":0},{"$f":"(SUM(ENERO!T297))","v":0},{"$f":"(SUM(ENERO!U297))","v":0},{"$f":"(SUM(ENERO!V297))","v":0},{"$f":"(SUM(ENERO!W297))","v":0},{"$f":"(SUM(ENERO!X297))","v":0},{"$f":"(SUM(ENERO!Y297))","v":0},{"$f":"(SUM(ENERO!Z297))","v":0},{"$f":"(SUM(ENERO!AA297))","v":0},{"$f":"(SUM(ENERO!AB297))","v":0},0,null,null,null,null,0,null,{"$f":"(SUM(ENERO!AJ297))","v":0},{"$f":"(SUM(ENERO!AK297))","v":0}]
["TARJETAS UNIFICADAS DE VACUNACION -TUV ADULTOS",null,{"$f":"(SUM(ENERO!C298))","v":0},{"$f":"(SUM(ENERO!D298))","v":0},{"$f":"(SUM(ENERO!E298))","v":0},{"$f":"(SUM(ENERO!F298))","v":0},{"$f":"(SUM(ENERO!G298))","v":0},{"$f":"(SUM(ENERO!H298))","v":0},{"$f":"AC298","v":0},0,null,null,null,null,null,null,{"$f":"(SUM(ENERO!Q298))","v":0},{"$f":"(SUM(ENERO!R298))","v":0},{"$f":"(SUM(ENERO!S298))","v":0},{"$f":"(SUM(ENERO!T298))","v":0},{"$f":"(SUM(ENERO!U298))","v":0},{"$f":"(SUM(ENERO!V298))","v":0},{"$f":"(SUM(ENERO!W298))","v":0},{"$f":"(SUM(ENERO!X298))","v":0},{"$f":"(SUM(ENERO!Y298))","v":0},{"$f":"(SUM(ENERO!Z298))","v":0},{"$f":"(SUM(ENERO!AA298))","v":0},{"$f":"(SUM(ENERO!AB298))","v":0},0,null,null,null,null,0,null,{"$f":"(SUM(ENERO!AJ298))","v":0},{"$f":"(SUM(ENERO!AK298))","v":0}]
["TARJETAS UNIFICADAS DE VACUNACION -TUV NIÑOS",null,{"$f":"(SUM(ENERO!C299))","v":0},{"$f":"(SUM(ENERO!D299))","v":0},{"$f":"(SUM(ENERO!E299))","v":0},{"$f":"(SUM(ENERO!F299))","v":0},{"$f":"(SUM(ENERO!G299))","v":0},{"$f":"(SUM(ENERO!H299))","v":0},{"$f":"AC299","v":0},0,null,null,null,null,null,null,{"$f":"(SUM(ENERO!Q299))","v":0},{"$f":"(SUM(ENERO!R299))","v":0},{"$f":"(SUM(ENERO!S299))","v":0},{"$f":"(SUM(ENERO!T299))","v":0},{"$f":"(SUM(ENERO!U299))","v":0},{"$f":"(SUM(ENERO!V299))","v":0},{"$f":"(SUM(ENERO!W299))","v":0},{"$f":"(SUM(ENERO!X299))","v":0},{"$f":"(SUM(ENERO!Y299))","v":0},{"$f":"(SUM(ENERO!Z299))","v":0},{"$f":"(SUM(ENERO!AA299))","v":0},{"$f":"(SUM(ENERO!AB299))","v":0},0,null,null,null,null,0,null,{"$f":"(SUM(ENERO!AJ299))","v":0},{"$f":"(SUM(ENERO!AK299))","v":0}]
[]
["OBSERVACIONES MUNICIPIOS: (Especifique las caracteristicas de los traslados realizados, pérdidas, entre otras que considere deba puntualizar)."]
[]
[]
[]
["CONSOLIDADO MUNICIPIOS (Consolida los movimientos realizados por los municipios )"]
["INSUMOS",null,"TOTAL SALDO MESES ANTERIORES","TOTAL BIOLOGICO RECIBIDO POR ET","D. APLICADAS",null,"ENTRADAS",null,"SALIDAS",null,null,null,"TOTAL DE DOSIS APLICADAS",null,null,null,"CAUSAS DE PERDIDA DE BIOLÓGICO ",null,null,null,null,null,null,null,null,null,null,null,null,null,"PORCENTAJE DE PERDIDA",null,null,null,"PORCENTAJE DE PERDIDA"]
[null,null,null,null,"DOSIS APLICADAS\nCOLOMBIANOS","DOSIS APLICADAS EXTRANJEROS","CANTIDAD DE DESPACHOS","TRASLADOS ENTRADAS","CANTIDAD DE DESPACHOS","TRASLADOS SALIDAS","DOSIS PERDIDAS","SALDO QUE INICIA EL MES SIGUIENTE",null,null,null,null," POR FRASCO ABIERTO  ",null,"INTERRUPCION DE CADENA DE FRIO","APLICACIÓN FUERA DE LA EDAD","CONTAMINACION DEL BIOLÓGICO/DISPOSITIVO MÉDICO","FRASCO/VIAL  ROTO","ERRORES EN LA MANIPULACION","VENCIMIENTO DEL BIOLÓGICO/DISPOSITIVO MÉDICO","FARMACOVIGILANCIA/ TECNOVIGILANCIA","VOMITO FRANCO","SINIESTRO O ROBO","RECONSTITUCION BIOLÓGICO","TOTAL DOSIS PERDIDAS        ",null,null,null,null,null,null,"SINIESTRO O ROBO","RECONSTITUCION BIOLÓGICO"]
[null,null,null,null,null,null,null,null,null,null,null,null,null,null,null,null,"INSTITUCIONAL","EXTRAMURAL"]
[]
["BCG (vacuna)",null,{"$f":"(SUM(ENERO!C310))","v":0},{"$f":"(SUM(ENERO!D310))","v":0},{"$f":"(SUM(ENERO!E310))","v":0},{"$f":"(SUM(ENERO!F310))","v":0},{"$f":"(SUM(ENERO!G310))","v":0},{"$f":"(SUM(ENERO!H310))","v":0},{"$f":"(SUM(ENERO!I310))","v":0},null,{"$f":"+AC310","v":0},{"$f":"+(C310+D310+G310+H310)-(E310+F310+I310+J310+K310)+SUM(AJ310)","v":0},{"$f":"SUM(E310,F310)","v":0},null,null,null,{"$f":"(SUM(ENERO!Q310))","v":0},{"$f":"(SUM(ENERO!R310))","v":0},{"$f":"(SUM(ENERO!S310))","v":0},{"$f":"(SUM(ENERO!T310))","v":0},{"$f":"(SUM(ENERO!U310))","v":0},{"$f":"(SUM(ENERO!V310))","v":0},{"$f":"(SUM(ENERO!W310))","v":0},{"$f":"(SUM(ENERO!X310))","v":0},{"$f":"(SUM(ENERO!Y310))","v":0},{"$f":"(SUM(ENERO!Z310))","v":0},{"$f":"(SUM(ENERO!AA310))","v":0},{"$f":"(SUM(ENERO!AB310))","v":0},{"$f":"SUM(Q310:AB310)","v":0},null,{"$f":"+(AC310)/(E310+F310+AC310)","v":{"$error":"#DIV/0!"}},null,null,{"$f":"+IF(AC310<>K310,1,0)","v":0},{"$f":"+(AG310)/(J310+K310+AG310)","v":{"$error":"#DIV/0!"}},{"$f":"(SUM(ENERO!AJ310))","v":0},{"$f":"(SUM(ENERO!AK310))","v":0}]
["Hepatitis B pediatrica",null,{"$f":"(SUM(ENERO!C311))","v":0},{"$f":"(SUM(ENERO!D311))","v":0},{"$f":"(SUM(ENERO!E311))","v":0},{"$f":"(SUM(ENERO!F311))","v":0},{"$f":"(SUM(ENERO!G311))","v":0},{"$f":"(SUM(ENERO!H311))","v":0},{"$f":"(SUM(ENERO!I311))","v":0},null,0,{"$f":"+(C311+D311+G311+H311)-(E311+F311+I311+J311+K311)+SUM(AJ311)","v":0},{"$f":"SUM(E311,F311)","v":0},null,null,null,{"$f":"(SUM(ENERO!Q311))","v":0},{"$f":"(SUM(ENERO!R311))","v":0},{"$f":"(SUM(ENERO!S311))","v":0},{"$f":"(SUM(ENERO!T311))","v":0},{"$f":"(SUM(ENERO!U311))","v":0},{"$f":"(SUM(ENERO!V311))","v":0},{"$f":"(SUM(ENERO!W311))","v":0},{"$f":"(SUM(ENERO!X311))","v":0},{"$f":"(SUM(ENERO!Y311))","v":0},{"$f":"(SUM(ENERO!Z311))","v":0},{"$f":"(SUM(ENERO!AA311))","v":0},{"$f":"(SUM(ENERO!AB311))","v":0},{"$f":"SUM(Q311:AB311)","v":0},null,{"$f":"(AC311)/(E311+F311+AC311)","v":{"$error":"#DIV/0!"}},null,null,0,{"$f":"(AG311)/(J311+K311+AG311)","v":{"$error":"#DIV/0!"}},{"$f":"(SUM(ENERO!AJ311))","v":0},{"$f":"(SUM(ENERO!AK311))","v":0}]
["Hepatitis B Adultos",null,{"$f":"(SUM(ENERO!C312))","v":0},{"$f":"(SUM(ENERO!D312))","v":0},{"$f":"(SUM(ENERO!E312))","v":0},{"$f":"(SUM(ENERO!F312))","v":0},{"$f":"(SUM(ENERO!G312))","v":0},{"$f":"(SUM(ENERO!H312))","v":0},{"$f":"(SUM(ENERO!I312))","v":0},null,0,0,0,null,null,null,{"$f":"(SUM(ENERO!Q312))","v":0},{"$f":"(SUM(ENERO!R312))","v":0},{"$f":"(SUM(ENERO!S312))","v":0},{"$f":"(SUM(ENERO!T312))","v":0},{"$f":"(SUM(ENERO!U312))","v":0},{"$f":"(SUM(ENERO!V312))","v":0},{"$f":"(SUM(ENERO!W312))","v":0},{"$f":"(SUM(ENERO!X312))","v":0},{"$f":"(SUM(ENERO!Y312))","v":0},{"$f":"(SUM(ENERO!Z312))","v":0},{"$f":"(SUM(ENERO!AA312))","v":0},{"$f":"(SUM(ENERO!AB312))","v":0},0,null,{"$f":"(AC312)/(E312+F312+AC312)","v":{"$error":"#DIV/0!"}},null,null,0,{"$f":"(AG312)/(J312+K312+AG312)","v":{"$error":"#DIV/0!"}},{"$f":"(SUM(ENERO!AJ312))","v":0},{"$f":"(SUM(ENERO!AK312))","v":0}]
["Polio Inactivada -VIP",null,{"$f":"(SUM(ENERO!C313))","v":0},{"$f":"(SUM(ENERO!D313))","v":0},{"$f":"(SUM(ENERO!E313))","v":0},{"$f":"(SUM(ENERO!F313))","v":0},{"$f":"(SUM(ENERO!G313))","v":0},{"$f":"(SUM(ENERO!H313))","v":0},{"$f":"(SUM(ENERO!I313))","v":0},null,0,0,0,null,null,null,{"$f":"(SUM(ENERO!Q313))","v":0},{"$f":"(SUM(ENERO!R313))","v":0},{"$f":"(SUM(ENERO!S313))","v":0},{"$f":"(SUM(ENERO!T313))","v":0},{"$f":"(SUM(ENERO!U313))","v":0},{"$f":"(SUM(ENERO!V313))","v":0},{"$f":"(SUM(ENERO!W313))","v":0},{"$f":"(SUM(ENERO!X313))","v":0},{"$f":"(SUM(ENERO!Y313))","v":0},{"$f":"(SUM(ENERO!Z313))","v":0},{"$f":"(SUM(ENERO!AA313))","v":0},{"$f":"(SUM(ENERO!AB313))","v":0},0,null,{"$error":"#DIV/0!"},null,null,0,{"$error":"#DIV/0!"},{"$f":"(SUM(ENERO!AJ313))","v":0},{"$f":"(SUM(ENERO!AK313))","v":0}]
["Polio oral",null,{"$f":"(SUM(ENERO!C314))","v":0},{"$f":"(SUM(ENERO!D314))","v":0},{"$f":"(SUM(ENERO!E314))","v":0},{"$f":"(SUM(ENERO!F314))","v":0},{"$f":"(SUM(ENERO!G314))","v":0},{"$f":"(SUM(ENERO!H314))","v":0},{"$f":"(SUM(ENERO!I314))","v":0},null,0,0,0,null,null,null,{"$f":"(SUM(ENERO!Q314))","v":0},{"$f":"(SUM(ENERO!R314))","v":0},{"$f":"(SUM(ENERO!S314))","v":0},{"$f":"(SUM(ENERO!T314))","v":0},{"$f":"(SUM(ENERO!U314))","v":0},{"$f":"(SUM(ENERO!V314))","v":0},{"$f":"(SUM(ENERO!W314))","v":0},{"$f":"(SUM(ENERO!X314))","v":0},{"$f":"(SUM(ENERO!Y314))","v":0},{"$f":"(SUM(ENERO!Z314))","v":0},{"$f":"(SUM(ENERO!AA314))","v":0},{"$f":"(SUM(ENERO!AB314))","v":0},0,null,{"$f":"+(AC314*1)/(E314+F314+AC314)","v":{"$error":"#DIV/0!"}},null,null,0,{"$f":"+(AG314*1)/(J314+K314+AG314)","v":{"$error":"#DIV/0!"}},{"$f":"(SUM(ENERO!AJ314))","v":0},{"$f":"(SUM(ENERO!AK314))","v":0}]
["Pentavalente",null,{"$f":"(SUM(ENERO!C315))","v":0},{"$f":"(SUM(ENERO!D315))","v":0},{"$f":"(SUM(ENERO!E315))","v":0},{"$f":"(SUM(ENERO!F315))","v":0},{"$f":"(SUM(ENERO!G315))","v":0},{"$f":"(SUM(ENERO!H315))","v":0},{"$f":"(SUM(ENERO!I315))","v":0},null,0,0,0,null,null,null,{"$f":"(SUM(ENERO!Q315))","v":0},{"$f":"(SUM(ENERO!R315))","v":0},{"$f":"(SUM(ENERO!S315))","v":0},{"$f":"(SUM(ENERO!T315))","v":0},{"$f":"(SUM(ENERO!U315))","v":0},{"$f":"(SUM(ENERO!V315))","v":0},{"$f":"(SUM(ENERO!W315))","v":0},{"$f":"(SUM(ENERO!X315))","v":0},{"$f":"(SUM(ENERO!Y315))","v":0},{"$f":"(SUM(ENERO!Z315))","v":0},{"$f":"(SUM(ENERO!AA315))","v":0},{"$f":"(SUM(ENERO!AB315))","v":0},0,null,{"$error":"#DIV/0!"},null,null,0,{"$error":"#DIV/0!"},{"$f":"(SUM(ENERO!AJ315))","v":0},{"$f":"(SUM(ENERO!AK315))","v":0}]
["Hexavalente",null,{"$f":"(SUM(ENERO!C316))","v":0},{"$f":"(SUM(ENERO!D316))","v":0},{"$f":"(SUM(ENERO!E316))","v":0},{"$f":"(SUM(ENERO!F316))","v":0},{"$f":"(SUM(ENERO!G316))","v":0},{"$f":"(SUM(ENERO!H316))","v":0},{"$f":"(SUM(ENERO!I316))","v":0},null,0,0,0,null,null,null,{"$f":"(SUM(ENERO!Q316))","v":0},{"$f":"(SUM(ENERO!R316))","v":0},{"$f":"(SUM(ENERO!S316))","v":0},{"$f":"(SUM(ENERO!T316))","v":0},{"$f":"(SUM(ENERO!U316))","v":0},{"$f":"(SUM(ENERO!V316))","v":0},{"$f":"(SUM(ENERO!W316))","v":0},{"$f":"(SUM(ENERO!X316))","v":0},{"$f":"(SUM(ENERO!Y316))","v":0},{"$f":"(SUM(ENERO!Z316))","v":0},{"$f":"(SUM(ENERO!AA316))","v":0},{"$f":"(SUM(ENERO!AB316))","v":0},0,null,{"$f":"(AC316)/(E317+F317+AC316)","v":{"$error":"#DIV/0!"}},null,null,{"$f":"+IF(AC316<>K317,1,0)","v":0},{"$error":"#DIV/0!"},{"$f":"(SUM(ENERO!AJ316))","v":0},{"$f":"(SUM(ENERO!AK316))","v":0}]
["DPT",null,{"$f":"(SUM(ENERO!C317))","v":0},{"$f":"(SUM(ENERO!D317))","v":0},{"$f":"(SUM(ENERO!E317))","v":0},{"$f":"(SUM(ENERO!F317))","v":0},{"$f":"(SUM(ENERO!G317))","v":0},{"$f":"(SUM(ENERO!H317))","v":0},{"$f":"(SUM(ENERO!I317))","v":0},null,0,0,0,null,null,null,{"$f":"(SUM(ENERO!Q317))","v":0},{"$f":"(SUM(ENERO!R317))","v":0},{"$f":"(SUM(ENERO!S317))","v":0},{"$f":"(SUM(ENERO!T317))","v":0},{"$f":"(SUM(ENERO!U317))","v":0},{"$f":"(SUM(ENERO!V317))","v":0},{"$f":"(SUM(ENERO!W317))","v":0},{"$f":"(SUM(ENERO!X317))","v":0},{"$f":"(SUM(ENERO!Y317))","v":0},{"$f":"(SUM(ENERO!Z317))","v":0},{"$f":"(SUM(ENERO!AA317))","v":0},{"$f":"(SUM(ENERO!AB317))","v":0},0,null,{"$error":"#DIV/0!"},null,null,0,{"$error":"#DIV/0!"},{"$f":"(SUM(ENERO!AJ317))","v":0},{"$f":"(SUM(ENERO!AK317))","v":0}]
["DTaP pediatrica",null,{"$f":"(SUM(ENERO!C318))","v":0},{"$f":"(SUM(ENERO!D318))","v":0},{"$f":"(SUM(ENERO!E318))","v":0},{"$f":"(SUM(ENERO!F318))","v":0},{"$f":"(SUM(ENERO!G318))","v":0},{"$f":"(SUM(ENERO!H318))","v":0},{"$f":"(SUM(ENERO!I318))","v":0},null,0,0,0,null,null,null,{"$f":"(SUM(ENERO!Q318))","v":0},{"$f":"(SUM(ENERO!R318))","v":0},{"$f":"(SUM(ENERO!S318))","v":0},{"$f":"(SUM(ENERO!T318))","v":0},{"$f":"(SUM(ENERO!U318))","v":0},{"$f":"(SUM(ENERO!V318))","v":0},{"$f":"(SUM(ENERO!W318))","v":0},{"$f":"(SUM(ENERO!X318))","v":0},{"$f":"(SUM(ENERO!Y318))","v":0},{"$f":"(SUM(ENERO!Z318))","v":0},{"$f":"(SUM(ENERO!AA318))","v":0},{"$f":"(SUM(ENERO!AB318))","v":0},0,null,{"$error":"#DIV/0!"},null,null,0,{"$error":"#DIV/0!"},{"$f":"(SUM(ENERO!AJ318))","v":0},{"$f":"(SUM(ENERO!AK318))","v":0}]
["TD Pediatrica",null,{"$f":"(SUM(ENERO!C319))","v":0},{"$f":"(SUM(ENERO!D319))","v":0},{"$f":"(SUM(ENERO!E319))","v":0},{"$f":"(SUM(ENERO!F319))","v":0},{"$f":"(SUM(ENERO!G319))","v":0},{"$f":"(SUM(ENERO!H319))","v":0},{"$f":"(SUM(ENERO!I319))","v":0},null,0,0,0,null,null,null,{"$f":"(SUM(ENERO!Q319))","v":0},{"$f":"(SUM(ENERO!R319))","v":0},{"$f":"(SUM(ENERO!S319))","v":0},{"$f":"(SUM(ENERO!T319))","v":0},{"$f":"(SUM(ENERO!U319))","v":0},{"$f":"(SUM(ENERO!V319))","v":0},{"$f":"(SUM(ENERO!W319))","v":0},{"$f":"(SUM(ENERO!X319))","v":0},{"$f":"(SUM(ENERO!Y319))","v":0},{"$f":"(SUM(ENERO!Z319))","v":0},{"$f":"(SUM(ENERO!AA319))","v":0},{"$f":"(SUM(ENERO!AB319))","v":0},0,null,{"$error":"#DIV/0!"},null,null,0,{"$error":"#DIV/0!"},{"$f":"(SUM(ENERO!AJ319))","v":0},{"$f":"(SUM(ENERO!AK319))","v":0}]
["Rotavirus",null,{"$f":"(SUM(ENERO!C320))","v":0},{"$f":"(SUM(ENERO!D320))","v":0},{"$f":"(SUM(ENERO!E320))","v":0},{"$f":"(SUM(ENERO!F320))","v":0},{"$f":"(SUM(ENERO!G320))","v":0},{"$f":"(SUM(ENERO!H320))","v":0},{"$f":"(SUM(ENERO!I320))","v":0},null,0,0,0,null,null,null,{"$f":"(SUM(ENERO!Q320))","v":0},{"$f":"(SUM(ENERO!R320))","v":0},{"$f":"(SUM(ENERO!S320))","v":0},{"$f":"(SUM(ENERO!T320))","v":0},{"$f":"(SUM(ENERO!U320))","v":0},{"$f":"(SUM(ENERO!V320))","v":0},{"$f":"(SUM(ENERO!W320))","v":0},{"$f":"(SUM(ENERO!X320))","v":0},{"$f":"(SUM(ENERO!Y320))","v":0},{"$f":"(SUM(ENERO!Z320))","v":0},{"$f":"(SUM(ENERO!AA320))","v":0},{"$f":"(SUM(ENERO!AB320))","v":0},0,null,{"$error":"#DIV/0!"},null,null,0,{"$error":"#DIV/0!"},{"$f":"(SUM(ENERO!AJ320))","v":0},{"$f":"(SUM(ENERO!AK320))","v":0}]
["Neumococo Decavalente",null,{"$f":"(SUM(ENERO!C321))","v":0},{"$f":"(SUM(ENERO!D321))","v":0},{"$f":"(SUM(ENERO!E321))","v":0},{"$f":"(SUM(ENERO!F321))","v":0},{"$f":"(SUM(ENERO!G321))","v":0},{"$f":"(SUM(ENERO!H321))","v":0},{"$f":"(SUM(ENERO!I321))","v":0},null,0,0,0,null,null,null,{"$f":"(SUM(ENERO!Q321))","v":0},{"$f":"(SUM(ENERO!R321))","v":0},{"$f":"(SUM(ENERO!S321))","v":0},{"$f":"(SUM(ENERO!T321))","v":0},{"$f":"(SUM(ENERO!U321))","v":0},{"$f":"(SUM(ENERO!V321))","v":0},{"$f":"(SUM(ENERO!W321))","v":0},{"$f":"(SUM(ENERO!X321))","v":0},{"$f":"(SUM(ENERO!Y321))","v":0},{"$f":"(SUM(ENERO!Z321))","v":0},{"$f":"(SUM(ENERO!AA321))","v":0},{"$f":"(SUM(ENERO!AB321))","v":0},0,null,{"$error":"#DIV/0!"},null,null,0,{"$error":"#DIV/0!"},{"$f":"(SUM(ENERO!AJ321))","v":0},{"$f":"(SUM(ENERO!AK321))","v":0}]
["Neumococo Trecevalente",null,{"$f":"(SUM(ENERO!C322))","v":0},{"$f":"(SUM(ENERO!D322))","v":0},{"$f":"(SUM(ENERO!E322))","v":0},{"$f":"(SUM(ENERO!F322))","v":0},{"$f":"(SUM(ENERO!G322))","v":0},{"$f":"(SUM(ENERO!H322))","v":0},{"$f":"(SUM(ENERO!I322))","v":0},null,0,0,0,null,null,null,{"$f":"(SUM(ENERO!Q322))","v":0},{"$f":"(SUM(ENERO!R322))","v":0},{"$f":"(SUM(ENERO!S322))","v":0},{"$f":"(SUM(ENERO!T322))","v":0},{"$f":"(SUM(ENERO!U322))","v":0},{"$f":"(SUM(ENERO!V322))","v":0},{"$f":"(SUM(ENERO!W322))","v":0},{"$f":"(SUM(ENERO!X322))","v":0},{"$f":"(SUM(ENERO!Y322))","v":0},{"$f":"(SUM(ENERO!Z322))","v":0},{"$f":"(SUM(ENERO!AA322))","v":0},{"$f":"(SUM(ENERO!AB322))","v":0},0,null,{"$error":"#DIV/0!"},null,null,0,{"$error":"#DIV/0!"},{"$f":"(SUM(ENERO!AJ322))","v":0},{"$f":"(SUM(ENERO!AK322))","v":0}]
["Triple Viral (vacuna)",null,{"$f":"(SUM(ENERO!C323))","v":0},{"$f":"(SUM(ENERO!D323))","v":0},{"$f":"(SUM(ENERO!E323))","v":0},{"$f":"(SUM(ENERO!F323))","v":0},{"$f":"(SUM(ENERO!G323))","v":0},{"$f":"(SUM(ENERO!H323))","v":0},{"$f":"(SUM(ENERO!I323))","v":0},null,0,0,0,null,null,null,{"$f":"(SUM(ENERO!Q323))","v":0},{"$f":"(SUM(ENERO!R323))","v":0},{"$f":"(SUM(ENERO!S323))","v":0},{"$f":"(SUM(ENERO!T323))","v":0},{"$f":"(SUM(ENERO!U323))","v":0},{"$f":"(SUM(ENERO!V323))","v":0},{"$f":"(SUM(ENERO!W323))","v":0},{"$f":"(SUM(ENERO!X323))","v":0},{"$f":"(SUM(ENERO!Y323))","v":0},{"$f":"(SUM(ENERO!Z323))","v":0},{"$f":"(SUM(ENERO!AA323))","v":0},{"$f":"(SUM(ENERO!AB323))","v":0},0,null,{"$error":"#DIV/0!"},null,null,0,{"$error":"#DIV/0!"},{"$f":"(SUM(ENERO!AJ323))","v":0},{"$f":"(SUM(ENERO!AK323))","v":0}]
["Sarampión Rubéola (vacuna)",null,{"$f":"(SUM(ENERO!C324))","v":0},{"$f":"(SUM(ENERO!D324))","v":0},{"$f":"(SUM(ENERO!E324))","v":0},{"$f":"(SUM(ENERO!F324))","v":0},{"$f":"(SUM(ENERO!G324))","v":0},{"$f":"(SUM(ENERO!H324))","v":0},{"$f":"(SUM(ENERO!I324))","v":0},null,0,0,0,null,null,null,{"$f":"(SUM(ENERO!Q324))","v":0},{"$f":"(SUM(ENERO!R324))","v":0},{"$f":"(SUM(ENERO!S324))","v":0},{"$f":"(SUM(ENERO!T324))","v":0},{"$f":"(SUM(ENERO!U324))","v":0},{"$f":"(SUM(ENERO!V324))","v":0},{"$f":"(SUM(ENERO!W324))","v":0},{"$f":"(SUM(ENERO!X324))","v":0},{"$f":"(SUM(ENERO!Y324))","v":0},{"$f":"(SUM(ENERO!Z324))","v":0},{"$f":"(SUM(ENERO!AA324))","v":0},{"$f":"(SUM(ENERO!AB324))","v":0},0,null,{"$f":"+(AC324*1)/(E325+F325+AC324)","v":{"$error":"#DIV/0!"}},null,null,0,{"$f":"+(AG324*1)/(J324+K324+AG324)","v":{"$error":"#DIV/0!"}},{"$f":"(SUM(ENERO!AJ324))","v":0},{"$f":"(SUM(ENERO!AK324))","v":0}]
["Fiebre amarilla (vacuna)",null,{"$f":"(SUM(ENERO!C325))","v":0},{"$f":"(SUM(ENERO!D325))","v":0},{"$f":"(SUM(ENERO!E325))","v":0},{"$f":"(SUM(ENERO!F325))","v":0},{"$f":"(SUM(ENERO!G325))","v":0},{"$f":"(SUM(ENERO!H325))","v":0},{"$f":"(SUM(ENERO!I325))","v":0},null,0,0,0,null,null,null,{"$f":"(SUM(ENERO!Q325))","v":0},{"$f":"(SUM(ENERO!R325))","v":0},{"$f":"(SUM(ENERO!S325))","v":0},{"$f":"(SUM(ENERO!T325))","v":0},{"$f":"(SUM(ENERO!U325))","v":0},{"$f":"(SUM(ENERO!V325))","v":0},{"$f":"(SUM(ENERO!W325))","v":0},{"$f":"(SUM(ENERO!X325))","v":0},{"$f":"(SUM(ENERO!Y325))","v":0},{"$f":"(SUM(ENERO!Z325))","v":0},{"$f":"(SUM(ENERO!AA325))","v":0},{"$f":"(SUM(ENERO!AB325))","v":0},0,null,{"$f":"(AC325)/(E326+F326+AC325)","v":{"$error":"#DIV/0!"}},null,null,0,{"$error":"#DIV/0!"},{"$f":"(SUM(ENERO!AJ325))","v":0},{"$f":"(SUM(ENERO!AK325))","v":0}]
["Hepatitis A pediátrica (vacuna)",null,{"$f":"(SUM(ENERO!C326))","v":0},{"$f":"(SUM(ENERO!D326))","v":0},{"$f":"(SUM(ENERO!E326))","v":0},{"$f":"(SUM(ENERO!F326))","v":0},{"$f":"(SUM(ENERO!G326))","v":0},{"$f":"(SUM(ENERO!H326))","v":0},{"$f":"(SUM(ENERO!I326))","v":0},null,0,0,0,null,null,null,{"$f":"(SUM(ENERO!Q326))","v":0},{"$f":"(SUM(ENERO!R326))","v":0},{"$f":"(SUM(ENERO!S326))","v":0},{"$f":"(SUM(ENERO!T326))","v":0},{"$f":"(SUM(ENERO!U326))","v":0},{"$f":"(SUM(ENERO!V326))","v":0},{"$f":"(SUM(ENERO!W326))","v":0},{"$f":"(SUM(ENERO!X326))","v":0},{"$f":"(SUM(ENERO!Y326))","v":0},{"$f":"(SUM(ENERO!Z326))","v":0},{"$f":"(SUM(ENERO!AA326))","v":0},{"$f":"(SUM(ENERO!AB326))","v":0},0,null,{"$f":"(AC326)/(E327+F327+AC326)","v":{"$error":"#DIV/0!"}},null,null,0,{"$error":"#DIV/0!"},{"$f":"(SUM(ENERO!AJ326))","v":0},{"$f":"(SUM(ENERO!AK326))","v":0}]
["Varicela (vacuna)",null,{"$f":"(SUM(ENERO!C327))","v":0},{"$f":"(SUM(ENERO!D327))","v":0},{"$f":"(SUM(ENERO!E327))","v":0},{"$f":"(SUM(ENERO!F327))","v":0},{"$f":"(SUM(ENERO!G327))","v":0},{"$f":"(SUM(ENERO!H327))","v":0},{"$f":"(SUM(ENERO!I327))","v":0},null,0,0,0,null,null,null,{"$f":"(SUM(ENERO!Q327))","v":0},{"$f":"(SUM(ENERO!R327))","v":0},{"$f":"(SUM(ENERO!S327))","v":0},{"$f":"(SUM(ENERO!T327))","v":0},{"$f":"(SUM(ENERO!U327))","v":0},{"$f":"(SUM(ENERO!V327))","v":0},{"$f":"(SUM(ENERO!W327))","v":0},{"$f":"(SUM(ENERO!X327))","v":0},{"$f":"(SUM(ENERO!Y327))","v":0},{"$f":"(SUM(ENERO!Z327))","v":0},{"$f":"(SUM(ENERO!AA327))","v":0},{"$f":"(SUM(ENERO!AB327))","v":0},0,null,{"$f":"+(AC327*1)/(E328+F328+AC327)","v":{"$error":"#DIV/0!"}},null,null,0,{"$f":"+(AG327*1)/(J327+K327+AG327)","v":{"$error":"#DIV/0!"}},{"$f":"(SUM(ENERO!AJ327))","v":0},{"$f":"(SUM(ENERO!AK327))","v":0}]
["Td Adultos",null,{"$f":"(SUM(ENERO!C328))","v":0},{"$f":"(SUM(ENERO!D328))","v":0},{"$f":"(SUM(ENERO!E328))","v":0},{"$f":"(SUM(ENERO!F328))","v":0},{"$f":"(SUM(ENERO!G328))","v":0},{"$f":"(SUM(ENERO!H328))","v":0},{"$f":"(SUM(ENERO!I328))","v":0},null,0,0,0,null,null,null,{"$f":"(SUM(ENERO!Q328))","v":0},{"$f":"(SUM(ENERO!R328))","v":0},{"$f":"(SUM(ENERO!S328))","v":0},{"$f":"(SUM(ENERO!T328))","v":0},{"$f":"(SUM(ENERO!U328))","v":0},{"$f":"(SUM(ENERO!V328))","v":0},{"$f":"(SUM(ENERO!W328))","v":0},{"$f":"(SUM(ENERO!X328))","v":0},{"$f":"(SUM(ENERO!Y328))","v":0},{"$f":"(SUM(ENERO!Z328))","v":0},{"$f":"(SUM(ENERO!AA328))","v":0},{"$f":"(SUM(ENERO!AB328))","v":0},0,null,{"$f":"(AC328)/(E329+F329+AC328)","v":{"$error":"#DIV/0!"}},null,null,0,{"$error":"#DIV/0!"},{"$f":"(SUM(ENERO!AJ328))","v":0},{"$f":"(SUM(ENERO!AK328))","v":0}]
["DTaP Adolescentes / Adultos",null,{"$f":"(SUM(ENERO!C329))","v":0},{"$f":"(SUM(ENERO!D329))","v":0},{"$f":"(SUM(ENERO!E329))","v":0},{"$f":"(SUM(ENERO!F329))","v":0},{"$f":"(SUM(ENERO!G329))","v":0},{"$f":"(SUM(ENERO!H329))","v":0},{"$f":"(SUM(ENERO!I329))","v":0},null,0,0,0,null,null,null,{"$f":"(SUM(ENERO!Q329))","v":0},{"$f":"(SUM(ENERO!R329))","v":0},{"$f":"(SUM(ENERO!S329))","v":0},{"$f":"(SUM(ENERO!T329))","v":0},{"$f":"(SUM(ENERO!U329))","v":0},{"$f":"(SUM(ENERO!V329))","v":0},{"$f":"(SUM(ENERO!W329))","v":0},{"$f":"(SUM(ENERO!X329))","v":0},{"$f":"(SUM(ENERO!Y329))","v":0},{"$f":"(SUM(ENERO!Z329))","v":0},{"$f":"(SUM(ENERO!AA329))","v":0},{"$f":"(SUM(ENERO!AB329))","v":0},0,null,{"$error":"#DIV/0!"},null,null,0,{"$error":"#DIV/0!"},{"$f":"(SUM(ENERO!AJ329))","v":0},{"$f":"(SUM(ENERO!AK329))","v":0}]
["Influenza pediatrica",null,{"$f":"(SUM(ENERO!C330))","v":0},{"$f":"(SUM(ENERO!D330))","v":0},{"$f":"(SUM(ENERO!E330))","v":0},{"$f":"(SUM(ENERO!F330))","v":0},{"$f":"(SUM(ENERO!G330))","v":0},{"$f":"(SUM(ENERO!H330))","v":0},{"$f":"(SUM(ENERO!I330))","v":0},null,0,0,0,null,null,null,{"$f":"(SUM(ENERO!Q330))","v":0},{"$f":"(SUM(ENERO!R330))","v":0},{"$f":"(SUM(ENERO!S330))","v":0},{"$f":"(SUM(ENERO!T330))","v":0},{"$f":"(SUM(ENERO!U330))","v":0},{"$f":"(SUM(ENERO!V330))","v":0},{"$f":"(SUM(ENERO!W330))","v":0},{"$f":"(SUM(ENERO!X330))","v":0},{"$f":"(SUM(ENERO!Y330))","v":0},{"$f":"(SUM(ENERO!Z330))","v":0},{"$f":"(SUM(ENERO!AA330))","v":0},{"$f":"(SUM(ENERO!AB330))","v":0},0,null,{"$error":"#DIV/0!"},null,null,0,{"$error":"#DIV/0!"},{"$f":"(SUM(ENERO!AJ330))","v":0},{"$f":"(SUM(ENERO!AK330))","v":0}]
["Influenza Adultos",null,{"$f":"(SUM(ENERO!C331))","v":0},{"$f":"(SUM(ENERO!D331))","v":0},{"$f":"(SUM(ENERO!E331))","v":0},{"$f":"(SUM(ENERO!F331))","v":0},{"$f":"(SUM(ENERO!G331))","v":0},{"$f":"(SUM(ENERO!H331))","v":0},{"$f":"(SUM(ENERO!I331))","v":0},null,0,0,0,null,null,null,{"$f":"(SUM(ENERO!Q331))","v":0},{"$f":"(SUM(ENERO!R331))","v":0},{"$f":"(SUM(ENERO!S331))","v":0},{"$f":"(SUM(ENERO!T331))","v":0},{"$f":"(SUM(ENERO!U331))","v":0},{"$f":"(SUM(ENERO!V331))","v":0},{"$f":"(SUM(ENERO!W331))","v":0},{"$f":"(SUM(ENERO!X331))","v":0},{"$f":"(SUM(ENERO!Y331))","v":0},{"$f":"(SUM(ENERO!Z331))","v":0},{"$f":"(SUM(ENERO!AA331))","v":0},{"$f":"(SUM(ENERO!AB331))","v":0},0,null,{"$error":"#DIV/0!"},null,null,0,{"$error":"#DIV/0!"},{"$f":"(SUM(ENERO!AJ331))","v":0},{"$f":"(SUM(ENERO!AK331))","v":0}]
["VPH",null,{"$f":"(SUM(ENERO!C332))","v":0},{"$f":"(SUM(ENERO!D332))","v":0},{"$f":"(SUM(ENERO!E332))","v":0},{"$f":"(SUM(ENERO!F332))","v":0},{"$f":"(SUM(ENERO!G332))","v":0},{"$f":"(SUM(ENERO!H332))","v":0},{"$f":"(SUM(ENERO!I332))","v":0},null,0,0,0,null,null,null,{"$f":"(SUM(ENERO!Q332))","v":0},{"$f":"(SUM(ENERO!R332))","v":0},{"$f":"(SUM(ENERO!S332))","v":0},{"$f":"(SUM(ENERO!T332))","v":0},{"$f":"(SUM(ENERO!U332))","v":0},{"$f":"(SUM(ENERO!V332))","v":0},{"$f":"(SUM(ENERO!W332))","v":0},{"$f":"(SUM(ENERO!X332))","v":0},{"$f":"(SUM(ENERO!Y332))","v":0},{"$f":"(SUM(ENERO!Z332))","v":0},{"$f":"(SUM(ENERO!AA332))","v":0},{"$f":"(SUM(ENERO!AB332))","v":0},0,null,{"$error":"#DIV/0!"},null,null,0,{"$error":"#DIV/0!"},{"$f":"(SUM(ENERO!AJ332))","v":0},{"$f":"(SUM(ENERO!AK332))","v":0}]
["Antirrabica humana",null,{"$f":"(SUM(ENERO!C333))","v":0},{"$f":"(SUM(ENERO!D333))","v":0},{"$f":"(SUM(ENERO!E333))","v":0},{"$f":"(SUM(ENERO!F333))","v":0},{"$f":"(SUM(ENERO!G333))","v":0},{"$f":"(SUM(ENERO!H333))","v":0},{"$f":"(SUM(ENERO!I333))","v":0},null,0,0,0,null,null,null,{"$f":"(SUM(ENERO!Q333))","v":0},{"$f":"(SUM(ENERO!R333))","v":0},{"$f":"(SUM(ENERO!S333))","v":0},{"$f":"(SUM(ENERO!T333))","v":0},{"$f":"(SUM(ENERO!U333))","v":0},{"$f":"(SUM(ENERO!V333))","v":0},{"$f":"(SUM(ENERO!W333))","v":0},{"$f":"(SUM(ENERO!X333))","v":0},{"$f":"(SUM(ENERO!Y333))","v":0},{"$f":"(SUM(ENERO!Z333))","v":0},{"$f":"(SUM(ENERO!AA333))","v":0},{"$f":"(SUM(ENERO!AB333))","v":0},0,null,{"$error":"#DIV/0!"},null,null,0,{"$error":"#DIV/0!"},{"$f":"(SUM(ENERO!AJ333))","v":0},{"$f":"(SUM(ENERO!AK333))","v":0}]
["Inmunoglobulina antirrabica humana (suero)",null,{"$f":"(SUM(ENERO!C334))","v":0},{"$f":"(SUM(ENERO!D334))","v":0},{"$f":"(SUM(ENERO!E334))","v":0},{"$f":"(SUM(ENERO!F334))","v":0},{"$f":"(SUM(ENERO!G334))","v":0},{"$f":"(SUM(ENERO!H334))","v":0},{"$f":"(SUM(ENERO!I334))","v":0},null,0,0,0,null,null,null,{"$f":"(SUM(ENERO!Q334))","v":0},{"$f":"(SUM(ENERO!R334))","v":0},{"$f":"(SUM(ENERO!S334))","v":0},{"$f":"(SUM(ENERO!T334))","v":0},{"$f":"(SUM(ENERO!U334))","v":0},{"$f":"(SUM(ENERO!V334))","v":0},{"$f":"(SUM(ENERO!W334))","v":0},{"$f":"(SUM(ENERO!X334))","v":0},{"$f":"(SUM(ENERO!Y334))","v":0},{"$f":"(SUM(ENERO!Z334))","v":0},{"$f":"(SUM(ENERO!AA334))","v":0},{"$f":"(SUM(ENERO!AB334))","v":0},0,null,{"$error":"#DIV/0!"},null,null,0,{"$error":"#DIV/0!"},{"$f":"(SUM(ENERO!AJ334))","v":0},{"$f":"(SUM(ENERO!AK334))","v":0}]
["Inmunoglobulina antihepatitis B",null,{"$f":"(SUM(ENERO!C335))","v":0},{"$f":"(SUM(ENERO!D335))","v":0},{"$f":"(SUM(ENERO!E335))","v":0},{"$f":"(SUM(ENERO!F335))","v":0},{"$f":"(SUM(ENERO!G335))","v":0},{"$f":"(SUM(ENERO!H335))","v":0},{"$f":"(SUM(ENERO!I335))","v":0},null,0,0,0,null,null,null,{"$f":"(SUM(ENERO!Q335))","v":0},{"$f":"(SUM(ENERO!R335))","v":0},{"$f":"(SUM(ENERO!S335))","v":0},{"$f":"(SUM(ENERO!T335))","v":0},{"$f":"(SUM(ENERO!U335))","v":0},{"$f":"(SUM(ENERO!V335))","v":0},{"$f":"(SUM(ENERO!W335))","v":0},{"$f":"(SUM(ENERO!X335))","v":0},{"$f":"(SUM(ENERO!Y335))","v":0},{"$f":"(SUM(ENERO!Z335))","v":0},{"$f":"(SUM(ENERO!AA335))","v":0},{"$f":"(SUM(ENERO!AB335))","v":0},0,null,{"$error":"#DIV/0!"},null,null,0,{"$error":"#DIV/0!"},{"$f":"(SUM(ENERO!AJ335))","v":0},{"$f":"(SUM(ENERO!AK335))","v":0}]
["Inmunoglobulina antitetanica ",null,{"$f":"(SUM(ENERO!C336))","v":0},{"$f":"(SUM(ENERO!D336))","v":0},{"$f":"(SUM(ENERO!E336))","v":0},{"$f":"(SUM(ENERO!F336))","v":0},{"$f":"(SUM(ENERO!G336))","v":0},{"$f":"(SUM(ENERO!H336))","v":0},{"$f":"(SUM(ENERO!I336))","v":0},null,0,0,0,null,null,null,{"$f":"(SUM(ENERO!Q336))","v":0},{"$f":"(SUM(ENERO!R336))","v":0},{"$f":"(SUM(ENERO!S336))","v":0},{"$f":"(SUM(ENERO!T336))","v":0},{"$f":"(SUM(ENERO!U336))","v":0},{"$f":"(SUM(ENERO!V336))","v":0},{"$f":"(SUM(ENERO!W336))","v":0},{"$f":"(SUM(ENERO!X336))","v":0},{"$f":"(SUM(ENERO!Y336))","v":0},{"$f":"(SUM(ENERO!Z336))","v":0},{"$f":"(SUM(ENERO!AA336))","v":0},{"$f":"(SUM(ENERO!AB336))","v":0},0,null,{"$error":"#DIV/0!"},null,null,0,{"$error":"#DIV/0!"},{"$f":"(SUM(ENERO!AJ336))","v":0},{"$f":"(SUM(ENERO!AK336))","v":0}]
["Antitoxina difterica",null,{"$f":"(SUM(ENERO!C337))","v":0},{"$f":"(SUM(ENERO!D337))","v":0},{"$f":"(SUM(ENERO!E337))","v":0},{"$f":"(SUM(ENERO!F337))","v":0},{"$f":"(SUM(ENERO!G337))","v":0},{"$f":"(SUM(ENERO!H337))","v":0},{"$f":"(SUM(ENERO!I337))","v":0},null,0,0,0,null,null,null,{"$f":"(SUM(ENERO!Q337))","v":0},{"$f":"(SUM(ENERO!R337))","v":0},{"$f":"(SUM(ENERO!S337))","v":0},{"$f":"(SUM(ENERO!T337))","v":0},{"$f":"(SUM(ENERO!U337))","v":0},{"$f":"(SUM(ENERO!V337))","v":0},{"$f":"(SUM(ENERO!W337))","v":0},{"$f":"(SUM(ENERO!X337))","v":0},{"$f":"(SUM(ENERO!Y337))","v":0},{"$f":"(SUM(ENERO!Z337))","v":0},{"$f":"(SUM(ENERO!AA337))","v":0},{"$f":"(SUM(ENERO!AB337))","v":0},0,null,{"$error":"#DIV/0!"},null,null,0,{"$error":"#DIV/0!"},{"$f":"(SUM(ENERO!AJ337))","v":0},{"$f":"(SUM(ENERO!AK337))","v":0}]
["Meningococo",null,{"$f":"(SUM(ENERO!C338))","v":0},{"$f":"(SUM(ENERO!D338))","v":0},{"$f":"(SUM(ENERO!E338))","v":0},{"$f":"(SUM(ENERO!F338))","v":0},{"$f":"(SUM(ENERO!G338))","v":0},{"$f":"(SUM(ENERO!H338))","v":0},{"$f":"(SUM(ENERO!I338))","v":0},null,0,0,0,null,null,null,{"$f":"(SUM(ENERO!Q338))","v":0},{"$f":"(SUM(ENERO!R338))","v":0},{"$f":"(SUM(ENERO!S338))","v":0},{"$f":"(SUM(ENERO!T338))","v":0},{"$f":"(SUM(ENERO!U338))","v":0},{"$f":"(SUM(ENERO!V338))","v":0},{"$f":"(SUM(ENERO!W338))","v":0},{"$f":"(SUM(ENERO!X338))","v":0},{"$f":"(SUM(ENERO!Y338))","v":0},{"$f":"(SUM(ENERO!Z338))","v":0},{"$f":"(SUM(ENERO!AA338))","v":0},{"$f":"(SUM(ENERO!AB338))","v":0},0,null,{"$f":"(AC338)/(E339+F339+AC338)","v":{"$error":"#DIV/0!"}},null,null,{"$f":"+IF(AC338<>K339,1,0)","v":0},{"$error":"#DIV/0!"},{"$f":"(SUM(ENERO!AJ338))","v":0},{"$f":"(SUM(ENERO!AK338))","v":0}]
["DILUYENTES",null,{"$f":"(SUM(ENERO!C339))","v":0},{"$f":"(SUM(ENERO!D339))","v":0},{"$f":"(SUM(ENERO!E339))","v":0},{"$f":"(SUM(ENERO!F339))","v":0},{"$f":"(SUM(ENERO!G339))","v":0},{"$f":"(SUM(ENERO!H339))","v":0},{"$f":"(SUM(ENERO!I339))","v":0},null,null,0]
["BCG (diluyente)",null,{"$f":"(SUM(ENERO!C340))","v":0},{"$f":"(SUM(ENERO!D340))","v":0},{"$f":"(SUM(ENERO!E340))","v":0},{"$f":"(SUM(ENERO!F340))","v":0},{"$f":"(SUM(ENERO!G340))","v":0},{"$f":"(SUM(ENERO!H340))","v":0},{"$f":"(SUM(ENERO!I340))","v":0},null,0,0,0,null,null,null,{"$f":"(SUM(ENERO!Q340))","v":0},{"$f":"(SUM(ENERO!R340))","v":0},{"$f":"(SUM(ENERO!S340))","v":0},{"$f":"(SUM(ENERO!T340))","v":0},{"$f":"(SUM(ENERO!U340))","v":0},{"$f":"(SUM(ENERO!V340))","v":0},{"$f":"(SUM(ENERO!W340))","v":0},{"$f":"(SUM(ENERO!X340))","v":0},{"$f":"(SUM(ENERO!Y340))","v":0},{"$f":"(SUM(ENERO!Z340))","v":0},{"$f":"(SUM(ENERO!AA340))","v":0},{"$f":"(SUM(ENERO!AB340))","v":0},0,null,null,null,null,{"$f":"+IF(AC340<>K340,1,0)","v":0},{"$error":"#DIV/0!"},{"$f":"(SUM(ENERO!AJ340))","v":0},{"$f":"(SUM(ENERO!AK340))","v":0}]
["Triple viral - SRP (diluyente)",null,{"$f":"(SUM(ENERO!C341))","v":0},{"$f":"(SUM(ENERO!D341))","v":0},{"$f":"(SUM(ENERO!E341))","v":0},{"$f":"(SUM(ENERO!F341))","v":0},{"$f":"(SUM(ENERO!G341))","v":0},{"$f":"(SUM(ENERO!H341))","v":0},{"$f":"(SUM(ENERO!I341))","v":0},null,0,0,0,null,null,null,{"$f":"(SUM(ENERO!Q341))","v":0},{"$f":"(SUM(ENERO!R341))","v":0},{"$f":"(SUM(ENERO!S341))","v":0},{"$f":"(SUM(ENERO!T341))","v":0},{"$f":"(SUM(ENERO!U341))","v":0},{"$f":"(SUM(ENERO!V341))","v":0},{"$f":"(SUM(ENERO!W341))","v":0},{"$f":"(SUM(ENERO!X341))","v":0},{"$f":"(SUM(ENERO!Y341))","v":0},{"$f":"(SUM(ENERO!Z341))","v":0},{"$f":"(SUM(ENERO!AA341))","v":0},{"$f":"(SUM(ENERO!AB341))","v":0},0,null,null,null,null,0,{"$error":"#DIV/0!"},{"$f":"(SUM(ENERO!AJ341))","v":0},{"$f":"(SUM(ENERO!AK341))","v":0}]
["Sarampión - Rubeola - SR (diluyente)",null,{"$f":"(SUM(ENERO!C342))","v":0},{"$f":"(SUM(ENERO!D342))","v":0},{"$f":"(SUM(ENERO!E342))","v":0},{"$f":"(SUM(ENERO!F342))","v":0},{"$f":"(SUM(ENERO!G342))","v":0},{"$f":"(SUM(ENERO!H342))","v":0},{"$f":"(SUM(ENERO!I342))","v":0},null,0,0,0,null,null,null,{"$f":"(SUM(ENERO!Q342))","v":0},{"$f":"(SUM(ENERO!R342))","v":0},{"$f":"(SUM(ENERO!S342))","v":0},{"$f":"(SUM(ENERO!T342))","v":0},{"$f":"(SUM(ENERO!U342))","v":0},{"$f":"(SUM(ENERO!V342))","v":0},{"$f":"(SUM(ENERO!W342))","v":0},{"$f":"(SUM(ENERO!X342))","v":0},{"$f":"(SUM(ENERO!Y342))","v":0},{"$f":"(SUM(ENERO!Z342))","v":0},{"$f":"(SUM(ENERO!AA342))","v":0},{"$f":"(SUM(ENERO!AB342))","v":0},0,null,null,null,null,0,{"$error":"#DIV/0!"},{"$f":"(SUM(ENERO!AJ342))","v":0},{"$f":"(SUM(ENERO!AK342))","v":0}]
["Fiebre amarilla (diluyente)",null,{"$f":"(SUM(ENERO!C343))","v":0},{"$f":"(SUM(ENERO!D343))","v":0},{"$f":"(SUM(ENERO!E343))","v":0},{"$f":"(SUM(ENERO!F343))","v":0},{"$f":"(SUM(ENERO!G343))","v":0},{"$f":"(SUM(ENERO!H343))","v":0},{"$f":"(SUM(ENERO!I343))","v":0},null,0,0,0,null,null,null,{"$f":"(SUM(ENERO!Q343))","v":0},{"$f":"(SUM(ENERO!R343))","v":0},{"$f":"(SUM(ENERO!S343))","v":0},{"$f":"(SUM(ENERO!T343))","v":0},{"$f":"(SUM(ENERO!U343))","v":0},{"$f":"(SUM(ENERO!V343))","v":0},{"$f":"(SUM(ENERO!W343))","v":0},{"$f":"(SUM(ENERO!X343))","v":0},{"$f":"(SUM(ENERO!Y343))","v":0},{"$f":"(SUM(ENERO!Z343))","v":0},{"$f":"(SUM(ENERO!AA343))","v":0},{"$f":"(SUM(ENERO!AB343))","v":0},0,null,null,null,null,0,{"$error":"#DIV/0!"},{"$f":"(SUM(ENERO!AJ343))","v":0},{"$f":"(SUM(ENERO!AK343))","v":0}]
["Varicela (diluyente)",null,{"$f":"(SUM(ENERO!C344))","v":0},{"$f":"(SUM(ENERO!D344))","v":0},{"$f":"(SUM(ENERO!E344))","v":0},{"$f":"(SUM(ENERO!F344))","v":0},{"$f":"(SUM(ENERO!G344))","v":0},{"$f":"(SUM(ENERO!H344))","v":0},{"$f":"(SUM(ENERO!I344))","v":0},null,0,0,0,null,null,null,{"$f":"(SUM(ENERO!Q344))","v":0},{"$f":"(SUM(ENERO!R344))","v":0},{"$f":"(SUM(ENERO!S344))","v":0},{"$f":"(SUM(ENERO!T344))","v":0},{"$f":"(SUM(ENERO!U344))","v":0},{"$f":"(SUM(ENERO!V344))","v":0},{"$f":"(SUM(ENERO!W344))","v":0},{"$f":"(SUM(ENERO!X344))","v":0},{"$f":"(SUM(ENERO!Y344))","v":0},{"$f":"(SUM(ENERO!Z344))","v":0},{"$f":"(SUM(ENERO!AA344))","v":0},{"$f":"(SUM(ENERO!AB344))","v":0},0,null,null,null,null,0,{"$error":"#DIV/0!"},{"$f":"(SUM(ENERO!AJ344))","v":0},{"$f":"(SUM(ENERO!AK344))","v":0}]
["Vacuna Antirrabica Humana (diluyente)",null,{"$f":"(SUM(ENERO!C345))","v":0},{"$f":"(SUM(ENERO!D345))","v":0},{"$f":"(SUM(ENERO!E345))","v":0},{"$f":"(SUM(ENERO!F345))","v":0},{"$f":"(SUM(ENERO!G345))","v":0},{"$f":"(SUM(ENERO!H345))","v":0},{"$f":"(SUM(ENERO!I345))","v":0},null,0,0,0,null,null,null,{"$f":"(SUM(ENERO!Q345))","v":0},{"$f":"(SUM(ENERO!R345))","v":0},{"$f":"(SUM(ENERO!S345))","v":0},{"$f":"(SUM(ENERO!T345))","v":0},{"$f":"(SUM(ENERO!U345))","v":0},{"$f":"(SUM(ENERO!V345))","v":0},{"$f":"(SUM(ENERO!W345))","v":0},{"$f":"(SUM(ENERO!X345))","v":0},{"$f":"(SUM(ENERO!Y345))","v":0},{"$f":"(SUM(ENERO!Z345))","v":0},{"$f":"(SUM(ENERO!AA345))","v":0},{"$f":"(SUM(ENERO!AB345))","v":0},0,null,null,null,null,0,{"$error":"#DIV/0!"},{"$f":"(SUM(ENERO!AJ345))","v":0},{"$f":"(SUM(ENERO!AK345))","v":0}]
["Meningococo (solvente)",null,{"$f":"(SUM(ENERO!C346))","v":0},{"$f":"(SUM(ENERO!D346))","v":0},{"$f":"(SUM(ENERO!E346))","v":0},{"$f":"(SUM(ENERO!F346))","v":0},{"$f":"(SUM(ENERO!G346))","v":0},{"$f":"(SUM(ENERO!H346))","v":0},{"$f":"(SUM(ENERO!I346))","v":0},null,0,0,0,null,null,null,{"$f":"(SUM(ENERO!Q346))","v":0},{"$f":"(SUM(ENERO!R346))","v":0},{"$f":"(SUM(ENERO!S346))","v":0},{"$f":"(SUM(ENERO!T346))","v":0},{"$f":"(SUM(ENERO!U346))","v":0},{"$f":"(SUM(ENERO!V346))","v":0},{"$f":"(SUM(ENERO!W346))","v":0},{"$f":"(SUM(ENERO!X346))","v":0},{"$f":"(SUM(ENERO!Y346))","v":0},{"$f":"(SUM(ENERO!Z346))","v":0},{"$f":"(SUM(ENERO!AA346))","v":0},{"$f":"(SUM(ENERO!AB346))","v":0},0,null,null,null,null,0,{"$error":"#DIV/0!"},{"$f":"(SUM(ENERO!AJ346))","v":0},{"$f":"(SUM(ENERO!AK346))","v":0}]
["JERINGAS",null,{"$f":"(SUM(ENERO!C347))","v":0},{"$f":"(SUM(ENERO!D347))","v":0},{"$f":"(SUM(ENERO!E347))","v":0},{"$f":"(SUM(ENERO!F347))","v":0},{"$f":"(SUM(ENERO!G347))","v":0},{"$f":"(SUM(ENERO!H347))","v":0},{"$f":"(SUM(ENERO!I347))","v":0},null,null,0]
["Jeringa Desechable 22G1 1/2\" AD",null,{"$f":"(SUM(ENERO!C348))","v":0},{"$f":"(SUM(ENERO!D348))","v":0},{"$f":"(SUM(ENERO!E348))","v":0},{"$f":"(SUM(ENERO!F348))","v":0},{"$f":"(SUM(ENERO!G348))","v":0},{"$f":"(SUM(ENERO!H348))","v":0},{"$f":"(SUM(ENERO!I348))","v":0},null,{"$f":"+AC348","v":0},0,0,null,null,null,{"$f":"(SUM(ENERO!Q348))","v":0},{"$f":"(SUM(ENERO!R348))","v":0},{"$f":"(SUM(ENERO!S348))","v":0},{"$f":"(SUM(ENERO!T348))","v":0},{"$f":"(SUM(ENERO!U348))","v":0},{"$f":"(SUM(ENERO!V348))","v":0},{"$f":"(SUM(ENERO!W348))","v":0},{"$f":"(SUM(ENERO!X348))","v":0},{"$f":"(SUM(ENERO!Y348))","v":0},{"$f":"(SUM(ENERO!Z348))","v":0},{"$f":"(SUM(ENERO!AA348))","v":0},{"$f":"(SUM(ENERO!AB348))","v":0},0,null,null,null,null,{"$f":"+IF(AC348<>K348,1,0)","v":0},{"$error":"#DIV/0!"},{"$f":"(SUM(ENERO!AJ348))","v":0},{"$f":"(SUM(ENERO!AK348))","v":0}]
["Jeringa Desechable 22G1 1/2\" Convencional",null,{"$f":"(SUM(ENERO!C349))","v":0},{"$f":"(SUM(ENERO!D349))","v":0},{"$f":"(SUM(ENERO!E349))","v":0},{"$f":"(SUM(ENERO!F349))","v":0},{"$f":"(SUM(ENERO!G349))","v":0},{"$f":"(SUM(ENERO!H349))","v":0},{"$f":"(SUM(ENERO!I349))","v":0},null,0,0,0,null,null,null,{"$f":"(SUM(ENERO!Q349))","v":0},{"$f":"(SUM(ENERO!R349))","v":0},{"$f":"(SUM(ENERO!S349))","v":0},{"$f":"(SUM(ENERO!T349))","v":0},{"$f":"(SUM(ENERO!U349))","v":0},{"$f":"(SUM(ENERO!V349))","v":0},{"$f":"(SUM(ENERO!W349))","v":0},{"$f":"(SUM(ENERO!X349))","v":0},{"$f":"(SUM(ENERO!Y349))","v":0},{"$f":"(SUM(ENERO!Z349))","v":0},{"$f":"(SUM(ENERO!AA349))","v":0},{"$f":"(SUM(ENERO!AB349))","v":0},0,null,null,null,null,0,{"$error":"#DIV/0!"},{"$f":"(SUM(ENERO!AJ349))","v":0},{"$f":"(SUM(ENERO!AK349))","v":0}]
["Jeringa Desechable 23G1\" AD",null,{"$f":"(SUM(ENERO!C350))","v":0},{"$f":"(SUM(ENERO!D350))","v":0},{"$f":"(SUM(ENERO!E350))","v":0},{"$f":"(SUM(ENERO!F350))","v":0},{"$f":"(SUM(ENERO!G350))","v":0},{"$f":"(SUM(ENERO!H350))","v":0},{"$f":"(SUM(ENERO!I350))","v":0},null,0,0,0,null,null,null,{"$f":"(SUM(ENERO!Q350))","v":0},{"$f":"(SUM(ENERO!R350))","v":0},{"$f":"(SUM(ENERO!S350))","v":0},{"$f":"(SUM(ENERO!T350))","v":0},{"$f":"(SUM(ENERO!U350))","v":0},{"$f":"(SUM(ENERO!V350))","v":0},{"$f":"(SUM(ENERO!W350))","v":0},{"$f":"(SUM(ENERO!X350))","v":0},{"$f":"(SUM(ENERO!Y350))","v":0},{"$f":"(SUM(ENERO!Z350))","v":0},{"$f":"(SUM(ENERO!AA350))","v":0},{"$f":"(SUM(ENERO!AB350))","v":0},0,null,null,null,null,0,{"$error":"#DIV/0!"},{"$f":"(SUM(ENERO!AJ350))","v":0},{"$f":"(SUM(ENERO!AK350))","v":0}]
["Jeringa Desechable 23G1\" Convencional",null,{"$f":"(SUM(ENERO!C351))","v":0},{"$f":"(SUM(ENERO!D351))","v":0},{"$f":"(SUM(ENERO!E351))","v":0},{"$f":"(SUM(ENERO!F351))","v":0},{"$f":"(SUM(ENERO!G351))","v":0},{"$f":"(SUM(ENERO!H351))","v":0},{"$f":"(SUM(ENERO!I351))","v":0},null,0,0,0,null,null,null,{"$f":"(SUM(ENERO!Q351))","v":0},{"$f":"(SUM(ENERO!R351))","v":0},{"$f":"(SUM(ENERO!S351))","v":0},{"$f":"(SUM(ENERO!T351))","v":0},{"$f":"(SUM(ENERO!U351))","v":0},{"$f":"(SUM(ENERO!V351))","v":0},{"$f":"(SUM(ENERO!W351))","v":0},{"$f":"(SUM(ENERO!X351))","v":0},{"$f":"(SUM(ENERO!Y351))","v":0},{"$f":"(SUM(ENERO!Z351))","v":0},{"$f":"(SUM(ENERO!AA351))","v":0},{"$f":"(SUM(ENERO!AB351))","v":0},0,null,null,null,null,0,{"$error":"#DIV/0!"},{"$f":"(SUM(ENERO!AJ351))","v":0},{"$f":"(SUM(ENERO!AK351))","v":0}]
["Jeringa Desechable 25G5/8\" AD",null,{"$f":"(SUM(ENERO!C352))","v":0},{"$f":"(SUM(ENERO!D352))","v":0},{"$f":"(SUM(ENERO!E352))","v":0},{"$f":"(SUM(ENERO!F352))","v":0},{"$f":"(SUM(ENERO!G352))","v":0},{"$f":"(SUM(ENERO!H352))","v":0},{"$f":"(SUM(ENERO!I352))","v":0},null,0,0,0,null,null,null,{"$f":"(SUM(ENERO!Q352))","v":0},{"$f":"(SUM(ENERO!R352))","v":0},{"$f":"(SUM(ENERO!S352))","v":0},{"$f":"(SUM(ENERO!T352))","v":0},{"$f":"(SUM(ENERO!U352))","v":0},{"$f":"(SUM(ENERO!V352))","v":0},{"$f":"(SUM(ENERO!W352))","v":0},{"$f":"(SUM(ENERO!X352))","v":0},{"$f":"(SUM(ENERO!Y352))","v":0},{"$f":"(SUM(ENERO!Z352))","v":0},{"$f":"(SUM(ENERO!AA352))","v":0},{"$f":"(SUM(ENERO!AB352))","v":0},0,null,null,null,null,0,{"$error":"#DIV/0!"},{"$f":"(SUM(ENERO!AJ352))","v":0},{"$f":"(SUM(ENERO!AK352))","v":0}]
["Jeringa Desechable 25G5/8\" Convencional",null,{"$f":"(SUM(ENERO!C353))","v":0},{"$f":"(SUM(ENERO!D353))","v":0},{"$f":"(SUM(ENERO!E353))","v":0},{"$f":"(SUM(ENERO!F353))","v":0},{"$f":"(SUM(ENERO!G353))","v":0},{"$f":"(SUM(ENERO!H353))","v":0},{"$f":"(SUM(ENERO!I353))","v":0},null,0,0,0,null,null,null,{"$f":"(SUM(ENERO!Q353))","v":0},{"$f":"(SUM(ENERO!R353))","v":0},{"$f":"(SUM(ENERO!S353))","v":0},{"$f":"(SUM(ENERO!T353))","v":0},{"$f":"(SUM(ENERO!U353))","v":0},{"$f":"(SUM(ENERO!V353))","v":0},{"$f":"(SUM(ENERO!W353))","v":0},{"$f":"(SUM(ENERO!X353))","v":0},{"$f":"(SUM(ENERO!Y353))","v":0},{"$f":"(SUM(ENERO!Z353))","v":0},{"$f":"(SUM(ENERO!AA353))","v":0},{"$f":"(SUM(ENERO!AB353))","v":0},0,null,null,null,null,0,{"$error":"#DIV/0!"},{"$f":"(SUM(ENERO!AJ353))","v":0},{"$f":"(SUM(ENERO!AK353))","v":0}]
["Jeringa Desechable 26G 3/8\" AD",null,{"$f":"(SUM(ENERO!C354))","v":0},{"$f":"(SUM(ENERO!D354))","v":0},{"$f":"(SUM(ENERO!E354))","v":0},{"$f":"(SUM(ENERO!F354))","v":0},{"$f":"(SUM(ENERO!G354))","v":0},{"$f":"(SUM(ENERO!H354))","v":0},{"$f":"(SUM(ENERO!I354))","v":0},null,0,0,0,null,null,null,{"$f":"(SUM(ENERO!Q354))","v":0},{"$f":"(SUM(ENERO!R354))","v":0},{"$f":"(SUM(ENERO!S354))","v":0},{"$f":"(SUM(ENERO!T354))","v":0},{"$f":"(SUM(ENERO!U354))","v":0},{"$f":"(SUM(ENERO!V354))","v":0},{"$f":"(SUM(ENERO!W354))","v":0},{"$f":"(SUM(ENERO!X354))","v":0},{"$f":"(SUM(ENERO!Y354))","v":0},{"$f":"(SUM(ENERO!Z354))","v":0},{"$f":"(SUM(ENERO!AA354))","v":0},{"$f":"(SUM(ENERO!AB354))","v":0},0,null,null,null,null,0,{"$error":"#DIV/0!"},{"$f":"(SUM(ENERO!AJ354))","v":0},{"$f":"(SUM(ENERO!AK354))","v":0}]
["Jeringa Desechable 26G 3/8\" Convencional",null,{"$f":"(SUM(ENERO!C355))","v":0},{"$f":"(SUM(ENERO!D355))","v":0},{"$f":"(SUM(ENERO!E355))","v":0},{"$f":"(SUM(ENERO!F355))","v":0},{"$f":"(SUM(ENERO!G355))","v":0},{"$f":"(SUM(ENERO!H355))","v":0},{"$f":"(SUM(ENERO!I355))","v":0},null,0,0,0,null,null,null,{"$f":"(SUM(ENERO!Q355))","v":0},{"$f":"(SUM(ENERO!R355))","v":0},{"$f":"(SUM(ENERO!S355))","v":0},{"$f":"(SUM(ENERO!T355))","v":0},{"$f":"(SUM(ENERO!U355))","v":0},{"$f":"(SUM(ENERO!V355))","v":0},{"$f":"(SUM(ENERO!W355))","v":0},{"$f":"(SUM(ENERO!X355))","v":0},{"$f":"(SUM(ENERO!Y355))","v":0},{"$f":"(SUM(ENERO!Z355))","v":0},{"$f":"(SUM(ENERO!AA355))","v":0},{"$f":"(SUM(ENERO!AB355))","v":0},0,null,null,null,null,0,{"$error":"#DIV/0!"},{"$f":"(SUM(ENERO!AJ355))","v":0},{"$f":"(SUM(ENERO!AK355))","v":0}]
["Jeringa Desechable 27G 3/8\" ",null,{"$f":"(SUM(ENERO!C356))","v":0},{"$f":"(SUM(ENERO!D356))","v":0},{"$f":"(SUM(ENERO!E356))","v":0},{"$f":"(SUM(ENERO!F356))","v":0},{"$f":"(SUM(ENERO!G356))","v":0},{"$f":"(SUM(ENERO!H356))","v":0},{"$f":"(SUM(ENERO!I356))","v":0},null,0,0,0,null,null,null,{"$f":"(SUM(ENERO!Q356))","v":0},{"$f":"(SUM(ENERO!R356))","v":0},{"$f":"(SUM(ENERO!S356))","v":0},{"$f":"(SUM(ENERO!T356))","v":0},{"$f":"(SUM(ENERO!U356))","v":0},{"$f":"(SUM(ENERO!V356))","v":0},{"$f":"(SUM(ENERO!W356))","v":0},{"$f":"(SUM(ENERO!X356))","v":0},{"$f":"(SUM(ENERO!Y356))","v":0},{"$f":"(SUM(ENERO!Z356))","v":0},{"$f":"(SUM(ENERO!AA356))","v":0},{"$f":"(SUM(ENERO!AB356))","v":0},0,null,null,null,null,0,{"$error":"#DIV/0!"},{"$f":"(SUM(ENERO!AJ356))","v":0},{"$f":"(SUM(ENERO!AK356))","v":0}]
["Gotero",null,{"$f":"(SUM(ENERO!C357))","v":0},{"$f":"(SUM(ENERO!D357))","v":0},{"$f":"(SUM(ENERO!E357))","v":0},{"$f":"(SUM(ENERO!F357))","v":0},{"$f":"(SUM(ENERO!G357))","v":0},{"$f":"(SUM(ENERO!H357))","v":0},{"$f":"(SUM(ENERO!I357))","v":0},null,0,0,0,null,null,null,{"$f":"(SUM(ENERO!Q357))","v":0},{"$f":"(SUM(ENERO!R357))","v":0},{"$f":"(SUM(ENERO!S357))","v":0},{"$f":"(SUM(ENERO!T357))","v":0},{"$f":"(SUM(ENERO!U357))","v":0},{"$f":"(SUM(ENERO!V357))","v":0},{"$f":"(SUM(ENERO!W357))","v":0},{"$f":"(SUM(ENERO!X357))","v":0},{"$f":"(SUM(ENERO!Y357))","v":0},{"$f":"(SUM(ENERO!Z357))","v":0},{"$f":"(SUM(ENERO!AA357))","v":0},{"$f":"(SUM(ENERO!AB357))","v":0},0,null,null,null,null,0,{"$error":"#DIV/0!"},{"$f":"(SUM(ENERO!AJ357))","v":0},{"$f":"(SUM(ENERO!AK357))","v":0}]
["CARNE DE VACUNACIÓN INFANTIL",null,{"$f":"(SUM(ENERO!C358))","v":0},{"$f":"(SUM(ENERO!D358))","v":0},{"$f":"(SUM(ENERO!E358))","v":0},{"$f":"(SUM(ENERO!F358))","v":0},{"$f":"(SUM(ENERO!G358))","v":0},{"$f":"(SUM(ENERO!H358))","v":0},{"$f":"(SUM(ENERO!I358))","v":0},null,0,0,0,null,null,null,{"$f":"(SUM(ENERO!Q358))","v":0},{"$f":"(SUM(ENERO!R358))","v":0},{"$f":"(SUM(ENERO!S358))","v":0},{"$f":"(SUM(ENERO!T358))","v":0},{"$f":"(SUM(ENERO!U358))","v":0},{"$f":"(SUM(ENERO!V358))","v":0},{"$f":"(SUM(ENERO!W358))","v":0},{"$f":"(SUM(ENERO!X358))","v":0},{"$f":"(SUM(ENERO!Y358))","v":0},{"$f":"(SUM(ENERO!Z358))","v":0},{"$f":"(SUM(ENERO!AA358))","v":0},{"$f":"(SUM(ENERO!AB358))","v":0},0,null,null,null,null,0,{"$error":"#DIV/0!"},{"$f":"(SUM(ENERO!AJ358))","v":0},{"$f":"(SUM(ENERO!AK358))","v":0}]
["CARNE/CERTIFICADO DE VACUNACIÓN DE ADULTOS",null,{"$f":"(SUM(ENERO!C359))","v":0},{"$f":"(SUM(ENERO!D359))","v":0},{"$f":"(SUM(ENERO!E359))","v":0},{"$f":"(SUM(ENERO!F359))","v":0},{"$f":"(SUM(ENERO!G359))","v":0},{"$f":"(SUM(ENERO!H359))","v":0},{"$f":"(SUM(ENERO!I359))","v":0},null,0,0,0,null,null,null,{"$f":"(SUM(ENERO!Q359))","v":0},{"$f":"(SUM(ENERO!R359))","v":0},{"$f":"(SUM(ENERO!S359))","v":0},{"$f":"(SUM(ENERO!T359))","v":0},{"$f":"(SUM(ENERO!U359))","v":0},{"$f":"(SUM(ENERO!V359))","v":0},{"$f":"(SUM(ENERO!W359))","v":0},{"$f":"(SUM(ENERO!X359))","v":0},{"$f":"(SUM(ENERO!Y359))","v":0},{"$f":"(SUM(ENERO!Z359))","v":0},{"$f":"(SUM(ENERO!AA359))","v":0},{"$f":"(SUM(ENERO!AB359))","v":0},0,null,null,null,null,0,{"$error":"#DIV/0!"},{"$f":"(SUM(ENERO!AJ359))","v":0},{"$f":"(SUM(ENERO!AK359))","v":0}]
["CARNE/CERTIFICADO INTERNACIONAL DE VACUNACIÓN",null,{"$f":"(SUM(ENERO!C360))","v":0},{"$f":"(SUM(ENERO!D360))","v":0},{"$f":"(SUM(ENERO!E360))","v":0},{"$f":"(SUM(ENERO!F360))","v":0},{"$f":"(SUM(ENERO!G360))","v":0},{"$f":"(SUM(ENERO!H360))","v":0},{"$f":"(SUM(ENERO!I360))","v":0},null,0,0,0,null,null,null,{"$f":"(SUM(ENERO!Q360))","v":0},{"$f":"(SUM(ENERO!R360))","v":0},{"$f":"(SUM(ENERO!S360))","v":0},{"$f":"(SUM(ENERO!T360))","v":0},{"$f":"(SUM(ENERO!U360))","v":0},{"$f":"(SUM(ENERO!V360))","v":0},{"$f":"(SUM(ENERO!W360))","v":0},{"$f":"(SUM(ENERO!X360))","v":0},{"$f":"(SUM(ENERO!Y360))","v":0},{"$f":"(SUM(ENERO!Z360))","v":0},{"$f":"(SUM(ENERO!AA360))","v":0},{"$f":"(SUM(ENERO!AB360))","v":0},0,null,null,null,null,0,{"$error":"#DIV/0!"},{"$f":"(SUM(ENERO!AJ360))","v":0},{"$f":"(SUM(ENERO!AK360))","v":0}]
["TARJETAS UNIFICADAS DE VACUNACION -TUV ADULTOS",null,{"$f":"(SUM(ENERO!C361))","v":0},{"$f":"(SUM(ENERO!D361))","v":0},{"$f":"(SUM(ENERO!E361))","v":0},{"$f":"(SUM(ENERO!F361))","v":0},{"$f":"(SUM(ENERO!G361))","v":0},{"$f":"(SUM(ENERO!H361))","v":0},{"$f":"(SUM(ENERO!I361))","v":0},null,0,0,0,null,null,null,{"$f":"(SUM(ENERO!Q361))","v":0},{"$f":"(SUM(ENERO!R361))","v":0},{"$f":"(SUM(ENERO!S361))","v":0},{"$f":"(SUM(ENERO!T361))","v":0},{"$f":"(SUM(ENERO!U361))","v":0},{"$f":"(SUM(ENERO!V361))","v":0},{"$f":"(SUM(ENERO!W361))","v":0},{"$f":"(SUM(ENERO!X361))","v":0},{"$f":"(SUM(ENERO!Y361))","v":0},{"$f":"(SUM(ENERO!Z361))","v":0},{"$f":"(SUM(ENERO!AA361))","v":0},{"$f":"(SUM(ENERO!AB361))","v":0},0,null,null,null,null,0,{"$error":"#DIV/0!"},{"$f":"(SUM(ENERO!AJ361))","v":0},{"$f":"(SUM(ENERO!AK361))","v":0}]
["TARJETAS UNIFICADAS DE VACUNACION -TUV NIÑOS",null,{"$f":"(SUM(ENERO!C362))","v":0},{"$f":"(SUM(ENERO!D362))","v":0},{"$f":"(SUM(ENERO!E362))","v":0},{"$f":"(SUM(ENERO!F362))","v":0},{"$f":"(SUM(ENERO!G362))","v":0},{"$f":"(SUM(ENERO!H362))","v":0},{"$f":"(SUM(ENERO!I362))","v":0},null,0,0,0,null,null,null,{"$f":"(SUM(ENERO!Q362))","v":0},{"$f":"(SUM(ENERO!R362))","v":0},{"$f":"(SUM(ENERO!S362))","v":0},{"$f":"(SUM(ENERO!T362))","v":0},{"$f":"(SUM(ENERO!U362))","v":0},{"$f":"(SUM(ENERO!V362))","v":0},{"$f":"(SUM(ENERO!W362))","v":0},{"$f":"(SUM(ENERO!X362))","v":0},{"$f":"(SUM(ENERO!Y362))","v":0},{"$f":"(SUM(ENERO!Z362))","v":0},{"$f":"(SUM(ENERO!AA362))","v":0},{"$f":"(SUM(ENERO!AB362))","v":0},0,null,null,null,null,0,{"$error":"#DIV/0!"},{"$f":"(SUM(ENERO!AJ362))","v":0},{"$f":"(SUM(ENERO!AK362))","v":0}]
[]
[]
["CONSOLIDADO ENTIDAD TERRITORIAL - CELDAS AUTOMATICAS PROTEGIDAS CONTRA ESCRITURA"]
["INSUMOS",null,"SALDO MES ANTERIOR","BIOLOGICO RECIBIDO POR MSPS","D. APLICADAS",null,"ENTRADAS",null,"SALIDAS",null,null,"SALDO QUE INICIA EL MES SIGUIENTE","TOTAL DE DOSIS APLICADAS",null,null,null,"CAUSAS DE PERDIDA DE BIOLÓGICO ",null,null,null,null,null,null,null,null,null,null,null,"TOTAL DOSIS PERDIDAS        ",null,"PORCENTAJE DE PERDIDA",null,null,null,"PORCENTAJE DE PERDIDA"]
[null,null,null,null,"DOSIS APLICADAS\nCOLOMBIANOS","DOSIS APLICADAS EXTRANJEROS","CANTIDAD DE DESPACHOS","TRASLADOS ENTRADAS","CANTIDAD DE DESPACHOS","TRASLADOS SALIDAS","DOSIS PERDIDAS",null,null,null,null,null," POR FRASCO ABIERTO  ",null,"INTERRUPCION DE CADENA DE FRIO","APLICACIÓN FUERA DE LA EDAD","CONTAMINACION DEL BIOLÓGICO/DISPOSITIVO MÉDICO","FRASCO/VIAL  ROTO","ERRORES EN LA MANIPULACION","VENCIMIENTO DEL BIOLÓGICO/DISPOSITIVO MÉDICO","FARMACOVIGILANCIA/ TECNOVIGILANCIA","VOMITO FRANCO","SINIESTRO O ROBO","RECONSTITUCION BIOLÓGICO",null,null,null,null,null,null,null,"SINIESTRO O ROBO","RECONSTITUCION BIOLÓGICO"]
[null,null,null,null,null,null,null,null,null,null,null,null,null,null,null,null,"INSTITUCIONAL","EXTRAMURAL"]
[]
["BCG (vacuna)",null,{"$f":"C14+C310","v":0},{"$f":"+D14","v":0},{"$f":"+E310","v":0},0,{"$f":"+G310","v":0},{"$f":"+H310","v":0},{"$f":"+I310","v":0},{"$f":"+I310","v":0},{"$f":"+K310+I14","v":0},{"$f":"+L310+J14","v":0},{"$f":"SUM(E370,F370)","v":0},null,null,null,{"$f":"+Q310+Q14","v":0},{"$f":"+R310+R14","v":0},0,0,0,0,0,0,0,0,0,0,{"$f":"SUM(Q370:AB370)","v":0},null,{"$f":"+(AC370)/(E370+F370+AC370)","v":{"$error":"#DIV/0!"}},null,null,{"$f":"+IF(AC370<>K370,1,0)","v":0},{"$f":"+(AG370)/(J370+K370+AG370)","v":{"$error":"#DIV/0!"}},{"$f":"(SUM(ENERO!AJ370))","v":0},{"$f":"(SUM(ENERO!AK370))","v":0}]
["Hepatitis B pediatrica",null,{"$f":"+C311+C20","v":0},{"$f":"D20","v":0},0,0,0,0,0,0,{"$f":"+K311+I20","v":0},{"$f":"+L311+J20","v":0},{"$f":"SUM(E371,F371)","v":0},null,null,null,{"$f":"+Q311+Q20","v":0},0,0,0,0,0,0,0,0,0,0,0,0,null,{"$f":"(AC371)/(E371+F371+AC371)","v":{"$error":"#DIV/0!"}},null,null,0,{"$f":"(AG371)/(J371+K371+AG371)","v":{"$error":"#DIV/0!"}},{"$f":"(SUM(ENERO!AJ371))","v":0},{"$f":"(SUM(ENERO!AK371))","v":0}]
["Hepatitis B Adultos",null,{"$f":"+C312+C26","v":0},{"$f":"+D26","v":0},0,0,0,0,0,0,{"$f":"+K312+I26","v":0},{"$f":"+L312+J26","v":0},0,null,null,null,{"$f":"+Q312+Q26","v":0},0,0,0,0,0,0,0,0,0,0,0,0,null,{"$f":"(AC372)/(E372+F372+AC372)","v":{"$error":"#DIV/0!"}},null,null,0,{"$f":"(AG372)/(J372+K372+AG372)","v":{"$error":"#DIV/0!"}},{"$f":"(SUM(ENERO!AJ372))","v":0},{"$f":"(SUM(ENERO!AK372))","v":0}]
["Polio Inactivada -VIP",null,{"$f":"+C313+C32","v":0},{"$f":"D32","v":0},0,0,0,0,0,0,{"$f":"+K313+I32","v":0},{"$f":"+L313+J32","v":0},0,null,null,null,{"$f":"+Q313+Q32","v":0},0,0,0,0,0,0,0,0,0,0,0,0,null,{"$error":"#DIV/0!"},null,null,0,{"$error":"#DIV/0!"},{"$f":"(SUM(ENERO!AJ373))","v":0},{"$f":"(SUM(ENERO!AK373))","v":0}]
["Polio oral",null,{"$f":"+C314+C38","v":0},{"$f":"D38","v":0},0,0,0,0,0,0,{"$f":"+K314+I38","v":0},{"$f":"+L314+J38","v":0},0,null,null,null,{"$f":"+Q314+Q38","v":0},0,0,0,0,0,0,0,0,0,0,0,0,null,{"$f":"+(AC374*1)/(E374+F374+AC374)","v":{"$error":"#DIV/0!"}},null,null,0,{"$f":"+(AG374*1)/(J374+K374+AG374)","v":{"$error":"#DIV/0!"}},{"$f":"(SUM(ENERO!AJ374))","v":0},{"$f":"(SUM(ENERO!AK374))","v":0}]
["Pentavalente",null,{"$f":"+C315+C44","v":0},{"$f":"D44","v":0},0,0,0,0,0,0,{"$f":"+K315+I44","v":0},{"$f":"+L315+J44","v":0},0,null,null,null,{"$f":"+Q315+Q44","v":0},0,0,0,0,0,0,0,0,0,0,0,0,null,{"$error":"#DIV/0!"},null,null,0,{"$error":"#DIV/0!"},{"$f":"(SUM(ENERO!AJ375))","v":0},{"$f":"(SUM(ENERO!AK375))","v":0}]
["Hexavalente",null,{"$f":"+C316+C50","v":0},{"$f":"+D50","v":0},{"$f":"+E316+E50","v":0},{"$f":"+F316+F50","v":0},0,0,0,0,{"$f":"+K316+I50","v":0},{"$f":"+L316+J50","v":0},0,null,null,null,{"$f":"+Q316+Q50","v":0},{"$f":"+R316+R50","v":0},0,0,0,0,0,0,0,0,0,0,0,null,{"$f":"(AC377)/(E377+F377+AC377)","v":{"$error":"#DIV/0!"}},null,null,{"$f":"+IF(AC377<>K377,1,0)","v":0},{"$error":"#DIV/0!"},{"$f":"(SUM(ENERO!AJ376))","v":0},{"$f":"(SUM(ENERO!AK376))","v":0}]
["DPT",null,{"$f":"+C317+C56","v":0},{"$f":"D56","v":0},{"$f":"+E317","v":0},0,0,0,0,{"$f":"+I317","v":0},{"$f":"+K317+I56","v":0},{"$f":"+L317+J56","v":0},0,null,null,null,{"$f":"+Q316+Q56","v":0},0,0,0,0,0,0,0,0,0,0,0,{"$f":"SUM(Q377:AB377)","v":0},null,{"$error":"#DIV/0!"},null,null,0,{"$error":"#DIV/0!"},{"$f":"(SUM(ENERO!AJ377))","v":0},{"$f":"(SUM(ENERO!AK377))","v":0}]
["DTaP pediatrica",null,{"$f":"+C318+C62","v":0},{"$f":"D62","v":0},0,0,0,0,0,0,{"$f":"+K318+I62","v":0},{"$f":"+L318+J62","v":0},0,null,null,null,{"$f":"+Q317+Q62","v":0},0,0,0,0,0,0,0,0,0,0,0,0,null,{"$error":"#DIV/0!"},null,null,0,{"$error":"#DIV/0!"},{"$f":"(SUM(ENERO!AJ378))","v":0},{"$f":"(SUM(ENERO!AK378))","v":0}]
["TD Pediatrica",null,{"$f":"+C319+C68","v":0},{"$f":"D68","v":0},0,0,0,0,0,0,{"$f":"+K319+I68","v":0},{"$f":"+L319+J68","v":0},0,null,null,null,{"$f":"+Q318+Q68","v":0},0,0,0,0,0,0,0,0,0,0,0,0,null,{"$error":"#DIV/0!"},null,null,0,{"$error":"#DIV/0!"},{"$f":"(SUM(ENERO!AJ379))","v":0},{"$f":"(SUM(ENERO!AK379))","v":0}]
["Rotavirus",null,{"$f":"+C320+C74","v":0},{"$f":"D74","v":0},0,0,0,0,0,0,{"$f":"+K320+I74","v":0},{"$f":"+L320+J74","v":0},0,null,null,null,{"$f":"+Q319+Q74","v":0},0,0,0,0,0,0,0,0,0,0,0,0,null,{"$error":"#DIV/0!"},null,null,0,{"$error":"#DIV/0!"},{"$f":"(SUM(ENERO!AJ380))","v":0},{"$f":"(SUM(ENERO!AK380))","v":0}]
["Neumococo Decavalente",null,{"$f":"+C321+C80","v":0},{"$f":"D85","v":0},0,0,0,0,0,0,{"$f":"+K321+I85","v":0},{"$f":"+L321+J80","v":0},0,null,null,null,{"$f":"+Q320+Q85","v":0},0,0,0,0,0,0,0,0,0,0,0,0,null,{"$error":"#DIV/0!"},null,null,0,{"$error":"#DIV/0!"},{"$f":"(SUM(ENERO!AJ381))","v":0},{"$f":"(SUM(ENERO!AK381))","v":0}]
["Neumococo Trecevalente",null,{"$f":"+C322+C81","v":0},{"$f":"D86","v":0},0,0,0,0,0,0,{"$f":"+K322+I86","v":0},{"$f":"+L322+J86","v":0},0,null,null,null,{"$f":"+Q321+Q86","v":0},0,0,0,0,0,0,0,0,0,0,0,0,null,{"$error":"#DIV/0!"},null,null,0,{"$error":"#DIV/0!"},{"$f":"(SUM(ENERO!AJ382))","v":0},{"$f":"(SUM(ENERO!AK382))","v":0}]
["Triple Viral (vacuna)",null,{"$f":"+C323+C92","v":0},{"$f":"D92","v":0},0,0,0,0,0,0,{"$f":"+K323+I92","v":0},{"$f":"+L323+J92","v":0},0,null,null,null,{"$f":"+Q322+Q92","v":0},0,0,0,0,0,0,0,0,0,0,0,0,null,{"$error":"#DIV/0!"},null,null,0,{"$error":"#DIV/0!"},{"$f":"(SUM(ENERO!AJ383))","v":0},{"$f":"(SUM(ENERO!AK383))","v":0}]
["Sarampión Rubéola (vacuna)",null,{"$f":"+C324+C98","v":0},{"$f":"D98","v":0},0,0,0,0,0,0,{"$f":"+K324+I98","v":0},{"$f":"+L324+J98","v":0},0,null,null,null,{"$f":"+Q323+Q98","v":0},0,0,0,0,0,0,0,0,0,0,0,0,null,{"$f":"+(AC385*1)/(E385+F385+AC385)","v":{"$error":"#DIV/0!"}},null,null,0,{"$f":"+(AG384*1)/(J384+K384+AG384)","v":{"$error":"#DIV/0!"}},{"$f":"(SUM(ENERO!AJ384))","v":0},{"$f":"(SUM(ENERO!AK384))","v":0}]
["Fiebre amarilla (vacuna)",null,{"$f":"+C325+C104","v":0},{"$f":"D104","v":0},0,0,0,0,0,0,{"$f":"+K325+I104","v":0},{"$f":"+L325+J104","v":0},0,null,null,null,{"$f":"+Q324+Q104","v":0},0,0,0,0,0,0,0,0,0,0,0,0,null,{"$f":"(AC386)/(E386+F386+AC386)","v":{"$error":"#DIV/0!"}},null,null,0,{"$error":"#DIV/0!"},{"$f":"(SUM(ENERO!AJ385))","v":0},{"$f":"(SUM(ENERO!AK385))","v":0}]
["Hepatitis A pediátrica (vacuna)",null,{"$f":"+C326+C110","v":0},{"$f":"D110","v":0},0,0,0,0,0,0,{"$f":"+K326+I110","v":0},{"$f":"+L326+J110","v":0},0,null,null,null,{"$f":"+Q325+Q110","v":0},0,0,0,0,0,0,0,0,0,0,0,0,null,{"$f":"(AC387)/(E387+F387+AC387)","v":{"$error":"#DIV/0!"}},null,null,0,{"$error":"#DIV/0!"},{"$f":"(SUM(ENERO!AJ386))","v":0},{"$f":"(SUM(ENERO!AK386))","v":0}]
["Varicela (vacuna)",null,{"$f":"+C327+C116","v":0},{"$f":"D116","v":0},{"$f":"+E327","v":0},0,0,0,0,0,{"$f":"+K327+I116","v":0},{"$f":"+L327+J116","v":0},0,null,null,null,{"$f":"+Q326+Q116","v":0},0,0,0,0,0,0,0,0,0,0,0,0,null,{"$f":"+(AC388*1)/(E388+F388+AC388)","v":{"$error":"#DIV/0!"}},null,null,0,{"$f":"+(AG387*1)/(J387+K387+AG387)","v":{"$error":"#DIV/0!"}},{"$f":"(SUM(ENERO!AJ387))","v":0},{"$f":"(SUM(ENERO!AK387))","v":0}]
["Td Adultos",null,{"$f":"+C328+C122","v":0},{"$f":"D122","v":0},0,0,0,0,0,0,{"$f":"+K328+I122","v":0},{"$f":"+L328+J122","v":0},0,null,null,null,{"$f":"+Q327+Q122","v":0},0,0,0,0,0,0,0,0,0,0,0,0,null,{"$f":"(AC389)/(E389+F389+AC389)","v":{"$error":"#DIV/0!"}},null,null,0,{"$error":"#DIV/0!"},{"$f":"(SUM(ENERO!AJ388))","v":0},{"$f":"(SUM(ENERO!AK388))","v":0}]
["DTaP Adolescentes / Adultos",null,{"$f":"+C329+C128","v":0},{"$f":"D128","v":0},0,0,0,0,0,0,{"$f":"+K329+I128","v":0},{"$f":"+L329+J128","v":0},0,null,null,null,{"$f":"+Q328+Q128","v":0},0,0,0,0,0,0,0,0,0,0,0,0,null,{"$error":"#DIV/0!"},null,null,0,{"$error":"#DIV/0!"},{"$f":"(SUM(ENERO!AJ389))","v":0},{"$f":"(SUM(ENERO!AK389))","v":0}]
["Influenza pediatrica",null,{"$f":"+C330+C134","v":0},{"$f":"D134","v":0},0,0,0,0,0,0,{"$f":"+K330+I134","v":0},{"$f":"+L330+J134","v":0},0,null,null,null,{"$f":"+Q329+Q134","v":0},0,0,0,0,0,0,0,0,0,0,0,0,null,{"$error":"#DIV/0!"},null,null,0,{"$error":"#DIV/0!"},{"$f":"(SUM(ENERO!AJ390))","v":0},{"$f":"(SUM(ENERO!AK390))","v":0}]
["Influenza Adultos",null,{"$f":"+C331+C140","v":0},{"$f":"D140","v":0},0,0,0,0,0,0,{"$f":"+K331+I140","v":0},{"$f":"+L331+J140","v":0},0,null,null,null,{"$f":"+Q330+Q140","v":0},0,0,0,0,0,0,0,0,0,0,0,0,null,{"$error":"#DIV/0!"},null,null,0,{"$error":"#DIV/0!"},{"$f":"(SUM(ENERO!AJ391))","v":0},{"$f":"(SUM(ENERO!AK391))","v":0}]
["VPH",null,{"$f":"+C332+C146","v":0},{"$f":"D146","v":0},0,0,0,0,0,0,{"$f":"+K332+I146","v":0},{"$f":"+L332+J146","v":0},0,null,null,null,{"$f":"+Q331+Q146","v":0},0,0,0,0,0,0,0,0,0,0,0,0,null,{"$error":"#DIV/0!"},null,null,0,{"$error":"#DIV/0!"},{"$f":"(SUM(ENERO!AJ392))","v":0},{"$f":"(SUM(ENERO!AK392))","v":0}]
["Antirrabica humana",null,{"$f":"+C333+C152","v":0},{"$f":"D152","v":0},0,0,0,0,0,0,{"$f":"+K333+I152","v":0},{"$f":"+L333+J152","v":0},0,null,null,null,{"$f":"+Q332+Q152","v":0},0,0,0,0,0,0,0,0,0,0,0,0,null,{"$error":"#DIV/0!"},null,null,0,{"$error":"#DIV/0!"},{"$f":"(SUM(ENERO!AJ393))","v":0},{"$f":"(SUM(ENERO!AK393))","v":0}]
["Inmunoglobulina antirrabica humana",null,{"$f":"+C334+C158","v":0},{"$f":"D158","v":0},0,0,0,0,0,0,{"$f":"+K334+I158","v":0},{"$f":"+L334+J158","v":0},0,null,null,null,{"$f":"+Q333+Q158","v":0},0,0,0,0,0,0,0,0,0,0,0,0,null,{"$error":"#DIV/0!"},null,null,0,{"$error":"#DIV/0!"},{"$f":"(SUM(ENERO!AJ394))","v":0},{"$f":"(SUM(ENERO!AK394))","v":0}]
["Inmunoglobulina antihepatitis B",null,{"$f":"+C335+C164","v":0},{"$f":"D164","v":0},0,0,0,0,0,0,{"$f":"+K335+I164","v":0},{"$f":"+L335+J164","v":0},0,null,null,null,{"$f":"+Q334+Q164","v":0},0,0,0,0,0,0,0,0,0,0,0,0,null,{"$error":"#DIV/0!"},null,null,0,{"$error":"#DIV/0!"},{"$f":"(SUM(ENERO!AJ395))","v":0},{"$f":"(SUM(ENERO!AK395))","v":0}]
["Inmunoglobulina antitetanica ",null,{"$f":"+C336+C170","v":0},{"$f":"D170","v":0},0,0,0,0,0,0,{"$f":"+K336+I170","v":0},{"$f":"+L336+J170","v":0},0,null,null,null,{"$f":"+Q335+Q170","v":0},0,0,0,0,0,0,0,0,0,0,0,0,null,{"$error":"#DIV/0!"},null,null,0,{"$error":"#DIV/0!"},{"$f":"(SUM(ENERO!AJ396))","v":0},{"$f":"(SUM(ENERO!AK396))","v":0}]
["Antitoxina difterica",null,{"$f":"+C337+C176","v":0},{"$f":"D176","v":0},{"$f":"+E337","v":0},0,0,0,0,0,{"$f":"+K337+I176","v":0},{"$f":"+L337+J176","v":0},0,null,null,null,{"$f":"+Q336+Q176","v":0},0,0,0,0,0,0,0,0,0,0,0,0,null,{"$error":"#DIV/0!"},null,null,0,{"$error":"#DIV/0!"},{"$f":"(SUM(ENERO!AJ397))","v":0},{"$f":"(SUM(ENERO!AK397))","v":0}]
["Meningococo",null,{"$f":"+C338+C182","v":0},{"$f":"D182","v":0},0,0,0,0,0,0,{"$f":"+K338+I182","v":0},{"$f":"+L338+J182","v":0},0,null,null,null,{"$f":"+Q337+Q182","v":0},0,0,0,0,0,0,0,0,0,0,0,0,null,{"$f":"(AC399)/(E399+F399+AC399)","v":{"$error":"#DIV/0!"}},null,null,{"$f":"+IF(AC399<>K399,1,0)","v":0},{"$error":"#DIV/0!"},{"$f":"(SUM(ENERO!AJ398))","v":0},{"$f":"(SUM(ENERO!AK398))","v":0}]
["DILUYENTES"]
["BCG (diluyente)",null,{"$f":"+C340+C189","v":0},{"$f":"D189","v":0},{"$f":"+E340","v":0},0,0,0,0,{"$f":"+I340","v":0},{"$f":"+K340+I189","v":0},{"$f":"+L340+J189","v":0},0,null,null,null,{"$f":"+Q340+Q189","v":0},0,0,0,0,0,0,0,0,0,0,0,0,null,null,null,null,{"$f":"+IF(AC400<>K400,1,0)","v":0},{"$error":"#DIV/0!"},{"$f":"(SUM(ENERO!AJ400))","v":0},{"$f":"(SUM(ENERO!AK400))","v":0}]
["Triple viral - SRP (diluyente)",null,{"$f":"+C341+C195","v":0},{"$f":"D195","v":0},0,0,0,0,0,0,{"$f":"+K341+I195","v":0},{"$f":"+L341+J195","v":0},0,null,null,null,{"$f":"+Q341+Q195","v":0},0,0,0,0,0,0,0,0,0,0,0,0,null,null,null,null,0,{"$error":"#DIV/0!"},{"$f":"(SUM(ENERO!AJ401))","v":0},{"$f":"(SUM(ENERO!AK401))","v":0}]
["Sarampión - Rubeola - SR (diluyente)",null,{"$f":"+C342+C201","v":0},{"$f":"D201","v":0},0,0,0,0,0,0,{"$f":"+K342+I201","v":0},{"$f":"+L342+J201","v":0},0,null,null,null,{"$f":"+Q342+Q201","v":0},0,0,0,0,0,0,0,0,0,0,0,0,null,null,null,null,0,{"$error":"#DIV/0!"},{"$f":"(SUM(ENERO!AJ402))","v":0},{"$f":"(SUM(ENERO!AK402))","v":0}]
["Fiebre amarilla (diluyente)",null,{"$f":"+C343+C207","v":0},{"$f":"D207","v":0},0,0,0,0,0,0,{"$f":"+K343+I207","v":0},{"$f":"+L343+J207","v":0},0,null,null,null,{"$f":"+Q343+Q207","v":0},0,0,0,0,0,0,0,0,0,0,0,0,null,null,null,null,0,{"$error":"#DIV/0!"},{"$f":"(SUM(ENERO!AJ403))","v":0},{"$f":"(SUM(ENERO!AK403))","v":0}]
["Varicela (diluyente)",null,{"$f":"+C344+C213","v":0},{"$f":"D213","v":0},0,0,0,0,0,0,{"$f":"+K344+I213","v":0},{"$f":"+L344+J213","v":0},0,null,null,null,{"$f":"+Q344+Q213","v":0},0,0,0,0,0,0,0,0,0,0,0,0,null,null,null,null,0,{"$error":"#DIV/0!"},{"$f":"(SUM(ENERO!AJ404))","v":0},{"$f":"(SUM(ENERO!AK404))","v":0}]
["Vacuna Antirrabica Humana (diluyente)",null,{"$f":"+C345+C219","v":0},{"$f":"D219","v":0},0,0,0,0,0,0,{"$f":"+K345+I219","v":0},{"$f":"+L345+J219","v":0},0,null,null,null,{"$f":"+Q345+Q219","v":0},0,0,0,0,0,0,0,0,0,0,0,0,null,null,null,null,0,{"$error":"#DIV/0!"},{"$f":"(SUM(ENERO!AJ405))","v":0},{"$f":"(SUM(ENERO!AK405))","v":0}]
["Meningococo (solvente)",null,{"$f":"+C346+C225","v":0},{"$f":"D225","v":0},{"$f":"+E346","v":0},0,0,0,0,0,{"$f":"+K346+I225","v":0},{"$f":"+L346+J225","v":0},0,null,null,null,{"$f":"+Q346+Q225","v":0},0,0,0,0,0,0,0,0,0,0,0,0,null,null,null,null,0,{"$error":"#DIV/0!"},{"$f":"(SUM(ENERO!AJ406))","v":0},{"$f":"(SUM(ENERO!AK406))","v":0}]
["JERINGAS"]
["Jeringa Desechable 22G1 1/2\" AD",null,{"$f":"+C348+C232","v":0},{"$f":"D232","v":0},{"$f":"+E348","v":0},0,0,0,0,{"$f":"+I348","v":0},{"$f":"+K348+I232","v":0},{"$f":"+L348+J232","v":0},0,null,null,null,{"$f":"+Q348+Q232","v":0},0,0,0,0,0,0,0,0,0,0,0,0,null,null,null,null,{"$f":"+IF(AC408<>K408,1,0)","v":0},{"$error":"#DIV/0!"},{"$f":"(SUM(ENERO!AJ408))","v":0},{"$f":"(SUM(ENERO!AK408))","v":0}]
["Jeringa Desechable 22G1 1/2\" Convencional",null,{"$f":"+C349+C240","v":0},{"$f":"D240","v":0},0,0,0,0,0,0,{"$f":"+K349+I240","v":0},{"$f":"+L349+J240","v":0},0,null,null,null,{"$f":"+Q349+Q238","v":0},0,0,0,0,0,0,0,0,0,0,0,0,null,null,null,null,0,{"$error":"#DIV/0!"},{"$f":"(SUM(ENERO!AJ409))","v":0},{"$f":"(SUM(ENERO!AK409))","v":0}]
["Jeringa Desechable 23G1\" AD",null,{"$f":"+C350+C246","v":0},{"$f":"D246","v":0},0,0,0,0,0,0,{"$f":"+K350+I246","v":0},{"$f":"+L350+J246","v":0},0,null,null,null,0,0,0,0,0,0,0,0,0,0,0,0,0,null,null,null,null,0,{"$error":"#DIV/0!"},{"$f":"(SUM(ENERO!AJ410))","v":0},{"$f":"(SUM(ENERO!AK410))","v":0}]
["Jeringa Desechable 23G1\" Convencional",null,{"$f":"+C351+C240","v":0},{"$f":"D240","v":0},0,0,0,0,0,0,{"$f":"+K351+I240","v":0},{"$f":"+L351+J240","v":0},0,null,null,null,0,0,0,0,0,0,0,0,0,0,0,0,0,null,null,null,null,0,{"$error":"#DIV/0!"},{"$f":"(SUM(ENERO!AJ411))","v":0},{"$f":"(SUM(ENERO!AK411))","v":0}]
["Jeringa Desechable 25G5/8\" AD",null,{"$f":"+C352+C246","v":0},{"$f":"D246","v":0},0,0,0,0,0,0,{"$f":"+K352+I246","v":0},{"$f":"+L352+J246","v":0},0,null,null,null,{"$f":"+Q352+Q246","v":0},0,0,0,0,0,0,0,0,0,0,0,0,null,null,null,null,0,{"$error":"#DIV/0!"},{"$f":"(SUM(ENERO!AJ412))","v":0},{"$f":"(SUM(ENERO!AK412))","v":0}]
["Jeringa Desechable 25G5/8\" Convencional",null,{"$f":"+C353+C252","v":0},{"$f":"D252","v":0},0,0,0,0,0,0,{"$f":"+K353+I252","v":0},{"$f":"+L353+J252","v":0},0,null,null,null,{"$f":"+Q353+Q252","v":0},0,0,0,0,0,0,0,0,0,0,0,0,null,null,null,null,0,{"$error":"#DIV/0!"},{"$f":"(SUM(ENERO!AJ413))","v":0},{"$f":"(SUM(ENERO!AK413))","v":0}]
["Jeringa Desechable 26G 3/8\" AD",null,{"$f":"+C354+C271","v":0},{"$f":"+D271","v":0},0,0,0,0,0,0,{"$f":"+K354+I271","v":0},{"$f":"+L354+J271","v":0},0,null,null,null,{"$f":"+Q354+Q271","v":0},0,0,0,0,0,0,0,0,0,0,0,0,null,null,null,null,0,{"$error":"#DIV/0!"},{"$f":"(SUM(ENERO!AJ414))","v":0},{"$f":"(SUM(ENERO!AK414))","v":0}]
["Jeringa Desechable 26G 3/8\" Convencional",null,{"$f":"+C355+C277","v":0},{"$f":"+D277","v":0},0,0,0,0,0,0,{"$f":"+K355+I277","v":0},{"$f":"+L355+J277","v":0},0,null,null,null,{"$f":"+Q355+Q277","v":0},0,0,0,0,0,0,0,0,0,0,0,0,null,null,null,null,0,{"$error":"#DIV/0!"},{"$f":"(SUM(ENERO!AJ415))","v":0},{"$f":"(SUM(ENERO!AK415))","v":0}]
["Jeringa Desechable 27G 3/8\" ",null,{"$f":"+C356+C283","v":0},{"$f":"+D283","v":0},0,0,0,0,0,0,{"$f":"+K356+I283","v":0},{"$f":"+L356+J283","v":0},0,null,null,null,{"$f":"+Q356+Q283","v":0},0,0,0,0,0,0,0,0,0,0,0,0,null,null,null,null,0,{"$error":"#DIV/0!"},{"$f":"(SUM(ENERO!AJ416))","v":0},{"$f":"(SUM(ENERO!AK416))","v":0}]
["Gotero",null,{"$f":"+C357+C289","v":0},{"$f":"D289","v":0},0,0,0,0,0,0,{"$f":"+K357+I289","v":0},{"$f":"+L357+J289","v":0},0,null,null,null,{"$f":"+Q357+Q289","v":0},0,0,0,0,0,0,0,0,0,0,0,0,null,null,null,null,0,{"$error":"#DIV/0!"},{"$f":"(SUM(ENERO!AJ417))","v":0},{"$f":"(SUM(ENERO!AK417))","v":0}]
["CARNE DE VACUNACIÓN INFANTIL",null,{"$f":"+C358+C295","v":0},{"$f":"D295","v":0},0,0,0,0,0,0,{"$f":"+K358+I295","v":0},0,0,null,null,null,{"$f":"+Q358+Q295","v":0},0,0,0,0,0,0,0,0,0,0,0,0,null,null,null,null,0,{"$error":"#DIV/0!"},{"$f":"(SUM(ENERO!AJ418))","v":0},{"$f":"(SUM(ENERO!AK418))","v":0}]
["CARNE/CERTIFICADO DE VACUNACIÓN DE ADULTOS",null,{"$f":"+C359+C296","v":0},{"$f":"D296","v":0},0,0,0,0,0,0,0,0,0,null,null,null,0,0,0,0,0,0,0,0,0,0,0,0,0,null,null,null,null,0,{"$error":"#DIV/0!"},{"$f":"(SUM(ENERO!AJ419))","v":0},{"$f":"(SUM(ENERO!AK419))","v":0}]
["CARNE/CERTIFICADO INTERNACIONAL DE VACUNACIÓN",null,{"$f":"+C360+C297","v":0},{"$f":"D297","v":0},0,0,0,0,0,0,0,0,0,null,null,null,0,0,0,0,0,0,0,0,0,0,0,0,0,null,null,null,null,0,{"$error":"#DIV/0!"},{"$f":"(SUM(ENERO!AJ420))","v":0},{"$f":"(SUM(ENERO!AK420))","v":0}]
["TARJETAS UNIFICADAS DE VACUNACION -TUV ADULTOS",null,{"$f":"+C361+C298","v":0},{"$f":"+D298","v":0},0,0,0,0,0,0,0,0,0,null,null,null,0,0,0,0,0,0,0,0,0,0,0,0,0,null,null,null,null,0,{"$error":"#DIV/0!"},{"$f":"(SUM(ENERO!AJ421))","v":0},{"$f":"(SUM(ENERO!AK421))","v":0}]
["TARJETAS UNIFICADAS DE VACUNACION -TUV NIÑOS",null,{"$f":"+C362+C299","v":0},{"$f":"+D299","v":0},0,0,0,0,0,0,0,0,0,null,null,null,0,0,0,0,0,0,0,0,0,0,0,0,0,null,null,null,null,0,{"$error":"#DIV/0!"},{"$f":"(SUM(ENERO!AJ422))","v":0},{"$f":"(SUM(ENERO!AK422))","v":0}]